BEGIN:VCALENDAR
VERSION:2.0
PRODID:-//864 Food Trucks - ECPv6.15.20//NONSGML v1.0//EN
CALSCALE:GREGORIAN
METHOD:PUBLISH
X-ORIGINAL-URL:https://864foodtrucks.com
X-WR-CALDESC:Events for 864 Food Trucks
REFRESH-INTERVAL;VALUE=DURATION:PT1H
X-Robots-Tag:noindex
X-PUBLISHED-TTL:PT1H
BEGIN:VTIMEZONE
TZID:America/New_York
BEGIN:DAYLIGHT
TZOFFSETFROM:-0500
TZOFFSETTO:-0400
TZNAME:EDT
DTSTART:20230312T070000
END:DAYLIGHT
BEGIN:STANDARD
TZOFFSETFROM:-0400
TZOFFSETTO:-0500
TZNAME:EST
DTSTART:20231105T060000
END:STANDARD
BEGIN:DAYLIGHT
TZOFFSETFROM:-0500
TZOFFSETTO:-0400
TZNAME:EDT
DTSTART:20240310T070000
END:DAYLIGHT
BEGIN:STANDARD
TZOFFSETFROM:-0400
TZOFFSETTO:-0500
TZNAME:EST
DTSTART:20241103T060000
END:STANDARD
BEGIN:DAYLIGHT
TZOFFSETFROM:-0500
TZOFFSETTO:-0400
TZNAME:EDT
DTSTART:20250309T070000
END:DAYLIGHT
BEGIN:STANDARD
TZOFFSETFROM:-0400
TZOFFSETTO:-0500
TZNAME:EST
DTSTART:20251102T060000
END:STANDARD
END:VTIMEZONE
BEGIN:VEVENT
DTSTART;TZID=America/New_York:20240327T180000
DTEND;TZID=America/New_York:20240327T180000
DTSTAMP:20260424T095046
CREATED:20240325T213549Z
LAST-MODIFIED:20240403T165813Z
UID:27016-1711562400-1711562400@864foodtrucks.com
SUMMARY:Big Fuss Fresh Foods @ The Radio Room
DESCRIPTION:We are a mobile food truck that specializes in fresh food with amazing flavor.
URL:https://864foodtrucks.com/event/big-fuss-fresh-foods-the-radio-room/2024-03-27/
LOCATION:The Radio Room\, Poinsett Highway 110\, Greenville\, South Carolina\, 29609\, United States
CATEGORIES:Food Truck Schedules,Greenville
ATTACH;FMTTYPE=image/jpeg:https://864foodtrucks.com/wp-content/uploads/2023/07/Big-Fuss-Fresh-Food.jpg
GEO:34.8682061;-82.4041518
X-APPLE-STRUCTURED-LOCATION;VALUE=URI;X-ADDRESS=The Radio Room Poinsett Highway 110 Greenville South Carolina 29609 United States;X-APPLE-RADIUS=500;X-TITLE=Poinsett Highway 110:geo:-82.4041518,34.8682061
END:VEVENT
END:VCALENDAR