BEGIN:VCALENDAR
VERSION:2.0
PRODID:-//864 Food Trucks - ECPv6.15.20//NONSGML v1.0//EN
CALSCALE:GREGORIAN
METHOD:PUBLISH
X-ORIGINAL-URL:https://864foodtrucks.com
X-WR-CALDESC:Events for 864 Food Trucks
REFRESH-INTERVAL;VALUE=DURATION:PT1H
X-Robots-Tag:noindex
X-PUBLISHED-TTL:PT1H
BEGIN:VTIMEZONE
TZID:America/New_York
BEGIN:DAYLIGHT
TZOFFSETFROM:-0500
TZOFFSETTO:-0400
TZNAME:EDT
DTSTART:20250309T070000
END:DAYLIGHT
BEGIN:STANDARD
TZOFFSETFROM:-0400
TZOFFSETTO:-0500
TZNAME:EST
DTSTART:20251102T060000
END:STANDARD
BEGIN:DAYLIGHT
TZOFFSETFROM:-0500
TZOFFSETTO:-0400
TZNAME:EDT
DTSTART:20260308T070000
END:DAYLIGHT
BEGIN:STANDARD
TZOFFSETFROM:-0400
TZOFFSETTO:-0500
TZNAME:EST
DTSTART:20261101T060000
END:STANDARD
BEGIN:DAYLIGHT
TZOFFSETFROM:-0500
TZOFFSETTO:-0400
TZNAME:EDT
DTSTART:20270314T070000
END:DAYLIGHT
BEGIN:STANDARD
TZOFFSETFROM:-0400
TZOFFSETTO:-0500
TZNAME:EST
DTSTART:20271107T060000
END:STANDARD
END:VTIMEZONE
BEGIN:VEVENT
DTSTART;TZID=America/New_York:20260331T120000
DTEND;TZID=America/New_York:20260331T143000
DTSTAMP:20260423T171743
CREATED:20260119T002023Z
LAST-MODIFIED:20260119T002023Z
UID:61188-1774958400-1774967400@864foodtrucks.com
SUMMARY:Cinnabon @ Carolina High School
DESCRIPTION:Cinnabon Food Truck Greenville
URL:https://864foodtrucks.com/event/cinnabon-carolina-high-school/2026-03-31/
LOCATION:Carolina High School\, 2725 Anderson Rd\, Greenville\, South Carolina
CATEGORIES:Food Truck Schedules,Greenville
ATTACH;FMTTYPE=image/jpeg:https://864foodtrucks.com/wp-content/uploads/2024/12/326870080_1829549937401559_2632445834433428235_n-2.jpg
ORGANIZER;CN="Cinnabon Greenville":MAILTO:info@hotbonssc.com
GEO:34.8117929;-82.4434541
X-APPLE-STRUCTURED-LOCATION;VALUE=URI;X-ADDRESS=Carolina High School 2725 Anderson Rd Greenville South Carolina;X-APPLE-RADIUS=500;X-TITLE=2725 Anderson Rd:geo:-82.4434541,34.8117929
END:VEVENT
BEGIN:VEVENT
DTSTART;TZID=America/New_York:20260121T120000
DTEND;TZID=America/New_York:20260121T143000
DTSTAMP:20260423T171743
CREATED:20260119T002023Z
LAST-MODIFIED:20260330T001225Z
UID:58971-1768996800-1769005800@864foodtrucks.com
SUMMARY:Cinnabon @ Carolina High School
DESCRIPTION:Cinnabon Food Truck Greenville
URL:https://864foodtrucks.com/event/cinnabon-carolina-high-school/2026-01-21/
LOCATION:Carolina High School\, 2725 Anderson Rd\, Greenville\, South Carolina
CATEGORIES:Food Truck Schedules,Greenville
ATTACH;FMTTYPE=image/jpeg:https://864foodtrucks.com/wp-content/uploads/2024/12/326870080_1829549937401559_2632445834433428235_n-2.jpg
ORGANIZER;CN="Cinnabon Greenville":MAILTO:info@hotbonssc.com
GEO:34.8117929;-82.4434541
X-APPLE-STRUCTURED-LOCATION;VALUE=URI;X-ADDRESS=Carolina High School 2725 Anderson Rd Greenville South Carolina;X-APPLE-RADIUS=500;X-TITLE=2725 Anderson Rd:geo:-82.4434541,34.8117929
END:VEVENT
END:VCALENDAR