BEGIN:VCALENDAR
VERSION:2.0
PRODID:-//864 Food Trucks - ECPv6.15.20//NONSGML v1.0//EN
CALSCALE:GREGORIAN
METHOD:PUBLISH
X-ORIGINAL-URL:https://864foodtrucks.com
X-WR-CALDESC:Events for 864 Food Trucks
REFRESH-INTERVAL;VALUE=DURATION:PT1H
X-Robots-Tag:noindex
X-PUBLISHED-TTL:PT1H
BEGIN:VTIMEZONE
TZID:America/New_York
BEGIN:DAYLIGHT
TZOFFSETFROM:-0500
TZOFFSETTO:-0400
TZNAME:EDT
DTSTART:20240310T070000
END:DAYLIGHT
BEGIN:STANDARD
TZOFFSETFROM:-0400
TZOFFSETTO:-0500
TZNAME:EST
DTSTART:20241103T060000
END:STANDARD
BEGIN:DAYLIGHT
TZOFFSETFROM:-0500
TZOFFSETTO:-0400
TZNAME:EDT
DTSTART:20250309T070000
END:DAYLIGHT
BEGIN:STANDARD
TZOFFSETFROM:-0400
TZOFFSETTO:-0500
TZNAME:EST
DTSTART:20251102T060000
END:STANDARD
BEGIN:DAYLIGHT
TZOFFSETFROM:-0500
TZOFFSETTO:-0400
TZNAME:EDT
DTSTART:20260308T070000
END:DAYLIGHT
BEGIN:STANDARD
TZOFFSETFROM:-0400
TZOFFSETTO:-0500
TZNAME:EST
DTSTART:20261101T060000
END:STANDARD
END:VTIMEZONE
BEGIN:VEVENT
DTSTART;TZID=America/New_York:20251015T080000
DTEND;TZID=America/New_York:20251015T113000
DTSTAMP:20260424T041246
CREATED:20250308T183357Z
LAST-MODIFIED:20250308T183357Z
UID:55071-1760515200-1760527800@864foodtrucks.com
SUMMARY:Cinnabon Food Truck @ Pelham Medical Center
DESCRIPTION:Cinnabon Food Truck Greenville
URL:https://864foodtrucks.com/event/cinnabon-food-truck-pelham-medical-center/2025-10-15/
LOCATION:Pelham Medical Center\, 250 Westmoreland Rd\, Greer\, South Carolina
CATEGORIES:Food Truck Schedules,Greer
ATTACH;FMTTYPE=image/jpeg:https://864foodtrucks.com/wp-content/uploads/2024/12/326870080_1829549937401559_2632445834433428235_n-2.jpg
ORGANIZER;CN="Cinnabon Greenville":MAILTO:info@hotbonssc.com
GEO:34.8630526;-82.2188726
X-APPLE-STRUCTURED-LOCATION;VALUE=URI;X-ADDRESS=Pelham Medical Center 250 Westmoreland Rd Greer South Carolina;X-APPLE-RADIUS=500;X-TITLE=250 Westmoreland Rd:geo:-82.2188726,34.8630526
END:VEVENT
BEGIN:VEVENT
DTSTART;TZID=America/New_York:20250311T063000
DTEND;TZID=America/New_York:20250311T093000
DTSTAMP:20260424T041246
CREATED:20250308T183357Z
LAST-MODIFIED:20251013T194220Z
UID:42904-1741674600-1741685400@864foodtrucks.com
SUMMARY:Cinnabon Food Truck @ Pelham Medical Center
DESCRIPTION:Cinnabon Food Truck Greenville
URL:https://864foodtrucks.com/event/cinnabon-food-truck-pelham-medical-center/2025-03-11/
LOCATION:Pelham Medical Center\, 250 Westmoreland Rd\, Greer\, South Carolina
CATEGORIES:Food Truck Schedules,Greer
ATTACH;FMTTYPE=image/jpeg:https://864foodtrucks.com/wp-content/uploads/2024/12/326870080_1829549937401559_2632445834433428235_n-2.jpg
ORGANIZER;CN="Cinnabon Greenville":MAILTO:info@hotbonssc.com
GEO:34.8630526;-82.2188726
X-APPLE-STRUCTURED-LOCATION;VALUE=URI;X-ADDRESS=Pelham Medical Center 250 Westmoreland Rd Greer South Carolina;X-APPLE-RADIUS=500;X-TITLE=250 Westmoreland Rd:geo:-82.2188726,34.8630526
END:VEVENT
END:VCALENDAR