BEGIN:VCALENDAR
VERSION:2.0
PRODID:-//864 Food Trucks - ECPv6.15.20//NONSGML v1.0//EN
CALSCALE:GREGORIAN
METHOD:PUBLISH
X-ORIGINAL-URL:https://864foodtrucks.com
X-WR-CALDESC:Events for 864 Food Trucks
REFRESH-INTERVAL;VALUE=DURATION:PT1H
X-Robots-Tag:noindex
X-PUBLISHED-TTL:PT1H
BEGIN:VTIMEZONE
TZID:America/New_York
BEGIN:DAYLIGHT
TZOFFSETFROM:-0500
TZOFFSETTO:-0400
TZNAME:EDT
DTSTART:20240310T070000
END:DAYLIGHT
BEGIN:STANDARD
TZOFFSETFROM:-0400
TZOFFSETTO:-0500
TZNAME:EST
DTSTART:20241103T060000
END:STANDARD
BEGIN:DAYLIGHT
TZOFFSETFROM:-0500
TZOFFSETTO:-0400
TZNAME:EDT
DTSTART:20250309T070000
END:DAYLIGHT
BEGIN:STANDARD
TZOFFSETFROM:-0400
TZOFFSETTO:-0500
TZNAME:EST
DTSTART:20251102T060000
END:STANDARD
BEGIN:DAYLIGHT
TZOFFSETFROM:-0500
TZOFFSETTO:-0400
TZNAME:EDT
DTSTART:20260308T070000
END:DAYLIGHT
BEGIN:STANDARD
TZOFFSETFROM:-0400
TZOFFSETTO:-0500
TZNAME:EST
DTSTART:20261101T060000
END:STANDARD
END:VTIMEZONE
BEGIN:VEVENT
DTSTART;TZID=America/New_York:20251016T090000
DTEND;TZID=America/New_York:20251016T120000
DTSTAMP:20260425T092010
CREATED:20250505T002716Z
LAST-MODIFIED:20250505T002716Z
UID:55067-1760605200-1760616000@864foodtrucks.com
SUMMARY:Cinnabon Food Truck @ Spectrum Communications
DESCRIPTION:Cinnabon Food Truck Greenville
URL:https://864foodtrucks.com/event/cinnabon-food-truck-spectrum-communications/2025-10-16/
LOCATION:Spectrum\, 2 Digital Place\, Simpsonville\, SC\, United States
CATEGORIES:Food Truck Schedules,Simpsonville
ATTACH;FMTTYPE=image/jpeg:https://864foodtrucks.com/wp-content/uploads/2024/12/326870080_1829549937401559_2632445834433428235_n-2.jpg
ORGANIZER;CN="Cinnabon Greenville":MAILTO:info@hotbonssc.com
GEO:34.7953548;-82.2788291
X-APPLE-STRUCTURED-LOCATION;VALUE=URI;X-ADDRESS=Spectrum 2 Digital Place Simpsonville SC United States;X-APPLE-RADIUS=500;X-TITLE=2 Digital Place:geo:-82.2788291,34.7953548
END:VEVENT
BEGIN:VEVENT
DTSTART;TZID=America/New_York:20250508T090000
DTEND;TZID=America/New_York:20250508T120000
DTSTAMP:20260425T092010
CREATED:20250505T002716Z
LAST-MODIFIED:20251013T194146Z
UID:44327-1746694800-1746705600@864foodtrucks.com
SUMMARY:Cinnabon Food Truck @ Spectrum Communications
DESCRIPTION:Cinnabon Food Truck Greenville
URL:https://864foodtrucks.com/event/cinnabon-food-truck-spectrum-communications/2025-05-08/
LOCATION:Spectrum\, 2 Digital Place\, Simpsonville\, SC\, United States
CATEGORIES:Food Truck Schedules,Simpsonville
ATTACH;FMTTYPE=image/jpeg:https://864foodtrucks.com/wp-content/uploads/2024/12/326870080_1829549937401559_2632445834433428235_n-2.jpg
ORGANIZER;CN="Cinnabon Greenville":MAILTO:info@hotbonssc.com
GEO:34.7953548;-82.2788291
X-APPLE-STRUCTURED-LOCATION;VALUE=URI;X-ADDRESS=Spectrum 2 Digital Place Simpsonville SC United States;X-APPLE-RADIUS=500;X-TITLE=2 Digital Place:geo:-82.2788291,34.7953548
END:VEVENT
END:VCALENDAR