BEGIN:VCALENDAR
VERSION:2.0
PRODID:-//864 Food Trucks - ECPv6.15.20//NONSGML v1.0//EN
CALSCALE:GREGORIAN
METHOD:PUBLISH
X-ORIGINAL-URL:https://864foodtrucks.com
X-WR-CALDESC:Events for 864 Food Trucks
REFRESH-INTERVAL;VALUE=DURATION:PT1H
X-Robots-Tag:noindex
X-PUBLISHED-TTL:PT1H
BEGIN:VTIMEZONE
TZID:America/New_York
BEGIN:DAYLIGHT
TZOFFSETFROM:-0500
TZOFFSETTO:-0400
TZNAME:EDT
DTSTART:20240310T070000
END:DAYLIGHT
BEGIN:STANDARD
TZOFFSETFROM:-0400
TZOFFSETTO:-0500
TZNAME:EST
DTSTART:20241103T060000
END:STANDARD
BEGIN:DAYLIGHT
TZOFFSETFROM:-0500
TZOFFSETTO:-0400
TZNAME:EDT
DTSTART:20250309T070000
END:DAYLIGHT
BEGIN:STANDARD
TZOFFSETFROM:-0400
TZOFFSETTO:-0500
TZNAME:EST
DTSTART:20251102T060000
END:STANDARD
BEGIN:DAYLIGHT
TZOFFSETFROM:-0500
TZOFFSETTO:-0400
TZNAME:EDT
DTSTART:20260308T070000
END:DAYLIGHT
BEGIN:STANDARD
TZOFFSETFROM:-0400
TZOFFSETTO:-0500
TZNAME:EST
DTSTART:20261101T060000
END:STANDARD
END:VTIMEZONE
BEGIN:VEVENT
DTSTART;TZID=America/New_York:20251028T110000
DTEND;TZID=America/New_York:20251028T150000
DTSTAMP:20260424T164009
CREATED:20250721T163134Z
LAST-MODIFIED:20250721T163134Z
UID:55606-1761649200-1761663600@864foodtrucks.com
SUMMARY:Cinnabon @ Patewood Memorial Hospital
DESCRIPTION:Cinnabon Food Truck Greenville
URL:https://864foodtrucks.com/event/cinnabon-patewood-memorial-hospital/2025-10-28/
LOCATION:Patewood Medical Campus\, Patewood Drive 200\, Greenville\, South Carolina\, 29607\, United States
CATEGORIES:Food Truck Schedules,Greenville
ATTACH;FMTTYPE=image/jpeg:https://864foodtrucks.com/wp-content/uploads/2024/12/326870080_1829549937401559_2632445834433428235_n-2.jpg
ORGANIZER;CN="Cinnabon Greenville":MAILTO:info@hotbonssc.com
GEO:34.8544951;-82.3246014
X-APPLE-STRUCTURED-LOCATION;VALUE=URI;X-ADDRESS=Patewood Medical Campus Patewood Drive 200 Greenville South Carolina 29607 United States;X-APPLE-RADIUS=500;X-TITLE=Patewood Drive 200:geo:-82.3246014,34.8544951
END:VEVENT
BEGIN:VEVENT
DTSTART;TZID=America/New_York:20250828T110000
DTEND;TZID=America/New_York:20250828T150000
DTSTAMP:20260424T164009
CREATED:20250721T163134Z
LAST-MODIFIED:20251027T124717Z
UID:52798-1756378800-1756393200@864foodtrucks.com
SUMMARY:Cinnabon @ Patewood Memorial Hospital
DESCRIPTION:Cinnabon Food Truck Greenville
URL:https://864foodtrucks.com/event/cinnabon-patewood-memorial-hospital/2025-08-28/
LOCATION:Patewood Medical Campus\, Patewood Drive 200\, Greenville\, South Carolina\, 29607\, United States
CATEGORIES:Food Truck Schedules,Greenville
ATTACH;FMTTYPE=image/jpeg:https://864foodtrucks.com/wp-content/uploads/2024/12/326870080_1829549937401559_2632445834433428235_n-2.jpg
ORGANIZER;CN="Cinnabon Greenville":MAILTO:info@hotbonssc.com
GEO:34.8544951;-82.3246014
X-APPLE-STRUCTURED-LOCATION;VALUE=URI;X-ADDRESS=Patewood Medical Campus Patewood Drive 200 Greenville South Carolina 29607 United States;X-APPLE-RADIUS=500;X-TITLE=Patewood Drive 200:geo:-82.3246014,34.8544951
END:VEVENT
BEGIN:VEVENT
DTSTART;TZID=America/New_York:20250725T110000
DTEND;TZID=America/New_York:20250725T150000
DTSTAMP:20260424T164009
CREATED:20250721T163134Z
LAST-MODIFIED:20251027T124716Z
UID:50683-1753441200-1753455600@864foodtrucks.com
SUMMARY:Cinnabon @ Patewood Memorial Hospital
DESCRIPTION:Cinnabon Food Truck Greenville
URL:https://864foodtrucks.com/event/cinnabon-patewood-memorial-hospital/2025-07-25/
LOCATION:Patewood Medical Campus\, Patewood Drive 200\, Greenville\, South Carolina\, 29607\, United States
CATEGORIES:Food Truck Schedules,Greenville
ATTACH;FMTTYPE=image/jpeg:https://864foodtrucks.com/wp-content/uploads/2024/12/326870080_1829549937401559_2632445834433428235_n-2.jpg
ORGANIZER;CN="Cinnabon Greenville":MAILTO:info@hotbonssc.com
GEO:34.8544951;-82.3246014
X-APPLE-STRUCTURED-LOCATION;VALUE=URI;X-ADDRESS=Patewood Medical Campus Patewood Drive 200 Greenville South Carolina 29607 United States;X-APPLE-RADIUS=500;X-TITLE=Patewood Drive 200:geo:-82.3246014,34.8544951
END:VEVENT
END:VCALENDAR