BEGIN:VCALENDAR
VERSION:2.0
PRODID:-//864 Food Trucks - ECPv6.15.20//NONSGML v1.0//EN
CALSCALE:GREGORIAN
METHOD:PUBLISH
X-WR-CALNAME:864 Food Trucks
X-ORIGINAL-URL:https://864foodtrucks.com
X-WR-CALDESC:Events for 864 Food Trucks
REFRESH-INTERVAL;VALUE=DURATION:PT1H
X-Robots-Tag:noindex
X-PUBLISHED-TTL:PT1H
BEGIN:VTIMEZONE
TZID:America/New_York
BEGIN:DAYLIGHT
TZOFFSETFROM:-0500
TZOFFSETTO:-0400
TZNAME:EDT
DTSTART:20230312T070000
END:DAYLIGHT
BEGIN:STANDARD
TZOFFSETFROM:-0400
TZOFFSETTO:-0500
TZNAME:EST
DTSTART:20231105T060000
END:STANDARD
BEGIN:DAYLIGHT
TZOFFSETFROM:-0500
TZOFFSETTO:-0400
TZNAME:EDT
DTSTART:20240310T070000
END:DAYLIGHT
BEGIN:STANDARD
TZOFFSETFROM:-0400
TZOFFSETTO:-0500
TZNAME:EST
DTSTART:20241103T060000
END:STANDARD
BEGIN:DAYLIGHT
TZOFFSETFROM:-0500
TZOFFSETTO:-0400
TZNAME:EDT
DTSTART:20250309T070000
END:DAYLIGHT
BEGIN:STANDARD
TZOFFSETFROM:-0400
TZOFFSETTO:-0500
TZNAME:EST
DTSTART:20251102T060000
END:STANDARD
END:VTIMEZONE
BEGIN:VEVENT
DTSTART;TZID=America/New_York:20240628T070000
DTEND;TZID=America/New_York:20240628T130000
DTSTAMP:20260425T121149
CREATED:20240625T123635Z
LAST-MODIFIED:20241023T175230Z
UID:29144-1719558000-1719579600@864foodtrucks.com
SUMMARY:Donut Wagon @ Across from Borg Warner
DESCRIPTION:We are a mobile business (food truck)\, and sell glazed donuts and hand crafted soft pretzels\, fresh\, made from scratch! We serve local towns once a week and also serve at festivals\, farmers markets\, etc.
URL:https://864foodtrucks.com/event/donut-wagon-across-from-borg-warner/2024-06-28/
LOCATION:BorgWarner\, 15545 Wells Hwy\, Seneca
CATEGORIES:Food Truck Schedules,Seneca
ATTACH;FMTTYPE=image/jpeg:https://864foodtrucks.com/wp-content/uploads/2021/05/The-Donut-Wagon.jpg
END:VEVENT
END:VCALENDAR