BEGIN:VCALENDAR
VERSION:2.0
PRODID:-//864 Food Trucks - ECPv6.15.20//NONSGML v1.0//EN
CALSCALE:GREGORIAN
METHOD:PUBLISH
X-WR-CALNAME:864 Food Trucks
X-ORIGINAL-URL:https://864foodtrucks.com
X-WR-CALDESC:Events for 864 Food Trucks
REFRESH-INTERVAL;VALUE=DURATION:PT1H
X-Robots-Tag:noindex
X-PUBLISHED-TTL:PT1H
BEGIN:VTIMEZONE
TZID:America/New_York
BEGIN:DAYLIGHT
TZOFFSETFROM:-0500
TZOFFSETTO:-0400
TZNAME:EDT
DTSTART:20220313T070000
END:DAYLIGHT
BEGIN:STANDARD
TZOFFSETFROM:-0400
TZOFFSETTO:-0500
TZNAME:EST
DTSTART:20221106T060000
END:STANDARD
BEGIN:DAYLIGHT
TZOFFSETFROM:-0500
TZOFFSETTO:-0400
TZNAME:EDT
DTSTART:20230312T070000
END:DAYLIGHT
BEGIN:STANDARD
TZOFFSETFROM:-0400
TZOFFSETTO:-0500
TZNAME:EST
DTSTART:20231105T060000
END:STANDARD
BEGIN:DAYLIGHT
TZOFFSETFROM:-0500
TZOFFSETTO:-0400
TZNAME:EDT
DTSTART:20240310T070000
END:DAYLIGHT
BEGIN:STANDARD
TZOFFSETFROM:-0400
TZOFFSETTO:-0500
TZNAME:EST
DTSTART:20241103T060000
END:STANDARD
END:VTIMEZONE
BEGIN:VEVENT
DTSTART;TZID=America/New_York:20230221T180000
DTEND;TZID=America/New_York:20230221T200000
DTSTAMP:20260425T163934
CREATED:20230220T182543Z
LAST-MODIFIED:20230625T204926Z
UID:16975-1677002400-1677009600@864foodtrucks.com
SUMMARY:Electric Food Truck @ Tetrad
DESCRIPTION:We are the world’s first all electric food truck\, serving Greenville\, SC.
URL:https://864foodtrucks.com/event/electric-food-truck-tetrad/2023-02-21/
LOCATION:Tetrad Brewing\, 603 E Stone Ave\, Greenville\, SC\, 29601\, United States
CATEGORIES:Food Truck Schedules,Greenville
ATTACH;FMTTYPE=image/jpeg:https://864foodtrucks.com/wp-content/uploads/2023/02/Electric-Food-Truck.jpg
ORGANIZER;CN="The Electric Food Truck":MAILTO:team@theelectricfoodtruck.com
GEO:34.8585948;-82.3848082
X-APPLE-STRUCTURED-LOCATION;VALUE=URI;X-ADDRESS=Tetrad Brewing 603 E Stone Ave Greenville SC 29601 United States;X-APPLE-RADIUS=500;X-TITLE=603 E Stone Ave:geo:-82.3848082,34.8585948
END:VEVENT
END:VCALENDAR