BEGIN:VCALENDAR
VERSION:2.0
PRODID:-//864 Food Trucks - ECPv6.15.20//NONSGML v1.0//EN
CALSCALE:GREGORIAN
METHOD:PUBLISH
X-ORIGINAL-URL:https://864foodtrucks.com
X-WR-CALDESC:Events for 864 Food Trucks
REFRESH-INTERVAL;VALUE=DURATION:PT1H
X-Robots-Tag:noindex
X-PUBLISHED-TTL:PT1H
BEGIN:VTIMEZONE
TZID:America/New_York
BEGIN:DAYLIGHT
TZOFFSETFROM:-0500
TZOFFSETTO:-0400
TZNAME:EDT
DTSTART:20240310T070000
END:DAYLIGHT
BEGIN:STANDARD
TZOFFSETFROM:-0400
TZOFFSETTO:-0500
TZNAME:EST
DTSTART:20241103T060000
END:STANDARD
BEGIN:DAYLIGHT
TZOFFSETFROM:-0500
TZOFFSETTO:-0400
TZNAME:EDT
DTSTART:20250309T070000
END:DAYLIGHT
BEGIN:STANDARD
TZOFFSETFROM:-0400
TZOFFSETTO:-0500
TZNAME:EST
DTSTART:20251102T060000
END:STANDARD
BEGIN:DAYLIGHT
TZOFFSETFROM:-0500
TZOFFSETTO:-0400
TZNAME:EDT
DTSTART:20260308T070000
END:DAYLIGHT
BEGIN:STANDARD
TZOFFSETFROM:-0400
TZOFFSETTO:-0500
TZNAME:EST
DTSTART:20261101T060000
END:STANDARD
END:VTIMEZONE
BEGIN:VEVENT
DTSTART;TZID=America/New_York:20250124T010000
DTEND;TZID=America/New_York:20250124T130000
DTSTAMP:20260424T022245
CREATED:20250122T192049Z
LAST-MODIFIED:20250322T235855Z
UID:41911-1737680400-1737723600@864foodtrucks.com
SUMMARY:Fifis Hibachi @ Restorative Care Spartanburg Regional
DESCRIPTION:
URL:https://864foodtrucks.com/event/fifis-hibachi-restorative-care-spartanburg-regional/2025-01-24/
LOCATION:Restorative Care\, 389 Serpentine Dr\, Spartanburg\, South Carolina
CATEGORIES:Food Truck Schedules,Spartanburg
ATTACH;FMTTYPE=image/jpeg:https://864foodtrucks.com/wp-content/uploads/2023/11/Fifis-Hibachi.jpg
GEO:34.9662164;-81.9362444
X-APPLE-STRUCTURED-LOCATION;VALUE=URI;X-ADDRESS=Restorative Care 389 Serpentine Dr Spartanburg South Carolina;X-APPLE-RADIUS=500;X-TITLE=389 Serpentine Dr:geo:-81.9362444,34.9662164
END:VEVENT
END:VCALENDAR