BEGIN:VCALENDAR
VERSION:2.0
PRODID:-//864 Food Trucks - ECPv6.15.20//NONSGML v1.0//EN
CALSCALE:GREGORIAN
METHOD:PUBLISH
X-ORIGINAL-URL:https://864foodtrucks.com
X-WR-CALDESC:Events for 864 Food Trucks
REFRESH-INTERVAL;VALUE=DURATION:PT1H
X-Robots-Tag:noindex
X-PUBLISHED-TTL:PT1H
BEGIN:VTIMEZONE
TZID:America/New_York
BEGIN:DAYLIGHT
TZOFFSETFROM:-0500
TZOFFSETTO:-0400
TZNAME:EDT
DTSTART:20240310T070000
END:DAYLIGHT
BEGIN:STANDARD
TZOFFSETFROM:-0400
TZOFFSETTO:-0500
TZNAME:EST
DTSTART:20241103T060000
END:STANDARD
BEGIN:DAYLIGHT
TZOFFSETFROM:-0500
TZOFFSETTO:-0400
TZNAME:EDT
DTSTART:20250309T070000
END:DAYLIGHT
BEGIN:STANDARD
TZOFFSETFROM:-0400
TZOFFSETTO:-0500
TZNAME:EST
DTSTART:20251102T060000
END:STANDARD
BEGIN:DAYLIGHT
TZOFFSETFROM:-0500
TZOFFSETTO:-0400
TZNAME:EDT
DTSTART:20260308T070000
END:DAYLIGHT
BEGIN:STANDARD
TZOFFSETFROM:-0400
TZOFFSETTO:-0500
TZNAME:EST
DTSTART:20261101T060000
END:STANDARD
END:VTIMEZONE
BEGIN:VEVENT
DTSTART;TZID=America/New_York:20250920T110000
DTEND;TZID=America/New_York:20250920T230000
DTSTAMP:20260424T211154
CREATED:20250826T015343Z
LAST-MODIFIED:20250826T015343Z
UID:54181-1758366000-1758409200@864foodtrucks.com
SUMMARY:Fuel Foods @ Clemson Church of Christ
DESCRIPTION:Fuel Foods – Food Truck & Catering\nClean\, Unique & Delicious!\nLocated in Clemson & Upstate\, SC 📍\nBook Us for Events! Contact for More Info!
URL:https://864foodtrucks.com/event/fuel-foods-clemson-vs-lsu/2025-09-20/
LOCATION:Church of Christ\, 167 Old Greenville Hwy\, Clemson\, South Carolina
CATEGORIES:Clemsen,Food Truck Schedules
ATTACH;FMTTYPE=image/png:https://864foodtrucks.com/wp-content/uploads/2025/03/Fuel-Foods-.png
ORGANIZER;CN="Fuel Foods Food Truck":MAILTO:fuelfoods.truck@gmail.com
GEO:34.6830131;-82.8425736
X-APPLE-STRUCTURED-LOCATION;VALUE=URI;X-ADDRESS=Church of Christ 167 Old Greenville Hwy Clemson South Carolina;X-APPLE-RADIUS=500;X-TITLE=167 Old Greenville Hwy:geo:-82.8425736,34.6830131
END:VEVENT
BEGIN:VEVENT
DTSTART;TZID=America/New_York:20250830T110000
DTEND;TZID=America/New_York:20250830T230000
DTSTAMP:20260424T211154
CREATED:20250826T015343Z
LAST-MODIFIED:20250917T145652Z
UID:52816-1756551600-1756594800@864foodtrucks.com
SUMMARY:Fuel Foods @ Clemson Church of Christ
DESCRIPTION:Fuel Foods – Food Truck & Catering\nClean\, Unique & Delicious!\nLocated in Clemson & Upstate\, SC 📍\nBook Us for Events! Contact for More Info!
URL:https://864foodtrucks.com/event/fuel-foods-clemson-vs-lsu/2025-08-30/
LOCATION:Church of Christ\, 167 Old Greenville Hwy\, Clemson\, South Carolina
CATEGORIES:Clemsen,Food Truck Schedules
ATTACH;FMTTYPE=image/png:https://864foodtrucks.com/wp-content/uploads/2025/03/Fuel-Foods-.png
ORGANIZER;CN="Fuel Foods Food Truck":MAILTO:fuelfoods.truck@gmail.com
GEO:34.6830131;-82.8425736
X-APPLE-STRUCTURED-LOCATION;VALUE=URI;X-ADDRESS=Church of Christ 167 Old Greenville Hwy Clemson South Carolina;X-APPLE-RADIUS=500;X-TITLE=167 Old Greenville Hwy:geo:-82.8425736,34.6830131
END:VEVENT
END:VCALENDAR