BEGIN:VCALENDAR
VERSION:2.0
PRODID:-//864 Food Trucks - ECPv6.15.20//NONSGML v1.0//EN
CALSCALE:GREGORIAN
METHOD:PUBLISH
X-WR-CALNAME:864 Food Trucks
X-ORIGINAL-URL:https://864foodtrucks.com
X-WR-CALDESC:Events for 864 Food Trucks
REFRESH-INTERVAL;VALUE=DURATION:PT1H
X-Robots-Tag:noindex
X-PUBLISHED-TTL:PT1H
BEGIN:VTIMEZONE
TZID:America/New_York
BEGIN:DAYLIGHT
TZOFFSETFROM:-0500
TZOFFSETTO:-0400
TZNAME:EDT
DTSTART:20220313T070000
END:DAYLIGHT
BEGIN:STANDARD
TZOFFSETFROM:-0400
TZOFFSETTO:-0500
TZNAME:EST
DTSTART:20221106T060000
END:STANDARD
BEGIN:DAYLIGHT
TZOFFSETFROM:-0500
TZOFFSETTO:-0400
TZNAME:EDT
DTSTART:20230312T070000
END:DAYLIGHT
BEGIN:STANDARD
TZOFFSETFROM:-0400
TZOFFSETTO:-0500
TZNAME:EST
DTSTART:20231105T060000
END:STANDARD
BEGIN:DAYLIGHT
TZOFFSETFROM:-0500
TZOFFSETTO:-0400
TZNAME:EDT
DTSTART:20240310T070000
END:DAYLIGHT
BEGIN:STANDARD
TZOFFSETFROM:-0400
TZOFFSETTO:-0500
TZNAME:EST
DTSTART:20241103T060000
END:STANDARD
END:VTIMEZONE
BEGIN:VEVENT
DTSTART;TZID=America/New_York:20230511T000000
DTEND;TZID=America/New_York:20230511T000000
DTSTAMP:20260425T151625
CREATED:20230509T203433Z
LAST-MODIFIED:20230509T203433Z
UID:18877-1683763200-1683763200@864foodtrucks.com
SUMMARY:Hawaiian Donut @ Spring Skunk Fest
DESCRIPTION:
URL:https://864foodtrucks.com/event/hawaiian-donut-spring-skunk-fest/2023-05-11/
LOCATION:Albino Skunk Music Festival\, 4067 Jordan Rd\, Greer\, South Carolina
CATEGORIES:Food Truck Schedules,Greer
ATTACH;FMTTYPE=image/jpeg:https://864foodtrucks.com/wp-content/uploads/2022/08/Hawaiian-Donut-Co.jpg
GEO:35.0295982;-82.2410129
X-APPLE-STRUCTURED-LOCATION;VALUE=URI;X-ADDRESS=Albino Skunk Music Festival 4067 Jordan Rd Greer South Carolina;X-APPLE-RADIUS=500;X-TITLE=4067 Jordan Rd:geo:-82.2410129,35.0295982
END:VEVENT
END:VCALENDAR