BEGIN:VCALENDAR
VERSION:2.0
PRODID:-//864 Food Trucks - ECPv6.15.20//NONSGML v1.0//EN
CALSCALE:GREGORIAN
METHOD:PUBLISH
X-WR-CALNAME:864 Food Trucks
X-ORIGINAL-URL:https://864foodtrucks.com
X-WR-CALDESC:Events for 864 Food Trucks
REFRESH-INTERVAL;VALUE=DURATION:PT1H
X-Robots-Tag:noindex
X-PUBLISHED-TTL:PT1H
BEGIN:VTIMEZONE
TZID:America/New_York
BEGIN:DAYLIGHT
TZOFFSETFROM:-0500
TZOFFSETTO:-0400
TZNAME:EDT
DTSTART:20220313T070000
END:DAYLIGHT
BEGIN:STANDARD
TZOFFSETFROM:-0400
TZOFFSETTO:-0500
TZNAME:EST
DTSTART:20221106T060000
END:STANDARD
BEGIN:DAYLIGHT
TZOFFSETFROM:-0500
TZOFFSETTO:-0400
TZNAME:EDT
DTSTART:20230312T070000
END:DAYLIGHT
BEGIN:STANDARD
TZOFFSETFROM:-0400
TZOFFSETTO:-0500
TZNAME:EST
DTSTART:20231105T060000
END:STANDARD
BEGIN:DAYLIGHT
TZOFFSETFROM:-0500
TZOFFSETTO:-0400
TZNAME:EDT
DTSTART:20240310T070000
END:DAYLIGHT
BEGIN:STANDARD
TZOFFSETFROM:-0400
TZOFFSETTO:-0500
TZNAME:EST
DTSTART:20241103T060000
END:STANDARD
END:VTIMEZONE
BEGIN:VEVENT
DTSTART;TZID=America/New_York:20230315T170000
DTEND;TZID=America/New_York:20230315T190000
DTSTAMP:20260425T094123
CREATED:20230313T143810Z
LAST-MODIFIED:20230515T145301Z
UID:17436-1678899600-1678906800@864foodtrucks.com
SUMMARY:Healthy Food Truck GVL @ The Dapper Dog
DESCRIPTION:🌶️MEXICAN FLAVOR\n🍅HEALTHY FOOD\n🥬MEAL PREPS
URL:https://864foodtrucks.com/event/healthy-food-truck-gvl-the-dapper-dog/2023-03-15/
LOCATION:The Dapper Dog\, 201 Murray Dr\, Mauldin\, SC\, United States
CATEGORIES:Food Truck Schedules,Mauldin
ATTACH;FMTTYPE=image/jpeg:https://864foodtrucks.com/wp-content/uploads/2023/02/Healthy-Food-Truck-Greenville.jpg
ORGANIZER;CN="Healthy Food Truck GVL":MAILTO:Nefgym@gmail.com
END:VEVENT
END:VCALENDAR