BEGIN:VCALENDAR
VERSION:2.0
PRODID:-//864 Food Trucks - ECPv6.15.20//NONSGML v1.0//EN
CALSCALE:GREGORIAN
METHOD:PUBLISH
X-ORIGINAL-URL:https://864foodtrucks.com
X-WR-CALDESC:Events for 864 Food Trucks
REFRESH-INTERVAL;VALUE=DURATION:PT1H
X-Robots-Tag:noindex
X-PUBLISHED-TTL:PT1H
BEGIN:VTIMEZONE
TZID:America/New_York
BEGIN:DAYLIGHT
TZOFFSETFROM:-0500
TZOFFSETTO:-0400
TZNAME:EDT
DTSTART:20230312T070000
END:DAYLIGHT
BEGIN:STANDARD
TZOFFSETFROM:-0400
TZOFFSETTO:-0500
TZNAME:EST
DTSTART:20231105T060000
END:STANDARD
BEGIN:DAYLIGHT
TZOFFSETFROM:-0500
TZOFFSETTO:-0400
TZNAME:EDT
DTSTART:20240310T070000
END:DAYLIGHT
BEGIN:STANDARD
TZOFFSETFROM:-0400
TZOFFSETTO:-0500
TZNAME:EST
DTSTART:20241103T060000
END:STANDARD
BEGIN:DAYLIGHT
TZOFFSETFROM:-0500
TZOFFSETTO:-0400
TZNAME:EDT
DTSTART:20250309T070000
END:DAYLIGHT
BEGIN:STANDARD
TZOFFSETFROM:-0400
TZOFFSETTO:-0500
TZNAME:EST
DTSTART:20251102T060000
END:STANDARD
END:VTIMEZONE
BEGIN:VEVENT
DTSTART;TZID=America/New_York:20240604T173000
DTEND;TZID=America/New_York:20240604T193000
DTSTAMP:20260425T115303
CREATED:20240603T194459Z
LAST-MODIFIED:20240903T014155Z
UID:28675-1717522200-1717529400@864foodtrucks.com
SUMMARY:Island Sun @ Trailside at Reedy Point
DESCRIPTION:Mobile Kitchen serving Caribbean Cuisine to the upstate\, SC\nCaterings\, pop ups\, and private dinners\nDm for more info
URL:https://864foodtrucks.com/event/island-sun-trailside-at-reedy-point/2024-06-04/
LOCATION:Trailside at Reedy Point\, 200 South Academy St\, Greenville\, SC\, 29601\, United States
CATEGORIES:Food Truck Schedules,Greenville
ATTACH;FMTTYPE=image/jpeg:https://864foodtrucks.com/wp-content/uploads/2023/07/IslandSun864.jpg
GEO:34.8472093;-82.4065614
X-APPLE-STRUCTURED-LOCATION;VALUE=URI;X-ADDRESS=Trailside at Reedy Point 200 South Academy St Greenville SC 29601 United States;X-APPLE-RADIUS=500;X-TITLE=200 South Academy St:geo:-82.4065614,34.8472093
END:VEVENT
END:VCALENDAR