BEGIN:VCALENDAR
VERSION:2.0
PRODID:-//864 Food Trucks - ECPv6.15.20//NONSGML v1.0//EN
CALSCALE:GREGORIAN
METHOD:PUBLISH
X-WR-CALNAME:864 Food Trucks
X-ORIGINAL-URL:https://864foodtrucks.com
X-WR-CALDESC:Events for 864 Food Trucks
REFRESH-INTERVAL;VALUE=DURATION:PT1H
X-Robots-Tag:noindex
X-PUBLISHED-TTL:PT1H
BEGIN:VTIMEZONE
TZID:America/New_York
BEGIN:DAYLIGHT
TZOFFSETFROM:-0500
TZOFFSETTO:-0400
TZNAME:EDT
DTSTART:20220313T070000
END:DAYLIGHT
BEGIN:STANDARD
TZOFFSETFROM:-0400
TZOFFSETTO:-0500
TZNAME:EST
DTSTART:20221106T060000
END:STANDARD
BEGIN:DAYLIGHT
TZOFFSETFROM:-0500
TZOFFSETTO:-0400
TZNAME:EDT
DTSTART:20230312T070000
END:DAYLIGHT
BEGIN:STANDARD
TZOFFSETFROM:-0400
TZOFFSETTO:-0500
TZNAME:EST
DTSTART:20231105T060000
END:STANDARD
BEGIN:DAYLIGHT
TZOFFSETFROM:-0500
TZOFFSETTO:-0400
TZNAME:EDT
DTSTART:20240310T070000
END:DAYLIGHT
BEGIN:STANDARD
TZOFFSETFROM:-0400
TZOFFSETTO:-0500
TZNAME:EST
DTSTART:20241103T060000
END:STANDARD
END:VTIMEZONE
BEGIN:VEVENT
DTSTART;TZID=America/New_York:20230424T110000
DTEND;TZID=America/New_York:20230424T200000
DTSTAMP:20260425T120549
CREATED:20230424T182609Z
LAST-MODIFIED:20230424T182609Z
UID:18423-1682334000-1682366400@864foodtrucks.com
SUMMARY:La Flaca Taqueria @ Bryson Drive
DESCRIPTION:
URL:https://864foodtrucks.com/event/la-flaca-taqueria-bryson-drive-11/2023-04-24/
LOCATION:100 Bryson Drive\, 100 Bryson Drive\, Greenville\, South Carolina
CATEGORIES:Food Truck Schedules,Greenville
ATTACH;FMTTYPE=image/jpeg:https://864foodtrucks.com/wp-content/uploads/2021/06/La-Flaca.jpg
GEO:34.7061896;-82.2283993
X-APPLE-STRUCTURED-LOCATION;VALUE=URI;X-ADDRESS=100 Bryson Drive 100 Bryson Drive Greenville South Carolina;X-APPLE-RADIUS=500;X-TITLE=100 Bryson Drive:geo:-82.2283993,34.7061896
END:VEVENT
END:VCALENDAR