BEGIN:VCALENDAR
VERSION:2.0
PRODID:-//864 Food Trucks - ECPv6.15.20//NONSGML v1.0//EN
CALSCALE:GREGORIAN
METHOD:PUBLISH
X-ORIGINAL-URL:https://864foodtrucks.com
X-WR-CALDESC:Events for 864 Food Trucks
REFRESH-INTERVAL;VALUE=DURATION:PT1H
X-Robots-Tag:noindex
X-PUBLISHED-TTL:PT1H
BEGIN:VTIMEZONE
TZID:America/New_York
BEGIN:DAYLIGHT
TZOFFSETFROM:-0500
TZOFFSETTO:-0400
TZNAME:EDT
DTSTART:20240310T070000
END:DAYLIGHT
BEGIN:STANDARD
TZOFFSETFROM:-0400
TZOFFSETTO:-0500
TZNAME:EST
DTSTART:20241103T060000
END:STANDARD
BEGIN:DAYLIGHT
TZOFFSETFROM:-0500
TZOFFSETTO:-0400
TZNAME:EDT
DTSTART:20250309T070000
END:DAYLIGHT
BEGIN:STANDARD
TZOFFSETFROM:-0400
TZOFFSETTO:-0500
TZNAME:EST
DTSTART:20251102T060000
END:STANDARD
BEGIN:DAYLIGHT
TZOFFSETFROM:-0500
TZOFFSETTO:-0400
TZNAME:EDT
DTSTART:20260308T070000
END:DAYLIGHT
BEGIN:STANDARD
TZOFFSETFROM:-0400
TZOFFSETTO:-0500
TZNAME:EST
DTSTART:20261101T060000
END:STANDARD
BEGIN:DAYLIGHT
TZOFFSETFROM:-0500
TZOFFSETTO:-0400
TZNAME:EDT
DTSTART:20270314T070000
END:DAYLIGHT
BEGIN:STANDARD
TZOFFSETFROM:-0400
TZOFFSETTO:-0500
TZNAME:EST
DTSTART:20271107T060000
END:STANDARD
END:VTIMEZONE
BEGIN:VEVENT
DTSTART;TZID=America/New_York:20260406T130000
DTEND;TZID=America/New_York:20260406T170000
DTSTAMP:20260424T121854
CREATED:20250319T180529Z
LAST-MODIFIED:20250319T180529Z
UID:61509-1775480400-1775494800@864foodtrucks.com
SUMMARY:Las Cazuelas @ Lost River
DESCRIPTION:
URL:https://864foodtrucks.com/event/las-cazuelas-lost-river/2026-04-06/
LOCATION:Lost River\, 505 Whitemarsh Ave\, Simpsonville\, South Carolina
CATEGORIES:Food Truck Schedules,Simpsonville
ATTACH;FMTTYPE=image/png:https://864foodtrucks.com/wp-content/uploads/2024/12/Las-Cazuelas.png
ORGANIZER;CN="Las Cazuelas":MAILTO:lascazuelascatering.llc@gmail.com
GEO:34.6970438;-82.2953521
X-APPLE-STRUCTURED-LOCATION;VALUE=URI;X-ADDRESS=Lost River 505 Whitemarsh Ave Simpsonville South Carolina;X-APPLE-RADIUS=500;X-TITLE=505 Whitemarsh Ave:geo:-82.2953521,34.6970438
END:VEVENT
BEGIN:VEVENT
DTSTART;TZID=America/New_York:20250322T130000
DTEND;TZID=America/New_York:20250322T170000
DTSTAMP:20260424T121855
CREATED:20250319T180529Z
LAST-MODIFIED:20260406T220257Z
UID:43162-1742648400-1742662800@864foodtrucks.com
SUMMARY:Las Cazuelas @ Lost River
DESCRIPTION:
URL:https://864foodtrucks.com/event/las-cazuelas-lost-river/2025-03-22/
LOCATION:Lost River\, 505 Whitemarsh Ave\, Simpsonville\, South Carolina
CATEGORIES:Food Truck Schedules,Simpsonville
ATTACH;FMTTYPE=image/png:https://864foodtrucks.com/wp-content/uploads/2024/12/Las-Cazuelas.png
ORGANIZER;CN="Las Cazuelas":MAILTO:lascazuelascatering.llc@gmail.com
GEO:34.6970438;-82.2953521
X-APPLE-STRUCTURED-LOCATION;VALUE=URI;X-ADDRESS=Lost River 505 Whitemarsh Ave Simpsonville South Carolina;X-APPLE-RADIUS=500;X-TITLE=505 Whitemarsh Ave:geo:-82.2953521,34.6970438
END:VEVENT
END:VCALENDAR