BEGIN:VCALENDAR
VERSION:2.0
PRODID:-//864 Food Trucks - ECPv6.15.20//NONSGML v1.0//EN
CALSCALE:GREGORIAN
METHOD:PUBLISH
X-ORIGINAL-URL:https://864foodtrucks.com
X-WR-CALDESC:Events for 864 Food Trucks
REFRESH-INTERVAL;VALUE=DURATION:PT1H
X-Robots-Tag:noindex
X-PUBLISHED-TTL:PT1H
BEGIN:VTIMEZONE
TZID:America/New_York
BEGIN:DAYLIGHT
TZOFFSETFROM:-0500
TZOFFSETTO:-0400
TZNAME:EDT
DTSTART:20240310T070000
END:DAYLIGHT
BEGIN:STANDARD
TZOFFSETFROM:-0400
TZOFFSETTO:-0500
TZNAME:EST
DTSTART:20241103T060000
END:STANDARD
BEGIN:DAYLIGHT
TZOFFSETFROM:-0500
TZOFFSETTO:-0400
TZNAME:EDT
DTSTART:20250309T070000
END:DAYLIGHT
BEGIN:STANDARD
TZOFFSETFROM:-0400
TZOFFSETTO:-0500
TZNAME:EST
DTSTART:20251102T060000
END:STANDARD
BEGIN:DAYLIGHT
TZOFFSETFROM:-0500
TZOFFSETTO:-0400
TZNAME:EDT
DTSTART:20260308T070000
END:DAYLIGHT
BEGIN:STANDARD
TZOFFSETFROM:-0400
TZOFFSETTO:-0500
TZNAME:EST
DTSTART:20261101T060000
END:STANDARD
BEGIN:DAYLIGHT
TZOFFSETFROM:-0500
TZOFFSETTO:-0400
TZNAME:EDT
DTSTART:20270314T070000
END:DAYLIGHT
BEGIN:STANDARD
TZOFFSETFROM:-0400
TZOFFSETTO:-0500
TZNAME:EST
DTSTART:20271107T060000
END:STANDARD
END:VTIMEZONE
BEGIN:VEVENT
DTSTART;TZID=America/New_York:20260418T170000
DTEND;TZID=America/New_York:20260418T200000
DTSTAMP:20260423T191144
CREATED:20250113T214946Z
LAST-MODIFIED:20250113T214946Z
UID:61820-1776531600-1776542400@864foodtrucks.com
SUMMARY:Las Cazuelas @ WineXpress
DESCRIPTION:
URL:https://864foodtrucks.com/event/las-cazuelas-winexpress/2026-04-18/
LOCATION:WineXpress\, 202 Scuffletown Rd\, Simpsonville\, South Carolina
CATEGORIES:Food Truck Schedules,Simpsonville
ATTACH;FMTTYPE=image/png:https://864foodtrucks.com/wp-content/uploads/2024/12/Las-Cazuelas.png
ORGANIZER;CN="Las Cazuelas":MAILTO:lascazuelascatering.llc@gmail.com
GEO:34.8046736;-82.2292537
X-APPLE-STRUCTURED-LOCATION;VALUE=URI;X-ADDRESS=WineXpress 202 Scuffletown Rd Simpsonville South Carolina;X-APPLE-RADIUS=500;X-TITLE=202 Scuffletown Rd:geo:-82.2292537,34.8046736
END:VEVENT
BEGIN:VEVENT
DTSTART;TZID=America/New_York:20260409T170000
DTEND;TZID=America/New_York:20260409T200000
DTSTAMP:20260423T191144
CREATED:20250113T214946Z
LAST-MODIFIED:20260413T171740Z
UID:61513-1775754000-1775764800@864foodtrucks.com
SUMMARY:Las Cazuelas @ WineXpress
DESCRIPTION:
URL:https://864foodtrucks.com/event/las-cazuelas-winexpress/2026-04-09/
LOCATION:WineXpress\, 202 Scuffletown Rd\, Simpsonville\, South Carolina
CATEGORIES:Food Truck Schedules,Simpsonville
ATTACH;FMTTYPE=image/png:https://864foodtrucks.com/wp-content/uploads/2024/12/Las-Cazuelas.png
ORGANIZER;CN="Las Cazuelas":MAILTO:lascazuelascatering.llc@gmail.com
GEO:34.8046736;-82.2292537
X-APPLE-STRUCTURED-LOCATION;VALUE=URI;X-ADDRESS=WineXpress 202 Scuffletown Rd Simpsonville South Carolina;X-APPLE-RADIUS=500;X-TITLE=202 Scuffletown Rd:geo:-82.2292537,34.8046736
END:VEVENT
BEGIN:VEVENT
DTSTART;TZID=America/New_York:20260312T170000
DTEND;TZID=America/New_York:20260312T200000
DTSTAMP:20260423T191144
CREATED:20250113T214946Z
LAST-MODIFIED:20260413T171740Z
UID:60575-1773334800-1773345600@864foodtrucks.com
SUMMARY:Las Cazuelas @ WineXpress
DESCRIPTION:
URL:https://864foodtrucks.com/event/las-cazuelas-winexpress/2026-03-12/
LOCATION:WineXpress\, 202 Scuffletown Rd\, Simpsonville\, South Carolina
CATEGORIES:Food Truck Schedules,Simpsonville
ATTACH;FMTTYPE=image/png:https://864foodtrucks.com/wp-content/uploads/2024/12/Las-Cazuelas.png
ORGANIZER;CN="Las Cazuelas":MAILTO:lascazuelascatering.llc@gmail.com
GEO:34.8046736;-82.2292537
X-APPLE-STRUCTURED-LOCATION;VALUE=URI;X-ADDRESS=WineXpress 202 Scuffletown Rd Simpsonville South Carolina;X-APPLE-RADIUS=500;X-TITLE=202 Scuffletown Rd:geo:-82.2292537,34.8046736
END:VEVENT
BEGIN:VEVENT
DTSTART;TZID=America/New_York:20260212T170000
DTEND;TZID=America/New_York:20260212T200000
DTSTAMP:20260423T191144
CREATED:20250113T214946Z
LAST-MODIFIED:20260413T171739Z
UID:59660-1770915600-1770926400@864foodtrucks.com
SUMMARY:Las Cazuelas @ WineXpress
DESCRIPTION:
URL:https://864foodtrucks.com/event/las-cazuelas-winexpress/2026-02-12/
LOCATION:WineXpress\, 202 Scuffletown Rd\, Simpsonville\, South Carolina
CATEGORIES:Food Truck Schedules,Simpsonville
ATTACH;FMTTYPE=image/png:https://864foodtrucks.com/wp-content/uploads/2024/12/Las-Cazuelas.png
ORGANIZER;CN="Las Cazuelas":MAILTO:lascazuelascatering.llc@gmail.com
GEO:34.8046736;-82.2292537
X-APPLE-STRUCTURED-LOCATION;VALUE=URI;X-ADDRESS=WineXpress 202 Scuffletown Rd Simpsonville South Carolina;X-APPLE-RADIUS=500;X-TITLE=202 Scuffletown Rd:geo:-82.2292537,34.8046736
END:VEVENT
BEGIN:VEVENT
DTSTART;TZID=America/New_York:20260115T170000
DTEND;TZID=America/New_York:20260115T200000
DTSTAMP:20260423T191144
CREATED:20250113T214946Z
LAST-MODIFIED:20260413T171738Z
UID:58831-1768496400-1768507200@864foodtrucks.com
SUMMARY:Las Cazuelas @ WineXpress
DESCRIPTION:
URL:https://864foodtrucks.com/event/las-cazuelas-winexpress/2026-01-15/
LOCATION:WineXpress\, 202 Scuffletown Rd\, Simpsonville\, South Carolina
CATEGORIES:Food Truck Schedules,Simpsonville
ATTACH;FMTTYPE=image/png:https://864foodtrucks.com/wp-content/uploads/2024/12/Las-Cazuelas.png
ORGANIZER;CN="Las Cazuelas":MAILTO:lascazuelascatering.llc@gmail.com
GEO:34.8046736;-82.2292537
X-APPLE-STRUCTURED-LOCATION;VALUE=URI;X-ADDRESS=WineXpress 202 Scuffletown Rd Simpsonville South Carolina;X-APPLE-RADIUS=500;X-TITLE=202 Scuffletown Rd:geo:-82.2292537,34.8046736
END:VEVENT
BEGIN:VEVENT
DTSTART;TZID=America/New_York:20250919T170000
DTEND;TZID=America/New_York:20250919T200000
DTSTAMP:20260423T191144
CREATED:20250113T214946Z
LAST-MODIFIED:20260413T171738Z
UID:54185-1758301200-1758312000@864foodtrucks.com
SUMMARY:Las Cazuelas @ WineXpress
DESCRIPTION:
URL:https://864foodtrucks.com/event/las-cazuelas-winexpress/2025-09-19/
LOCATION:WineXpress\, 202 Scuffletown Rd\, Simpsonville\, South Carolina
CATEGORIES:Food Truck Schedules,Simpsonville
ATTACH;FMTTYPE=image/png:https://864foodtrucks.com/wp-content/uploads/2024/12/Las-Cazuelas.png
ORGANIZER;CN="Las Cazuelas":MAILTO:lascazuelascatering.llc@gmail.com
GEO:34.8046736;-82.2292537
X-APPLE-STRUCTURED-LOCATION;VALUE=URI;X-ADDRESS=WineXpress 202 Scuffletown Rd Simpsonville South Carolina;X-APPLE-RADIUS=500;X-TITLE=202 Scuffletown Rd:geo:-82.2292537,34.8046736
END:VEVENT
BEGIN:VEVENT
DTSTART;TZID=America/New_York:20250827T170000
DTEND;TZID=America/New_York:20250827T200000
DTSTAMP:20260423T191144
CREATED:20250113T214946Z
LAST-MODIFIED:20260413T171737Z
UID:52789-1756314000-1756324800@864foodtrucks.com
SUMMARY:Las Cazuelas @ WineXpress
DESCRIPTION:
URL:https://864foodtrucks.com/event/las-cazuelas-winexpress/2025-08-27/
LOCATION:WineXpress\, 202 Scuffletown Rd\, Simpsonville\, South Carolina
CATEGORIES:Food Truck Schedules,Simpsonville
ATTACH;FMTTYPE=image/png:https://864foodtrucks.com/wp-content/uploads/2024/12/Las-Cazuelas.png
ORGANIZER;CN="Las Cazuelas":MAILTO:lascazuelascatering.llc@gmail.com
GEO:34.8046736;-82.2292537
X-APPLE-STRUCTURED-LOCATION;VALUE=URI;X-ADDRESS=WineXpress 202 Scuffletown Rd Simpsonville South Carolina;X-APPLE-RADIUS=500;X-TITLE=202 Scuffletown Rd:geo:-82.2292537,34.8046736
END:VEVENT
BEGIN:VEVENT
DTSTART;TZID=America/New_York:20250115T170000
DTEND;TZID=America/New_York:20250115T200000
DTSTAMP:20260423T191144
CREATED:20250113T214946Z
LAST-MODIFIED:20260413T171735Z
UID:41755-1736960400-1736971200@864foodtrucks.com
SUMMARY:Las Cazuelas @ WineXpress
DESCRIPTION:
URL:https://864foodtrucks.com/event/las-cazuelas-winexpress/2025-01-15/
LOCATION:WineXpress\, 202 Scuffletown Rd\, Simpsonville\, South Carolina
CATEGORIES:Food Truck Schedules,Simpsonville
ATTACH;FMTTYPE=image/png:https://864foodtrucks.com/wp-content/uploads/2024/12/Las-Cazuelas.png
ORGANIZER;CN="Las Cazuelas":MAILTO:lascazuelascatering.llc@gmail.com
GEO:34.8046736;-82.2292537
X-APPLE-STRUCTURED-LOCATION;VALUE=URI;X-ADDRESS=WineXpress 202 Scuffletown Rd Simpsonville South Carolina;X-APPLE-RADIUS=500;X-TITLE=202 Scuffletown Rd:geo:-82.2292537,34.8046736
END:VEVENT
END:VCALENDAR