BEGIN:VCALENDAR
VERSION:2.0
PRODID:-//864 Food Trucks - ECPv6.15.20//NONSGML v1.0//EN
CALSCALE:GREGORIAN
METHOD:PUBLISH
X-ORIGINAL-URL:https://864foodtrucks.com
X-WR-CALDESC:Events for 864 Food Trucks
REFRESH-INTERVAL;VALUE=DURATION:PT1H
X-Robots-Tag:noindex
X-PUBLISHED-TTL:PT1H
BEGIN:VTIMEZONE
TZID:America/New_York
BEGIN:DAYLIGHT
TZOFFSETFROM:-0500
TZOFFSETTO:-0400
TZNAME:EDT
DTSTART:20220313T070000
END:DAYLIGHT
BEGIN:STANDARD
TZOFFSETFROM:-0400
TZOFFSETTO:-0500
TZNAME:EST
DTSTART:20221106T060000
END:STANDARD
BEGIN:DAYLIGHT
TZOFFSETFROM:-0500
TZOFFSETTO:-0400
TZNAME:EDT
DTSTART:20230312T070000
END:DAYLIGHT
BEGIN:STANDARD
TZOFFSETFROM:-0400
TZOFFSETTO:-0500
TZNAME:EST
DTSTART:20231105T060000
END:STANDARD
BEGIN:DAYLIGHT
TZOFFSETFROM:-0500
TZOFFSETTO:-0400
TZNAME:EDT
DTSTART:20240310T070000
END:DAYLIGHT
BEGIN:STANDARD
TZOFFSETFROM:-0400
TZOFFSETTO:-0500
TZNAME:EST
DTSTART:20241103T060000
END:STANDARD
END:VTIMEZONE
BEGIN:VEVENT
DTSTART;TZID=America/New_York:20230517T170000
DTEND;TZID=America/New_York:20230517T193000
DTSTAMP:20260424T002703
CREATED:20230515T151447Z
LAST-MODIFIED:20240408T172511Z
UID:18988-1684342800-1684351800@864foodtrucks.com
SUMMARY:Local Pie Pizza Co @ Indigo Point
DESCRIPTION:Artisan Pizza Food Truck
URL:https://864foodtrucks.com/event/local-pie-pizza-co-indigo-point-2/2023-05-17/
LOCATION:Indigo Point\, 201 Tyrian Dr\, Greenville\, SC\, United States
CATEGORIES:Food Truck Schedules,Greenville
ATTACH;FMTTYPE=image/jpeg:https://864foodtrucks.com/wp-content/uploads/2021/12/Local-Pie-Pizza-3.jpg
ORGANIZER;CN="Local Pie Pizza Company":MAILTO:cory@localpiepizzacompany.com
END:VEVENT
END:VCALENDAR