BEGIN:VCALENDAR
VERSION:2.0
PRODID:-//864 Food Trucks - ECPv6.15.20//NONSGML v1.0//EN
CALSCALE:GREGORIAN
METHOD:PUBLISH
X-WR-CALNAME:864 Food Trucks
X-ORIGINAL-URL:https://864foodtrucks.com
X-WR-CALDESC:Events for 864 Food Trucks
REFRESH-INTERVAL;VALUE=DURATION:PT1H
X-Robots-Tag:noindex
X-PUBLISHED-TTL:PT1H
BEGIN:VTIMEZONE
TZID:America/New_York
BEGIN:DAYLIGHT
TZOFFSETFROM:-0500
TZOFFSETTO:-0400
TZNAME:EDT
DTSTART:20230312T070000
END:DAYLIGHT
BEGIN:STANDARD
TZOFFSETFROM:-0400
TZOFFSETTO:-0500
TZNAME:EST
DTSTART:20231105T060000
END:STANDARD
BEGIN:DAYLIGHT
TZOFFSETFROM:-0500
TZOFFSETTO:-0400
TZNAME:EDT
DTSTART:20240310T070000
END:DAYLIGHT
BEGIN:STANDARD
TZOFFSETFROM:-0400
TZOFFSETTO:-0500
TZNAME:EST
DTSTART:20241103T060000
END:STANDARD
BEGIN:DAYLIGHT
TZOFFSETFROM:-0500
TZOFFSETTO:-0400
TZNAME:EDT
DTSTART:20250309T070000
END:DAYLIGHT
BEGIN:STANDARD
TZOFFSETFROM:-0400
TZOFFSETTO:-0500
TZNAME:EST
DTSTART:20251102T060000
END:STANDARD
BEGIN:DAYLIGHT
TZOFFSETFROM:-0500
TZOFFSETTO:-0400
TZNAME:EDT
DTSTART:20260308T070000
END:DAYLIGHT
BEGIN:STANDARD
TZOFFSETFROM:-0400
TZOFFSETTO:-0500
TZNAME:EST
DTSTART:20261101T060000
END:STANDARD
END:VTIMEZONE
BEGIN:VEVENT
DTSTART;TZID=America/New_York:20251115T170000
DTEND;TZID=America/New_York:20251115T190000
DTSTAMP:20260424T023425
CREATED:20240226T175057Z
LAST-MODIFIED:20240226T175057Z
UID:56187-1763226000-1763233200@864foodtrucks.com
SUMMARY:Local Pie Pizza Co @ Silver Meadows
DESCRIPTION:
URL:https://864foodtrucks.com/event/local-pie-pizza-co-silver-meadows-2/2025-11-15/
LOCATION:Silver Meadows\, Travelers Rest\, South Carolina
CATEGORIES:Food Truck Schedules,Greenville
ATTACH;FMTTYPE=image/jpeg:https://864foodtrucks.com/wp-content/uploads/2021/12/Local-Pie-Pizza-3.jpg
ORGANIZER;CN="Local Pie Pizza Company":MAILTO:cory@localpiepizzacompany.com
GEO:34.9676167;-82.4434548
END:VEVENT
BEGIN:VEVENT
DTSTART;TZID=America/New_York:20250920T120000
DTEND;TZID=America/New_York:20250920T153000
DTSTAMP:20260424T023426
CREATED:20240226T175057Z
LAST-MODIFIED:20251111T002935Z
UID:53881-1758369600-1758382200@864foodtrucks.com
SUMMARY:Local Pie Pizza Co @ Silver Meadows
DESCRIPTION:
URL:https://864foodtrucks.com/event/local-pie-pizza-co-silver-meadows-2/2025-09-20/
LOCATION:Silver Meadows\, Travelers Rest\, South Carolina
CATEGORIES:Food Truck Schedules,Greenville
ATTACH;FMTTYPE=image/jpeg:https://864foodtrucks.com/wp-content/uploads/2021/12/Local-Pie-Pizza-3.jpg
ORGANIZER;CN="Local Pie Pizza Company":MAILTO:cory@localpiepizzacompany.com
GEO:34.9676167;-82.4434548
END:VEVENT
BEGIN:VEVENT
DTSTART;TZID=America/New_York:20240227T170000
DTEND;TZID=America/New_York:20240227T190000
DTSTAMP:20260424T023426
CREATED:20240226T175057Z
LAST-MODIFIED:20251111T002935Z
UID:26310-1709053200-1709060400@864foodtrucks.com
SUMMARY:Local Pie Pizza Co @ Silver Meadows
DESCRIPTION:
URL:https://864foodtrucks.com/event/local-pie-pizza-co-silver-meadows-2/2024-02-27/
LOCATION:Silver Meadows\, Travelers Rest\, South Carolina
CATEGORIES:Food Truck Schedules,Greenville
ATTACH;FMTTYPE=image/jpeg:https://864foodtrucks.com/wp-content/uploads/2021/12/Local-Pie-Pizza-3.jpg
ORGANIZER;CN="Local Pie Pizza Company":MAILTO:cory@localpiepizzacompany.com
GEO:34.9676167;-82.4434548
END:VEVENT
END:VCALENDAR