BEGIN:VCALENDAR
VERSION:2.0
PRODID:-//864 Food Trucks - ECPv6.15.20//NONSGML v1.0//EN
CALSCALE:GREGORIAN
METHOD:PUBLISH
X-WR-CALNAME:864 Food Trucks
X-ORIGINAL-URL:https://864foodtrucks.com
X-WR-CALDESC:Events for 864 Food Trucks
REFRESH-INTERVAL;VALUE=DURATION:PT1H
X-Robots-Tag:noindex
X-PUBLISHED-TTL:PT1H
BEGIN:VTIMEZONE
TZID:America/New_York
BEGIN:DAYLIGHT
TZOFFSETFROM:-0500
TZOFFSETTO:-0400
TZNAME:EDT
DTSTART:20230312T070000
END:DAYLIGHT
BEGIN:STANDARD
TZOFFSETFROM:-0400
TZOFFSETTO:-0500
TZNAME:EST
DTSTART:20231105T060000
END:STANDARD
BEGIN:DAYLIGHT
TZOFFSETFROM:-0500
TZOFFSETTO:-0400
TZNAME:EDT
DTSTART:20240310T070000
END:DAYLIGHT
BEGIN:STANDARD
TZOFFSETFROM:-0400
TZOFFSETTO:-0500
TZNAME:EST
DTSTART:20241103T060000
END:STANDARD
BEGIN:DAYLIGHT
TZOFFSETFROM:-0500
TZOFFSETTO:-0400
TZNAME:EDT
DTSTART:20250309T070000
END:DAYLIGHT
BEGIN:STANDARD
TZOFFSETFROM:-0400
TZOFFSETTO:-0500
TZNAME:EST
DTSTART:20251102T060000
END:STANDARD
END:VTIMEZONE
BEGIN:VEVENT
DTSTART;TZID=America/New_York:20240724T173000
DTEND;TZID=America/New_York:20240724T193000
DTSTAMP:20260425T204045
CREATED:20240702T133140Z
LAST-MODIFIED:20250302T003137Z
UID:31377-1721842200-1721849400@864foodtrucks.com
SUMMARY:Mac Attack @ Trailside Reedy Point
DESCRIPTION:Mac & Cheese Artists for catering and events in the Upcountry.
URL:https://864foodtrucks.com/event/mac-attack-trailside-reedy-point/2024-07-24/
LOCATION:Trailside at Reedy Point\, 200 South Academy St\, Greenville\, SC\, 29601\, United States
CATEGORIES:Food Truck Schedules
ATTACH;FMTTYPE=image/jpeg:https://864foodtrucks.com/wp-content/uploads/2021/05/Mac-Attack.jpg
ORGANIZER;CN="Mac Attack":MAILTO:macattackgvl@gmail.com
GEO:34.8472093;-82.4065614
X-APPLE-STRUCTURED-LOCATION;VALUE=URI;X-ADDRESS=Trailside at Reedy Point 200 South Academy St Greenville SC 29601 United States;X-APPLE-RADIUS=500;X-TITLE=200 South Academy St:geo:-82.4065614,34.8472093
END:VEVENT
END:VCALENDAR