BEGIN:VCALENDAR
VERSION:2.0
PRODID:-//864 Food Trucks - ECPv6.15.20//NONSGML v1.0//EN
CALSCALE:GREGORIAN
METHOD:PUBLISH
X-WR-CALNAME:864 Food Trucks
X-ORIGINAL-URL:https://864foodtrucks.com
X-WR-CALDESC:Events for 864 Food Trucks
REFRESH-INTERVAL;VALUE=DURATION:PT1H
X-Robots-Tag:noindex
X-PUBLISHED-TTL:PT1H
BEGIN:VTIMEZONE
TZID:America/New_York
BEGIN:DAYLIGHT
TZOFFSETFROM:-0500
TZOFFSETTO:-0400
TZNAME:EDT
DTSTART:20220313T070000
END:DAYLIGHT
BEGIN:STANDARD
TZOFFSETFROM:-0400
TZOFFSETTO:-0500
TZNAME:EST
DTSTART:20221106T060000
END:STANDARD
BEGIN:DAYLIGHT
TZOFFSETFROM:-0500
TZOFFSETTO:-0400
TZNAME:EDT
DTSTART:20230312T070000
END:DAYLIGHT
BEGIN:STANDARD
TZOFFSETFROM:-0400
TZOFFSETTO:-0500
TZNAME:EST
DTSTART:20231105T060000
END:STANDARD
BEGIN:DAYLIGHT
TZOFFSETFROM:-0500
TZOFFSETTO:-0400
TZNAME:EDT
DTSTART:20240310T070000
END:DAYLIGHT
BEGIN:STANDARD
TZOFFSETFROM:-0400
TZOFFSETTO:-0500
TZNAME:EST
DTSTART:20241103T060000
END:STANDARD
END:VTIMEZONE
BEGIN:VEVENT
DTSTART;TZID=America/New_York:20230915T180000
DTEND;TZID=America/New_York:20230915T210000
DTSTAMP:20260425T103138
CREATED:20230910T000009Z
LAST-MODIFIED:20230913T124748Z
UID:22683-1694800800-1694811600@864foodtrucks.com
SUMMARY:Obey the Crave @ SOOIE. BBQ Cook-Off
DESCRIPTION:Homemade Cookies Baked randomly. Please follow our Instagram to see when we are taking orders. Best way to get cookies fresh. Currently servicing the Greenville SC area.
URL:https://864foodtrucks.com/event/obey-the-crave-sooie-bbq-cook-off/2023-09-15/
LOCATION:Mauldin Cultural Center\, 101 E Butler Road\, Mauldin\, South Carolina
CATEGORIES:Food Truck Schedules,Mauldin
ATTACH;FMTTYPE=image/jpeg:https://864foodtrucks.com/wp-content/uploads/2021/05/obey-the-crave-truck.jpg
ORGANIZER;CN="Obey the Crave":MAILTO:creamcookiesmiami@gmail.com
GEO:34.7796468;-82.3063956
X-APPLE-STRUCTURED-LOCATION;VALUE=URI;X-ADDRESS=Mauldin Cultural Center 101 E Butler Road Mauldin South Carolina;X-APPLE-RADIUS=500;X-TITLE=101 E Butler Road:geo:-82.3063956,34.7796468
END:VEVENT
END:VCALENDAR