BEGIN:VCALENDAR
VERSION:2.0
PRODID:-//864 Food Trucks - ECPv6.15.20//NONSGML v1.0//EN
CALSCALE:GREGORIAN
METHOD:PUBLISH
X-WR-CALNAME:864 Food Trucks
X-ORIGINAL-URL:https://864foodtrucks.com
X-WR-CALDESC:Events for 864 Food Trucks
REFRESH-INTERVAL;VALUE=DURATION:PT1H
X-Robots-Tag:noindex
X-PUBLISHED-TTL:PT1H
BEGIN:VTIMEZONE
TZID:America/New_York
BEGIN:DAYLIGHT
TZOFFSETFROM:-0500
TZOFFSETTO:-0400
TZNAME:EDT
DTSTART:20220313T070000
END:DAYLIGHT
BEGIN:STANDARD
TZOFFSETFROM:-0400
TZOFFSETTO:-0500
TZNAME:EST
DTSTART:20221106T060000
END:STANDARD
BEGIN:DAYLIGHT
TZOFFSETFROM:-0500
TZOFFSETTO:-0400
TZNAME:EDT
DTSTART:20230312T070000
END:DAYLIGHT
BEGIN:STANDARD
TZOFFSETFROM:-0400
TZOFFSETTO:-0500
TZNAME:EST
DTSTART:20231105T060000
END:STANDARD
BEGIN:DAYLIGHT
TZOFFSETFROM:-0500
TZOFFSETTO:-0400
TZNAME:EDT
DTSTART:20240310T070000
END:DAYLIGHT
BEGIN:STANDARD
TZOFFSETFROM:-0400
TZOFFSETTO:-0500
TZNAME:EST
DTSTART:20241103T060000
END:STANDARD
END:VTIMEZONE
BEGIN:VEVENT
DTSTART;TZID=America/New_York:20230823T113000
DTEND;TZID=America/New_York:20230823T133000
DTSTAMP:20260424T094154
CREATED:20230821T175909Z
LAST-MODIFIED:20230821T175909Z
UID:22294-1692790200-1692797400@864foodtrucks.com
SUMMARY:One Love Fusion Foods @ ISO Parkway
DESCRIPTION:Global Flavors. Local Favorites.\nUS Foods’ Silver Spoon Champion 2017 & 2018\n1st Place at Fall for Greenville 2017 & 2018\nVoted Top 5 Best Food Trucks in the Upstate 2018\, 2019\, & 2020\nAvailable in Public & Private events.
URL:https://864foodtrucks.com/event/one-love-fusion-foods-iso-parkway/2023-08-23/
LOCATION:101 Iso Parkway\, Iso Parkway 101\, Gray Court\, SC\, 29645\, United States
CATEGORIES:Food Truck Schedules,Gray Court
ATTACH;FMTTYPE=image/jpeg:https://864foodtrucks.com/wp-content/uploads/2021/05/one-Love-Fusion-Foods-truck.jpg
ORGANIZER;CN="One Love Fusion Foods":MAILTO:OneLoveFusionFoods@gmail.com
GEO:34.6153664;-82.1240984
X-APPLE-STRUCTURED-LOCATION;VALUE=URI;X-ADDRESS=101 Iso Parkway Iso Parkway 101 Gray Court SC 29645 United States;X-APPLE-RADIUS=500;X-TITLE=Iso Parkway 101:geo:-82.1240984,34.6153664
END:VEVENT
END:VCALENDAR