BEGIN:VCALENDAR
VERSION:2.0
PRODID:-//864 Food Trucks - ECPv6.15.20//NONSGML v1.0//EN
CALSCALE:GREGORIAN
METHOD:PUBLISH
X-ORIGINAL-URL:https://864foodtrucks.com
X-WR-CALDESC:Events for 864 Food Trucks
REFRESH-INTERVAL;VALUE=DURATION:PT1H
X-Robots-Tag:noindex
X-PUBLISHED-TTL:PT1H
BEGIN:VTIMEZONE
TZID:America/New_York
BEGIN:DAYLIGHT
TZOFFSETFROM:-0500
TZOFFSETTO:-0400
TZNAME:EDT
DTSTART:20230312T070000
END:DAYLIGHT
BEGIN:STANDARD
TZOFFSETFROM:-0400
TZOFFSETTO:-0500
TZNAME:EST
DTSTART:20231105T060000
END:STANDARD
BEGIN:DAYLIGHT
TZOFFSETFROM:-0500
TZOFFSETTO:-0400
TZNAME:EDT
DTSTART:20240310T070000
END:DAYLIGHT
BEGIN:STANDARD
TZOFFSETFROM:-0400
TZOFFSETTO:-0500
TZNAME:EST
DTSTART:20241103T060000
END:STANDARD
BEGIN:DAYLIGHT
TZOFFSETFROM:-0500
TZOFFSETTO:-0400
TZNAME:EDT
DTSTART:20250309T070000
END:DAYLIGHT
BEGIN:STANDARD
TZOFFSETFROM:-0400
TZOFFSETTO:-0500
TZNAME:EST
DTSTART:20251102T060000
END:STANDARD
END:VTIMEZONE
BEGIN:VEVENT
DTSTART;TZID=America/New_York:20240703T160000
DTEND;TZID=America/New_York:20240703T200000
DTSTAMP:20260424T035450
CREATED:20240625T152223Z
LAST-MODIFIED:20240909T192027Z
UID:29160-1720022400-1720036800@864foodtrucks.com
SUMMARY:One Love Fusion Foods @ Scuffletown
DESCRIPTION:Global Flavors. Local Favorites.\nAward-winning Food Truck\nEst. 2016
URL:https://864foodtrucks.com/event/one-love-fusion-foods-scuffletown-2/2024-07-03/
LOCATION:Scuffletown Food Truck Park\, Ladean Court 206\, Simpsonville\, South Carolina\, 29680\, United States
CATEGORIES:Food Truck Schedules,Simpsonville
ATTACH;FMTTYPE=image/jpeg:https://864foodtrucks.com/wp-content/uploads/2024/06/146115231_418375386251300_6236743514051207394_n.jpg
ORGANIZER;CN="One Love Fusion Foods":MAILTO:OneLoveFusionFoods@gmail.com
GEO:34.7127674;-82.2550282
X-APPLE-STRUCTURED-LOCATION;VALUE=URI;X-ADDRESS=Scuffletown Food Truck Park Ladean Court 206 Simpsonville South Carolina 29680 United States;X-APPLE-RADIUS=500;X-TITLE=Ladean Court 206:geo:-82.2550282,34.7127674
END:VEVENT
END:VCALENDAR