BEGIN:VCALENDAR
VERSION:2.0
PRODID:-//864 Food Trucks - ECPv6.15.20//NONSGML v1.0//EN
CALSCALE:GREGORIAN
METHOD:PUBLISH
X-ORIGINAL-URL:https://864foodtrucks.com
X-WR-CALDESC:Events for 864 Food Trucks
REFRESH-INTERVAL;VALUE=DURATION:PT1H
X-Robots-Tag:noindex
X-PUBLISHED-TTL:PT1H
BEGIN:VTIMEZONE
TZID:America/New_York
BEGIN:DAYLIGHT
TZOFFSETFROM:-0500
TZOFFSETTO:-0400
TZNAME:EDT
DTSTART:20220313T070000
END:DAYLIGHT
BEGIN:STANDARD
TZOFFSETFROM:-0400
TZOFFSETTO:-0500
TZNAME:EST
DTSTART:20221106T060000
END:STANDARD
BEGIN:DAYLIGHT
TZOFFSETFROM:-0500
TZOFFSETTO:-0400
TZNAME:EDT
DTSTART:20230312T070000
END:DAYLIGHT
BEGIN:STANDARD
TZOFFSETFROM:-0400
TZOFFSETTO:-0500
TZNAME:EST
DTSTART:20231105T060000
END:STANDARD
BEGIN:DAYLIGHT
TZOFFSETFROM:-0500
TZOFFSETTO:-0400
TZNAME:EDT
DTSTART:20240310T070000
END:DAYLIGHT
BEGIN:STANDARD
TZOFFSETFROM:-0400
TZOFFSETTO:-0500
TZNAME:EST
DTSTART:20241103T060000
END:STANDARD
END:VTIMEZONE
BEGIN:VEVENT
DTSTART;TZID=America/New_York:20230204T160000
DTEND;TZID=America/New_York:20230204T200000
DTSTAMP:20260425T115837
CREATED:20230131T195747Z
LAST-MODIFIED:20230214T013459Z
UID:16507-1675526400-1675540800@864foodtrucks.com
SUMMARY:Rad Dad's BBQ @ WineXpress Anderson
DESCRIPTION:We at Rad Dad’s are determined to bring the best BBQ and friendliest service possible. If there is one thing we love more than slow cooked BBQ it’s people! We want to bring family and friends together because that’s what BBQ truly represents.
URL:https://864foodtrucks.com/event/rad-dads-bbq-winexpress-anderson/2023-02-04/
LOCATION:WineXpress Anderson Location\, 109 E Greenville St\, Anderson\, SC\, United States
CATEGORIES:Anderson,Food Truck Schedules
ATTACH;FMTTYPE=image/jpeg:https://864foodtrucks.com/wp-content/uploads/2021/05/Rad-Dads-BBQ-and-Catering-Truck.jpg
ORGANIZER;CN="Rad Dad's BBQ and Catering":MAILTO:info@raddadsbbq.com
GEO:34.5098541;-82.6509805
X-APPLE-STRUCTURED-LOCATION;VALUE=URI;X-ADDRESS=WineXpress Anderson Location 109 E Greenville St Anderson SC United States;X-APPLE-RADIUS=500;X-TITLE=109 E Greenville St:geo:-82.6509805,34.5098541
END:VEVENT
END:VCALENDAR