BEGIN:VCALENDAR
VERSION:2.0
PRODID:-//864 Food Trucks - ECPv6.15.20//NONSGML v1.0//EN
CALSCALE:GREGORIAN
METHOD:PUBLISH
X-ORIGINAL-URL:https://864foodtrucks.com
X-WR-CALDESC:Events for 864 Food Trucks
REFRESH-INTERVAL;VALUE=DURATION:PT1H
X-Robots-Tag:noindex
X-PUBLISHED-TTL:PT1H
BEGIN:VTIMEZONE
TZID:America/New_York
BEGIN:DAYLIGHT
TZOFFSETFROM:-0500
TZOFFSETTO:-0400
TZNAME:EDT
DTSTART:20240310T070000
END:DAYLIGHT
BEGIN:STANDARD
TZOFFSETFROM:-0400
TZOFFSETTO:-0500
TZNAME:EST
DTSTART:20241103T060000
END:STANDARD
BEGIN:DAYLIGHT
TZOFFSETFROM:-0500
TZOFFSETTO:-0400
TZNAME:EDT
DTSTART:20250309T070000
END:DAYLIGHT
BEGIN:STANDARD
TZOFFSETFROM:-0400
TZOFFSETTO:-0500
TZNAME:EST
DTSTART:20251102T060000
END:STANDARD
BEGIN:DAYLIGHT
TZOFFSETFROM:-0500
TZOFFSETTO:-0400
TZNAME:EDT
DTSTART:20260308T070000
END:DAYLIGHT
BEGIN:STANDARD
TZOFFSETFROM:-0400
TZOFFSETTO:-0500
TZNAME:EST
DTSTART:20261101T060000
END:STANDARD
END:VTIMEZONE
BEGIN:VEVENT
DTSTART;TZID=America/New_York:20251112T100000
DTEND;TZID=America/New_York:20251112T123000
DTSTAMP:20260425T145436
CREATED:20250222T185016Z
LAST-MODIFIED:20250222T185016Z
UID:56169-1762941600-1762950600@864foodtrucks.com
SUMMARY:Simpell Sammies @ Vertiv
DESCRIPTION:Simpell Sammies is open for business and ready to serve you flavorful and delicious sandwiches and hoagies.
URL:https://864foodtrucks.com/event/simpell-sammies-vertiv-2/2025-11-12/
LOCATION:VERTIV\, 400 Supreme Industrial Dr\, Anderson\, South Carolina
CATEGORIES:Anderson,Food Truck Schedules
ATTACH;FMTTYPE=image/jpeg:https://864foodtrucks.com/wp-content/uploads/2023/06/Simpell-Sammies-Trailer.jpg
ORGANIZER;CN="Simpell Sammies":MAILTO:info@simpelltreats.com
GEO:34.5933918;-82.6689248
X-APPLE-STRUCTURED-LOCATION;VALUE=URI;X-ADDRESS=VERTIV 400 Supreme Industrial Dr Anderson South Carolina;X-APPLE-RADIUS=500;X-TITLE=400 Supreme Industrial Dr:geo:-82.6689248,34.5933918
END:VEVENT
BEGIN:VEVENT
DTSTART;TZID=America/New_York:20250910T100000
DTEND;TZID=America/New_York:20250910T123000
DTSTAMP:20260425T145436
CREATED:20250222T185016Z
LAST-MODIFIED:20251110T210114Z
UID:53289-1757498400-1757507400@864foodtrucks.com
SUMMARY:Simpell Sammies @ Vertiv
DESCRIPTION:Simpell Sammies is open for business and ready to serve you flavorful and delicious sandwiches and hoagies.
URL:https://864foodtrucks.com/event/simpell-sammies-vertiv-2/2025-09-10/
LOCATION:VERTIV\, 400 Supreme Industrial Dr\, Anderson\, South Carolina
CATEGORIES:Anderson,Food Truck Schedules
ATTACH;FMTTYPE=image/jpeg:https://864foodtrucks.com/wp-content/uploads/2023/06/Simpell-Sammies-Trailer.jpg
ORGANIZER;CN="Simpell Sammies":MAILTO:info@simpelltreats.com
GEO:34.5933918;-82.6689248
X-APPLE-STRUCTURED-LOCATION;VALUE=URI;X-ADDRESS=VERTIV 400 Supreme Industrial Dr Anderson South Carolina;X-APPLE-RADIUS=500;X-TITLE=400 Supreme Industrial Dr:geo:-82.6689248,34.5933918
END:VEVENT
BEGIN:VEVENT
DTSTART;TZID=America/New_York:20250903T110000
DTEND;TZID=America/New_York:20250903T130000
DTSTAMP:20260425T145436
CREATED:20250222T185016Z
LAST-MODIFIED:20251110T210113Z
UID:53027-1756897200-1756904400@864foodtrucks.com
SUMMARY:Simpell Sammies @ Vertiv
DESCRIPTION:Simpell Sammies is open for business and ready to serve you flavorful and delicious sandwiches and hoagies.
URL:https://864foodtrucks.com/event/simpell-sammies-vertiv-2/2025-09-03/
LOCATION:VERTIV\, 400 Supreme Industrial Dr\, Anderson\, South Carolina
CATEGORIES:Anderson,Food Truck Schedules
ATTACH;FMTTYPE=image/jpeg:https://864foodtrucks.com/wp-content/uploads/2023/06/Simpell-Sammies-Trailer.jpg
ORGANIZER;CN="Simpell Sammies":MAILTO:info@simpelltreats.com
GEO:34.5933918;-82.6689248
X-APPLE-STRUCTURED-LOCATION;VALUE=URI;X-ADDRESS=VERTIV 400 Supreme Industrial Dr Anderson South Carolina;X-APPLE-RADIUS=500;X-TITLE=400 Supreme Industrial Dr:geo:-82.6689248,34.5933918
END:VEVENT
BEGIN:VEVENT
DTSTART;TZID=America/New_York:20250226T100000
DTEND;TZID=America/New_York:20250226T123000
DTSTAMP:20260425T145436
CREATED:20250222T185016Z
LAST-MODIFIED:20251110T210100Z
UID:42580-1740564000-1740573000@864foodtrucks.com
SUMMARY:Simpell Sammies @ Vertiv
DESCRIPTION:Simpell Sammies is open for business and ready to serve you flavorful and delicious sandwiches and hoagies.
URL:https://864foodtrucks.com/event/simpell-sammies-vertiv-2/2025-02-26/
LOCATION:VERTIV\, 400 Supreme Industrial Dr\, Anderson\, South Carolina
CATEGORIES:Anderson,Food Truck Schedules
ATTACH;FMTTYPE=image/jpeg:https://864foodtrucks.com/wp-content/uploads/2023/06/Simpell-Sammies-Trailer.jpg
ORGANIZER;CN="Simpell Sammies":MAILTO:info@simpelltreats.com
GEO:34.5933918;-82.6689248
X-APPLE-STRUCTURED-LOCATION;VALUE=URI;X-ADDRESS=VERTIV 400 Supreme Industrial Dr Anderson South Carolina;X-APPLE-RADIUS=500;X-TITLE=400 Supreme Industrial Dr:geo:-82.6689248,34.5933918
END:VEVENT
END:VCALENDAR