BEGIN:VCALENDAR
VERSION:2.0
PRODID:-//864 Food Trucks - ECPv6.15.20//NONSGML v1.0//EN
CALSCALE:GREGORIAN
METHOD:PUBLISH
X-WR-CALNAME:864 Food Trucks
X-ORIGINAL-URL:https://864foodtrucks.com
X-WR-CALDESC:Events for 864 Food Trucks
REFRESH-INTERVAL;VALUE=DURATION:PT1H
X-Robots-Tag:noindex
X-PUBLISHED-TTL:PT1H
BEGIN:VTIMEZONE
TZID:America/New_York
BEGIN:DAYLIGHT
TZOFFSETFROM:-0500
TZOFFSETTO:-0400
TZNAME:EDT
DTSTART:20240310T070000
END:DAYLIGHT
BEGIN:STANDARD
TZOFFSETFROM:-0400
TZOFFSETTO:-0500
TZNAME:EST
DTSTART:20241103T060000
END:STANDARD
BEGIN:DAYLIGHT
TZOFFSETFROM:-0500
TZOFFSETTO:-0400
TZNAME:EDT
DTSTART:20250309T070000
END:DAYLIGHT
BEGIN:STANDARD
TZOFFSETFROM:-0400
TZOFFSETTO:-0500
TZNAME:EST
DTSTART:20251102T060000
END:STANDARD
BEGIN:DAYLIGHT
TZOFFSETFROM:-0500
TZOFFSETTO:-0400
TZNAME:EDT
DTSTART:20260308T070000
END:DAYLIGHT
BEGIN:STANDARD
TZOFFSETFROM:-0400
TZOFFSETTO:-0500
TZNAME:EST
DTSTART:20261101T060000
END:STANDARD
END:VTIMEZONE
BEGIN:VEVENT
DTSTART;TZID=America/New_York:20251016T110000
DTEND;TZID=America/New_York:20251016T140000
DTSTAMP:20260424T100535
CREATED:20250825T125731Z
LAST-MODIFIED:20250825T125731Z
UID:55057-1760612400-1760623200@864foodtrucks.com
SUMMARY:Spinx Cluk Truk @ Kyocera AVX
DESCRIPTION:Your favorite southern fried chicken is hitting the road—and it’s going to be legendary. Our community comes first\, and we want to share that tender love by bringing our homegrown menu to you. The Cluk Truk is coming Fall 2020 to the Upstate!
URL:https://864foodtrucks.com/event/spinx-cluk-truk-kyocera-avx-2/2025-10-16/
LOCATION:Kyocera AVX\, 1 AVX Blvd\, Fountain Inn\, South Carolina
CATEGORIES:Food Truck Schedules,Fountain Inn
ATTACH;FMTTYPE=image/jpeg:https://864foodtrucks.com/wp-content/uploads/2021/05/Spinx-Cluk-Truk-Truck.jpg
ORGANIZER;CN="Spinx Cluk Truk":MAILTO:cluktruk@spinxco.com
GEO:34.702583;-82.2397167
X-APPLE-STRUCTURED-LOCATION;VALUE=URI;X-ADDRESS=Kyocera AVX 1 AVX Blvd Fountain Inn South Carolina;X-APPLE-RADIUS=500;X-TITLE=1 AVX Blvd:geo:-82.2397167,34.702583
END:VEVENT
BEGIN:VEVENT
DTSTART;TZID=America/New_York:20251002T110000
DTEND;TZID=America/New_York:20251002T140000
DTSTAMP:20260424T100535
CREATED:20250825T125731Z
LAST-MODIFIED:20251013T192420Z
UID:54640-1759402800-1759413600@864foodtrucks.com
SUMMARY:Spinx Cluk Truk @ Kyocera AVX
DESCRIPTION:Your favorite southern fried chicken is hitting the road—and it’s going to be legendary. Our community comes first\, and we want to share that tender love by bringing our homegrown menu to you. The Cluk Truk is coming Fall 2020 to the Upstate!
URL:https://864foodtrucks.com/event/spinx-cluk-truk-kyocera-avx-2/2025-10-02/
LOCATION:Kyocera AVX\, 1 AVX Blvd\, Fountain Inn\, South Carolina
CATEGORIES:Food Truck Schedules,Fountain Inn
ATTACH;FMTTYPE=image/jpeg:https://864foodtrucks.com/wp-content/uploads/2021/05/Spinx-Cluk-Truk-Truck.jpg
ORGANIZER;CN="Spinx Cluk Truk":MAILTO:cluktruk@spinxco.com
GEO:34.702583;-82.2397167
X-APPLE-STRUCTURED-LOCATION;VALUE=URI;X-ADDRESS=Kyocera AVX 1 AVX Blvd Fountain Inn South Carolina;X-APPLE-RADIUS=500;X-TITLE=1 AVX Blvd:geo:-82.2397167,34.702583
END:VEVENT
BEGIN:VEVENT
DTSTART;TZID=America/New_York:20250828T110000
DTEND;TZID=America/New_York:20250828T140000
DTSTAMP:20260424T100535
CREATED:20250825T125731Z
LAST-MODIFIED:20251013T192419Z
UID:52765-1756378800-1756389600@864foodtrucks.com
SUMMARY:Spinx Cluk Truk @ Kyocera AVX
DESCRIPTION:Your favorite southern fried chicken is hitting the road—and it’s going to be legendary. Our community comes first\, and we want to share that tender love by bringing our homegrown menu to you. The Cluk Truk is coming Fall 2020 to the Upstate!
URL:https://864foodtrucks.com/event/spinx-cluk-truk-kyocera-avx-2/2025-08-28/
LOCATION:Kyocera AVX\, 1 AVX Blvd\, Fountain Inn\, South Carolina
CATEGORIES:Food Truck Schedules,Fountain Inn
ATTACH;FMTTYPE=image/jpeg:https://864foodtrucks.com/wp-content/uploads/2021/05/Spinx-Cluk-Truk-Truck.jpg
ORGANIZER;CN="Spinx Cluk Truk":MAILTO:cluktruk@spinxco.com
GEO:34.702583;-82.2397167
X-APPLE-STRUCTURED-LOCATION;VALUE=URI;X-ADDRESS=Kyocera AVX 1 AVX Blvd Fountain Inn South Carolina;X-APPLE-RADIUS=500;X-TITLE=1 AVX Blvd:geo:-82.2397167,34.702583
END:VEVENT
BEGIN:VEVENT
DTSTART;TZID=America/New_York:20250826T110000
DTEND;TZID=America/New_York:20250826T140000
DTSTAMP:20260424T100535
CREATED:20250825T125731Z
LAST-MODIFIED:20251013T192419Z
UID:52764-1756206000-1756216800@864foodtrucks.com
SUMMARY:Spinx Cluk Truk @ Kyocera AVX
DESCRIPTION:Your favorite southern fried chicken is hitting the road—and it’s going to be legendary. Our community comes first\, and we want to share that tender love by bringing our homegrown menu to you. The Cluk Truk is coming Fall 2020 to the Upstate!
URL:https://864foodtrucks.com/event/spinx-cluk-truk-kyocera-avx-2/2025-08-26/
LOCATION:Kyocera AVX\, 1 AVX Blvd\, Fountain Inn\, South Carolina
CATEGORIES:Food Truck Schedules,Fountain Inn
ATTACH;FMTTYPE=image/jpeg:https://864foodtrucks.com/wp-content/uploads/2021/05/Spinx-Cluk-Truk-Truck.jpg
ORGANIZER;CN="Spinx Cluk Truk":MAILTO:cluktruk@spinxco.com
GEO:34.702583;-82.2397167
X-APPLE-STRUCTURED-LOCATION;VALUE=URI;X-ADDRESS=Kyocera AVX 1 AVX Blvd Fountain Inn South Carolina;X-APPLE-RADIUS=500;X-TITLE=1 AVX Blvd:geo:-82.2397167,34.702583
END:VEVENT
END:VCALENDAR