BEGIN:VCALENDAR
VERSION:2.0
PRODID:-//864 Food Trucks - ECPv6.15.20//NONSGML v1.0//EN
CALSCALE:GREGORIAN
METHOD:PUBLISH
X-ORIGINAL-URL:https://864foodtrucks.com
X-WR-CALDESC:Events for 864 Food Trucks
REFRESH-INTERVAL;VALUE=DURATION:PT1H
X-Robots-Tag:noindex
X-PUBLISHED-TTL:PT1H
BEGIN:VTIMEZONE
TZID:America/New_York
BEGIN:DAYLIGHT
TZOFFSETFROM:-0500
TZOFFSETTO:-0400
TZNAME:EDT
DTSTART:20220313T070000
END:DAYLIGHT
BEGIN:STANDARD
TZOFFSETFROM:-0400
TZOFFSETTO:-0500
TZNAME:EST
DTSTART:20221106T060000
END:STANDARD
BEGIN:DAYLIGHT
TZOFFSETFROM:-0500
TZOFFSETTO:-0400
TZNAME:EDT
DTSTART:20230312T070000
END:DAYLIGHT
BEGIN:STANDARD
TZOFFSETFROM:-0400
TZOFFSETTO:-0500
TZNAME:EST
DTSTART:20231105T060000
END:STANDARD
BEGIN:DAYLIGHT
TZOFFSETFROM:-0500
TZOFFSETTO:-0400
TZNAME:EDT
DTSTART:20240310T070000
END:DAYLIGHT
BEGIN:STANDARD
TZOFFSETFROM:-0400
TZOFFSETTO:-0500
TZNAME:EST
DTSTART:20241103T060000
END:STANDARD
END:VTIMEZONE
BEGIN:VEVENT
DTSTART;TZID=America/New_York:20231201T070000
DTEND;TZID=America/New_York:20231201T130000
DTSTAMP:20260425T162416
CREATED:20231127T182014Z
LAST-MODIFIED:20240604T180021Z
UID:24315-1701414000-1701435600@864foodtrucks.com
SUMMARY:The Donut Wagon @ Across from Walmart Seneca
DESCRIPTION:We are a mobile business (food truck)\, and sell glazed donuts and hand crafted soft pretzels\, fresh\, made from scratch! We serve local towns once a week and also serve at festivals\, farmers markets\, etc.
URL:https://864foodtrucks.com/event/the-donut-wagon-across-from-walmart-seneca/2023-12-01/
LOCATION:Fatz Cafe in Seneca\, 1615 Sandifer Blvd\, Seneca\, SC\, 29678\, United States
CATEGORIES:Food Truck Schedules,Seneca
ATTACH;FMTTYPE=image/jpeg:https://864foodtrucks.com/wp-content/uploads/2021/05/The-Donut-Wagon.jpg
GEO:34.6880647;-82.9955537
X-APPLE-STRUCTURED-LOCATION;VALUE=URI;X-ADDRESS=Fatz Cafe in Seneca 1615 Sandifer Blvd Seneca SC 29678 United States;X-APPLE-RADIUS=500;X-TITLE=1615 Sandifer Blvd:geo:-82.9955537,34.6880647
END:VEVENT
END:VCALENDAR