BEGIN:VCALENDAR
VERSION:2.0
PRODID:-//864 Food Trucks - ECPv6.15.20//NONSGML v1.0//EN
CALSCALE:GREGORIAN
METHOD:PUBLISH
X-ORIGINAL-URL:https://864foodtrucks.com
X-WR-CALDESC:Events for 864 Food Trucks
REFRESH-INTERVAL;VALUE=DURATION:PT1H
X-Robots-Tag:noindex
X-PUBLISHED-TTL:PT1H
BEGIN:VTIMEZONE
TZID:America/New_York
BEGIN:DAYLIGHT
TZOFFSETFROM:-0500
TZOFFSETTO:-0400
TZNAME:EDT
DTSTART:20230312T070000
END:DAYLIGHT
BEGIN:STANDARD
TZOFFSETFROM:-0400
TZOFFSETTO:-0500
TZNAME:EST
DTSTART:20231105T060000
END:STANDARD
BEGIN:DAYLIGHT
TZOFFSETFROM:-0500
TZOFFSETTO:-0400
TZNAME:EDT
DTSTART:20240310T070000
END:DAYLIGHT
BEGIN:STANDARD
TZOFFSETFROM:-0400
TZOFFSETTO:-0500
TZNAME:EST
DTSTART:20241103T060000
END:STANDARD
BEGIN:DAYLIGHT
TZOFFSETFROM:-0500
TZOFFSETTO:-0400
TZNAME:EDT
DTSTART:20250309T070000
END:DAYLIGHT
BEGIN:STANDARD
TZOFFSETFROM:-0400
TZOFFSETTO:-0500
TZNAME:EST
DTSTART:20251102T060000
END:STANDARD
BEGIN:DAYLIGHT
TZOFFSETFROM:-0500
TZOFFSETTO:-0400
TZNAME:EDT
DTSTART:20260308T070000
END:DAYLIGHT
BEGIN:STANDARD
TZOFFSETFROM:-0400
TZOFFSETTO:-0500
TZNAME:EST
DTSTART:20261101T060000
END:STANDARD
END:VTIMEZONE
BEGIN:VEVENT
DTSTART;TZID=America/New_York:20251022T183000
DTEND;TZID=America/New_York:20251022T193000
DTSTAMP:20260424T043330
CREATED:20240805T214337Z
LAST-MODIFIED:20240805T214337Z
UID:55261-1761157800-1761161400@864foodtrucks.com
SUMMARY:The Noodle Lady @ Plantation Greene
DESCRIPTION:Authentic Chinese dishes for catering and events. Artisan Noodles and 100% Natural. Check out here our events calendar in Greenville\, South Carolina. #TheNoodleLady
URL:https://864foodtrucks.com/event/the-noodle-lady-plantation-greene/2025-10-22/
LOCATION:Plantation Greene\, 212 Little Pond\, Greenville\, South Carolina
CATEGORIES:Food Truck Schedules,Simpsonville
ATTACH;FMTTYPE=image/jpeg:https://864foodtrucks.com/wp-content/uploads/2023/07/Noodle-lady.jpg
ORGANIZER;CN="The Noodle Lady":MAILTO:thenoodlelady@yahoo.com
GEO:34.812924;-82.3000365
X-APPLE-STRUCTURED-LOCATION;VALUE=URI;X-ADDRESS=Plantation Greene 212 Little Pond Greenville South Carolina;X-APPLE-RADIUS=500;X-TITLE=212 Little Pond:geo:-82.3000365,34.812924
END:VEVENT
BEGIN:VEVENT
DTSTART;TZID=America/New_York:20250924T173000
DTEND;TZID=America/New_York:20250924T193000
DTSTAMP:20260424T043330
CREATED:20240805T214337Z
LAST-MODIFIED:20251019T191909Z
UID:54365-1758735000-1758742200@864foodtrucks.com
SUMMARY:The Noodle Lady @ Plantation Greene
DESCRIPTION:Authentic Chinese dishes for catering and events. Artisan Noodles and 100% Natural. Check out here our events calendar in Greenville\, South Carolina. #TheNoodleLady
URL:https://864foodtrucks.com/event/the-noodle-lady-plantation-greene/2025-09-24/
LOCATION:Plantation Greene\, 212 Little Pond\, Greenville\, South Carolina
CATEGORIES:Food Truck Schedules,Simpsonville
ATTACH;FMTTYPE=image/jpeg:https://864foodtrucks.com/wp-content/uploads/2023/07/Noodle-lady.jpg
ORGANIZER;CN="The Noodle Lady":MAILTO:thenoodlelady@yahoo.com
GEO:34.812924;-82.3000365
X-APPLE-STRUCTURED-LOCATION;VALUE=URI;X-ADDRESS=Plantation Greene 212 Little Pond Greenville South Carolina;X-APPLE-RADIUS=500;X-TITLE=212 Little Pond:geo:-82.3000365,34.812924
END:VEVENT
BEGIN:VEVENT
DTSTART;TZID=America/New_York:20240806T173000
DTEND;TZID=America/New_York:20240806T193000
DTSTAMP:20260424T043330
CREATED:20240805T214337Z
LAST-MODIFIED:20251019T191908Z
UID:33401-1722965400-1722972600@864foodtrucks.com
SUMMARY:The Noodle Lady @ Plantation Greene
DESCRIPTION:Authentic Chinese dishes for catering and events. Artisan Noodles and 100% Natural. Check out here our events calendar in Greenville\, South Carolina. #TheNoodleLady
URL:https://864foodtrucks.com/event/the-noodle-lady-plantation-greene/2024-08-06/
LOCATION:Plantation Greene\, 212 Little Pond\, Greenville\, South Carolina
CATEGORIES:Food Truck Schedules,Simpsonville
ATTACH;FMTTYPE=image/jpeg:https://864foodtrucks.com/wp-content/uploads/2023/07/Noodle-lady.jpg
ORGANIZER;CN="The Noodle Lady":MAILTO:thenoodlelady@yahoo.com
GEO:34.812924;-82.3000365
X-APPLE-STRUCTURED-LOCATION;VALUE=URI;X-ADDRESS=Plantation Greene 212 Little Pond Greenville South Carolina;X-APPLE-RADIUS=500;X-TITLE=212 Little Pond:geo:-82.3000365,34.812924
END:VEVENT
END:VCALENDAR