BEGIN:VCALENDAR
VERSION:2.0
PRODID:-//864 Food Trucks - ECPv6.15.20//NONSGML v1.0//EN
CALSCALE:GREGORIAN
METHOD:PUBLISH
X-ORIGINAL-URL:https://864foodtrucks.com
X-WR-CALDESC:Events for 864 Food Trucks
REFRESH-INTERVAL;VALUE=DURATION:PT1H
X-Robots-Tag:noindex
X-PUBLISHED-TTL:PT1H
BEGIN:VTIMEZONE
TZID:America/New_York
BEGIN:DAYLIGHT
TZOFFSETFROM:-0500
TZOFFSETTO:-0400
TZNAME:EDT
DTSTART:20240310T070000
END:DAYLIGHT
BEGIN:STANDARD
TZOFFSETFROM:-0400
TZOFFSETTO:-0500
TZNAME:EST
DTSTART:20241103T060000
END:STANDARD
BEGIN:DAYLIGHT
TZOFFSETFROM:-0500
TZOFFSETTO:-0400
TZNAME:EDT
DTSTART:20250309T070000
END:DAYLIGHT
BEGIN:STANDARD
TZOFFSETFROM:-0400
TZOFFSETTO:-0500
TZNAME:EST
DTSTART:20251102T060000
END:STANDARD
BEGIN:DAYLIGHT
TZOFFSETFROM:-0500
TZOFFSETTO:-0400
TZNAME:EDT
DTSTART:20260308T070000
END:DAYLIGHT
BEGIN:STANDARD
TZOFFSETFROM:-0400
TZOFFSETTO:-0500
TZNAME:EST
DTSTART:20261101T060000
END:STANDARD
END:VTIMEZONE
BEGIN:VEVENT
DTSTART;TZID=America/New_York:20251213T170000
DTEND;TZID=America/New_York:20251213T200000
DTSTAMP:20260424T003737
CREATED:20250413T194229Z
LAST-MODIFIED:20250413T194229Z
UID:57277-1765645200-1765656000@864foodtrucks.com
SUMMARY:The Noodle Lady @ Wild Yarrow Brewery
DESCRIPTION:Authentic Chinese dishes for catering and events. Artisan Noodles and 100% Natural. Check out here our events calendar in Greenville\, South Carolina. #TheNoodleLady
URL:https://864foodtrucks.com/event/the-noodle-lady-wild-yarrow-brewery/2025-12-13/
LOCATION:Wild Yarrow Brewery\, 603 E Stone Ave Ste 4\, Greenville\, South Carolina
CATEGORIES:Food Truck Schedules,Greenville
ATTACH;FMTTYPE=image/jpeg:https://864foodtrucks.com/wp-content/uploads/2023/07/Noodle-lady.jpg
ORGANIZER;CN="The Noodle Lady":MAILTO:thenoodlelady@yahoo.com
GEO:34.8585597;-82.3848471
X-APPLE-STRUCTURED-LOCATION;VALUE=URI;X-ADDRESS=Wild Yarrow Brewery 603 E Stone Ave Ste 4 Greenville South Carolina;X-APPLE-RADIUS=500;X-TITLE=603 E Stone Ave Ste 4:geo:-82.3848471,34.8585597
END:VEVENT
BEGIN:VEVENT
DTSTART;TZID=America/New_York:20251115T173000
DTEND;TZID=America/New_York:20251115T200000
DTSTAMP:20260424T003737
CREATED:20250413T194229Z
LAST-MODIFIED:20251208T141915Z
UID:56148-1763227800-1763236800@864foodtrucks.com
SUMMARY:The Noodle Lady @ Wild Yarrow Brewery
DESCRIPTION:Authentic Chinese dishes for catering and events. Artisan Noodles and 100% Natural. Check out here our events calendar in Greenville\, South Carolina. #TheNoodleLady
URL:https://864foodtrucks.com/event/the-noodle-lady-wild-yarrow-brewery/2025-11-15/
LOCATION:Wild Yarrow Brewery\, 603 E Stone Ave Ste 4\, Greenville\, South Carolina
CATEGORIES:Food Truck Schedules,Greenville
ATTACH;FMTTYPE=image/jpeg:https://864foodtrucks.com/wp-content/uploads/2023/07/Noodle-lady.jpg
ORGANIZER;CN="The Noodle Lady":MAILTO:thenoodlelady@yahoo.com
GEO:34.8585597;-82.3848471
X-APPLE-STRUCTURED-LOCATION;VALUE=URI;X-ADDRESS=Wild Yarrow Brewery 603 E Stone Ave Ste 4 Greenville South Carolina;X-APPLE-RADIUS=500;X-TITLE=603 E Stone Ave Ste 4:geo:-82.3848471,34.8585597
END:VEVENT
BEGIN:VEVENT
DTSTART;TZID=America/New_York:20251015T173000
DTEND;TZID=America/New_York:20251015T200000
DTSTAMP:20260424T003737
CREATED:20250413T194229Z
LAST-MODIFIED:20251208T141914Z
UID:55047-1760549400-1760558400@864foodtrucks.com
SUMMARY:The Noodle Lady @ Wild Yarrow Brewery
DESCRIPTION:Authentic Chinese dishes for catering and events. Artisan Noodles and 100% Natural. Check out here our events calendar in Greenville\, South Carolina. #TheNoodleLady
URL:https://864foodtrucks.com/event/the-noodle-lady-wild-yarrow-brewery/2025-10-15/
LOCATION:Wild Yarrow Brewery\, 603 E Stone Ave Ste 4\, Greenville\, South Carolina
CATEGORIES:Food Truck Schedules,Greenville
ATTACH;FMTTYPE=image/jpeg:https://864foodtrucks.com/wp-content/uploads/2023/07/Noodle-lady.jpg
ORGANIZER;CN="The Noodle Lady":MAILTO:thenoodlelady@yahoo.com
GEO:34.8585597;-82.3848471
X-APPLE-STRUCTURED-LOCATION;VALUE=URI;X-ADDRESS=Wild Yarrow Brewery 603 E Stone Ave Ste 4 Greenville South Carolina;X-APPLE-RADIUS=500;X-TITLE=603 E Stone Ave Ste 4:geo:-82.3848471,34.8585597
END:VEVENT
BEGIN:VEVENT
DTSTART;TZID=America/New_York:20251001T173000
DTEND;TZID=America/New_York:20251001T200000
DTSTAMP:20260424T003737
CREATED:20250413T194229Z
LAST-MODIFIED:20251208T141913Z
UID:54616-1759339800-1759348800@864foodtrucks.com
SUMMARY:The Noodle Lady @ Wild Yarrow Brewery
DESCRIPTION:Authentic Chinese dishes for catering and events. Artisan Noodles and 100% Natural. Check out here our events calendar in Greenville\, South Carolina. #TheNoodleLady
URL:https://864foodtrucks.com/event/the-noodle-lady-wild-yarrow-brewery/2025-10-01/
LOCATION:Wild Yarrow Brewery\, 603 E Stone Ave Ste 4\, Greenville\, South Carolina
CATEGORIES:Food Truck Schedules,Greenville
ATTACH;FMTTYPE=image/jpeg:https://864foodtrucks.com/wp-content/uploads/2023/07/Noodle-lady.jpg
ORGANIZER;CN="The Noodle Lady":MAILTO:thenoodlelady@yahoo.com
GEO:34.8585597;-82.3848471
X-APPLE-STRUCTURED-LOCATION;VALUE=URI;X-ADDRESS=Wild Yarrow Brewery 603 E Stone Ave Ste 4 Greenville South Carolina;X-APPLE-RADIUS=500;X-TITLE=603 E Stone Ave Ste 4:geo:-82.3848471,34.8585597
END:VEVENT
BEGIN:VEVENT
DTSTART;TZID=America/New_York:20250923T173000
DTEND;TZID=America/New_York:20250923T200000
DTSTAMP:20260424T003737
CREATED:20250413T194229Z
LAST-MODIFIED:20251208T141912Z
UID:54357-1758648600-1758657600@864foodtrucks.com
SUMMARY:The Noodle Lady @ Wild Yarrow Brewery
DESCRIPTION:Authentic Chinese dishes for catering and events. Artisan Noodles and 100% Natural. Check out here our events calendar in Greenville\, South Carolina. #TheNoodleLady
URL:https://864foodtrucks.com/event/the-noodle-lady-wild-yarrow-brewery/2025-09-23/
LOCATION:Wild Yarrow Brewery\, 603 E Stone Ave Ste 4\, Greenville\, South Carolina
CATEGORIES:Food Truck Schedules,Greenville
ATTACH;FMTTYPE=image/jpeg:https://864foodtrucks.com/wp-content/uploads/2023/07/Noodle-lady.jpg
ORGANIZER;CN="The Noodle Lady":MAILTO:thenoodlelady@yahoo.com
GEO:34.8585597;-82.3848471
X-APPLE-STRUCTURED-LOCATION;VALUE=URI;X-ADDRESS=Wild Yarrow Brewery 603 E Stone Ave Ste 4 Greenville South Carolina;X-APPLE-RADIUS=500;X-TITLE=603 E Stone Ave Ste 4:geo:-82.3848471,34.8585597
END:VEVENT
BEGIN:VEVENT
DTSTART;TZID=America/New_York:20250823T173000
DTEND;TZID=America/New_York:20250823T200000
DTSTAMP:20260424T003737
CREATED:20250413T194229Z
LAST-MODIFIED:20251208T141911Z
UID:52257-1755970200-1755979200@864foodtrucks.com
SUMMARY:The Noodle Lady @ Wild Yarrow Brewery
DESCRIPTION:Authentic Chinese dishes for catering and events. Artisan Noodles and 100% Natural. Check out here our events calendar in Greenville\, South Carolina. #TheNoodleLady
URL:https://864foodtrucks.com/event/the-noodle-lady-wild-yarrow-brewery/2025-08-23/
LOCATION:Wild Yarrow Brewery\, 603 E Stone Ave Ste 4\, Greenville\, South Carolina
CATEGORIES:Food Truck Schedules,Greenville
ATTACH;FMTTYPE=image/jpeg:https://864foodtrucks.com/wp-content/uploads/2023/07/Noodle-lady.jpg
ORGANIZER;CN="The Noodle Lady":MAILTO:thenoodlelady@yahoo.com
GEO:34.8585597;-82.3848471
X-APPLE-STRUCTURED-LOCATION;VALUE=URI;X-ADDRESS=Wild Yarrow Brewery 603 E Stone Ave Ste 4 Greenville South Carolina;X-APPLE-RADIUS=500;X-TITLE=603 E Stone Ave Ste 4:geo:-82.3848471,34.8585597
END:VEVENT
BEGIN:VEVENT
DTSTART;TZID=America/New_York:20250419T173000
DTEND;TZID=America/New_York:20250419T200000
DTSTAMP:20260424T003737
CREATED:20250413T194229Z
LAST-MODIFIED:20251208T141910Z
UID:43757-1745083800-1745092800@864foodtrucks.com
SUMMARY:The Noodle Lady @ Wild Yarrow Brewery
DESCRIPTION:Authentic Chinese dishes for catering and events. Artisan Noodles and 100% Natural. Check out here our events calendar in Greenville\, South Carolina. #TheNoodleLady
URL:https://864foodtrucks.com/event/the-noodle-lady-wild-yarrow-brewery/2025-04-19/
LOCATION:Wild Yarrow Brewery\, 603 E Stone Ave Ste 4\, Greenville\, South Carolina
CATEGORIES:Food Truck Schedules,Greenville
ATTACH;FMTTYPE=image/jpeg:https://864foodtrucks.com/wp-content/uploads/2023/07/Noodle-lady.jpg
ORGANIZER;CN="The Noodle Lady":MAILTO:thenoodlelady@yahoo.com
GEO:34.8585597;-82.3848471
X-APPLE-STRUCTURED-LOCATION;VALUE=URI;X-ADDRESS=Wild Yarrow Brewery 603 E Stone Ave Ste 4 Greenville South Carolina;X-APPLE-RADIUS=500;X-TITLE=603 E Stone Ave Ste 4:geo:-82.3848471,34.8585597
END:VEVENT
END:VCALENDAR