BEGIN:VCALENDAR
VERSION:2.0
PRODID:-//864 Food Trucks - ECPv6.15.20//NONSGML v1.0//EN
CALSCALE:GREGORIAN
METHOD:PUBLISH
X-WR-CALNAME:864 Food Trucks
X-ORIGINAL-URL:https://864foodtrucks.com
X-WR-CALDESC:Events for 864 Food Trucks
REFRESH-INTERVAL;VALUE=DURATION:PT1H
X-Robots-Tag:noindex
X-PUBLISHED-TTL:PT1H
BEGIN:VTIMEZONE
TZID:America/New_York
BEGIN:DAYLIGHT
TZOFFSETFROM:-0500
TZOFFSETTO:-0400
TZNAME:EDT
DTSTART:20210314T070000
END:DAYLIGHT
BEGIN:STANDARD
TZOFFSETFROM:-0400
TZOFFSETTO:-0500
TZNAME:EST
DTSTART:20211107T060000
END:STANDARD
BEGIN:DAYLIGHT
TZOFFSETFROM:-0500
TZOFFSETTO:-0400
TZNAME:EDT
DTSTART:20220313T070000
END:DAYLIGHT
BEGIN:STANDARD
TZOFFSETFROM:-0400
TZOFFSETTO:-0500
TZNAME:EST
DTSTART:20221106T060000
END:STANDARD
BEGIN:DAYLIGHT
TZOFFSETFROM:-0500
TZOFFSETTO:-0400
TZNAME:EDT
DTSTART:20230312T070000
END:DAYLIGHT
BEGIN:STANDARD
TZOFFSETFROM:-0400
TZOFFSETTO:-0500
TZNAME:EST
DTSTART:20231105T060000
END:STANDARD
END:VTIMEZONE
BEGIN:VEVENT
DTSTART;TZID=America/New_York:20221104T170000
DTEND;TZID=America/New_York:20221104T200000
DTSTAMP:20260425T162221
CREATED:20221031T184018Z
LAST-MODIFIED:20230131T140710Z
UID:14007-1667581200-1667592000@864foodtrucks.com
SUMMARY:The Rock'n Rooster @ Pendleton Brewing Company
DESCRIPTION:Locally owned food truck serving an eclectic array of street food that will rock your senses!
URL:https://864foodtrucks.com/event/the-rockn-rooster-pendleton-brewing-company/2022-11-04/
LOCATION:Pendleton Brewing\, 220 E Main St\, Pendleton\, SC\, United States
CATEGORIES:Food Truck Schedules,Pendleton
ATTACH;FMTTYPE=image/jpeg:https://864foodtrucks.com/wp-content/uploads/2022/07/Rockn-rooster.jpg
ORGANIZER;CN="The Rock'n Rooster Street Eats":MAILTO:therocknroosterstreeteats@gmail.com
GEO:34.6498005;-82.7804271
X-APPLE-STRUCTURED-LOCATION;VALUE=URI;X-ADDRESS=Pendleton Brewing 220 E Main St Pendleton SC United States;X-APPLE-RADIUS=500;X-TITLE=220 E Main St:geo:-82.7804271,34.6498005
END:VEVENT
END:VCALENDAR