BEGIN:VCALENDAR
VERSION:2.0
PRODID:-//864 Food Trucks - ECPv6.15.20//NONSGML v1.0//EN
CALSCALE:GREGORIAN
METHOD:PUBLISH
X-WR-CALNAME:864 Food Trucks
X-ORIGINAL-URL:https://864foodtrucks.com
X-WR-CALDESC:Events for 864 Food Trucks
REFRESH-INTERVAL;VALUE=DURATION:PT1H
X-Robots-Tag:noindex
X-PUBLISHED-TTL:PT1H
BEGIN:VTIMEZONE
TZID:America/New_York
BEGIN:DAYLIGHT
TZOFFSETFROM:-0500
TZOFFSETTO:-0400
TZNAME:EDT
DTSTART:20240310T070000
END:DAYLIGHT
BEGIN:STANDARD
TZOFFSETFROM:-0400
TZOFFSETTO:-0500
TZNAME:EST
DTSTART:20241103T060000
END:STANDARD
BEGIN:DAYLIGHT
TZOFFSETFROM:-0500
TZOFFSETTO:-0400
TZNAME:EDT
DTSTART:20250309T070000
END:DAYLIGHT
BEGIN:STANDARD
TZOFFSETFROM:-0400
TZOFFSETTO:-0500
TZNAME:EST
DTSTART:20251102T060000
END:STANDARD
BEGIN:DAYLIGHT
TZOFFSETFROM:-0500
TZOFFSETTO:-0400
TZNAME:EDT
DTSTART:20260308T070000
END:DAYLIGHT
BEGIN:STANDARD
TZOFFSETFROM:-0400
TZOFFSETTO:-0500
TZNAME:EST
DTSTART:20261101T060000
END:STANDARD
END:VTIMEZONE
BEGIN:VEVENT
DTSTART;TZID=America/New_York:20251108T063000
DTEND;TZID=America/New_York:20251108T120000
DTSTAMP:20260424T022104
CREATED:20250701T192107Z
LAST-MODIFIED:20250701T192107Z
UID:55882-1762583400-1762603200@864foodtrucks.com
SUMMARY:Vita Nova @ 511 Conestee Rd
DESCRIPTION:The vision of Vita Nova is to bring communities together around good coffee\, delicacies and various entertainment!
URL:https://864foodtrucks.com/event/vita-nova-511-conestee-rd/2025-11-08/
LOCATION:511 Conestee Rd\, 511 Conestee Rd\, Greenville\, South Carolina
CATEGORIES:Food Truck Schedules,Greenville
ATTACH;FMTTYPE=image/jpeg:https://864foodtrucks.com/wp-content/uploads/2023/06/Vita-Nova-2.jpg
ORGANIZER;CN="Vita Nova Coffee And Tea":MAILTO:Vitanova3710@gmail.com
GEO:34.768332;-82.3524817
X-APPLE-STRUCTURED-LOCATION;VALUE=URI;X-ADDRESS=511 Conestee Rd 511 Conestee Rd Greenville South Carolina;X-APPLE-RADIUS=500;X-TITLE=511 Conestee Rd:geo:-82.3524817,34.768332
END:VEVENT
BEGIN:VEVENT
DTSTART;TZID=America/New_York:20251107T063000
DTEND;TZID=America/New_York:20251107T120000
DTSTAMP:20260424T022104
CREATED:20250701T192107Z
LAST-MODIFIED:20250701T192107Z
UID:55881-1762497000-1762516800@864foodtrucks.com
SUMMARY:Vita Nova @ 511 Conestee Rd
DESCRIPTION:The vision of Vita Nova is to bring communities together around good coffee\, delicacies and various entertainment!
URL:https://864foodtrucks.com/event/vita-nova-511-conestee-rd/2025-11-07/
LOCATION:511 Conestee Rd\, 511 Conestee Rd\, Greenville\, South Carolina
CATEGORIES:Food Truck Schedules,Greenville
ATTACH;FMTTYPE=image/jpeg:https://864foodtrucks.com/wp-content/uploads/2023/06/Vita-Nova-2.jpg
ORGANIZER;CN="Vita Nova Coffee And Tea":MAILTO:Vitanova3710@gmail.com
GEO:34.768332;-82.3524817
X-APPLE-STRUCTURED-LOCATION;VALUE=URI;X-ADDRESS=511 Conestee Rd 511 Conestee Rd Greenville South Carolina;X-APPLE-RADIUS=500;X-TITLE=511 Conestee Rd:geo:-82.3524817,34.768332
END:VEVENT
BEGIN:VEVENT
DTSTART;TZID=America/New_York:20251106T063000
DTEND;TZID=America/New_York:20251106T120000
DTSTAMP:20260424T022104
CREATED:20250701T192107Z
LAST-MODIFIED:20250701T192107Z
UID:55880-1762410600-1762430400@864foodtrucks.com
SUMMARY:Vita Nova @ 511 Conestee Rd
DESCRIPTION:The vision of Vita Nova is to bring communities together around good coffee\, delicacies and various entertainment!
URL:https://864foodtrucks.com/event/vita-nova-511-conestee-rd/2025-11-06/
LOCATION:511 Conestee Rd\, 511 Conestee Rd\, Greenville\, South Carolina
CATEGORIES:Food Truck Schedules,Greenville
ATTACH;FMTTYPE=image/jpeg:https://864foodtrucks.com/wp-content/uploads/2023/06/Vita-Nova-2.jpg
ORGANIZER;CN="Vita Nova Coffee And Tea":MAILTO:Vitanova3710@gmail.com
GEO:34.768332;-82.3524817
X-APPLE-STRUCTURED-LOCATION;VALUE=URI;X-ADDRESS=511 Conestee Rd 511 Conestee Rd Greenville South Carolina;X-APPLE-RADIUS=500;X-TITLE=511 Conestee Rd:geo:-82.3524817,34.768332
END:VEVENT
BEGIN:VEVENT
DTSTART;TZID=America/New_York:20251105T063000
DTEND;TZID=America/New_York:20251105T120000
DTSTAMP:20260424T022104
CREATED:20250701T192107Z
LAST-MODIFIED:20250701T192107Z
UID:55879-1762324200-1762344000@864foodtrucks.com
SUMMARY:Vita Nova @ 511 Conestee Rd
DESCRIPTION:The vision of Vita Nova is to bring communities together around good coffee\, delicacies and various entertainment!
URL:https://864foodtrucks.com/event/vita-nova-511-conestee-rd/2025-11-05/
LOCATION:511 Conestee Rd\, 511 Conestee Rd\, Greenville\, South Carolina
CATEGORIES:Food Truck Schedules,Greenville
ATTACH;FMTTYPE=image/jpeg:https://864foodtrucks.com/wp-content/uploads/2023/06/Vita-Nova-2.jpg
ORGANIZER;CN="Vita Nova Coffee And Tea":MAILTO:Vitanova3710@gmail.com
GEO:34.768332;-82.3524817
X-APPLE-STRUCTURED-LOCATION;VALUE=URI;X-ADDRESS=511 Conestee Rd 511 Conestee Rd Greenville South Carolina;X-APPLE-RADIUS=500;X-TITLE=511 Conestee Rd:geo:-82.3524817,34.768332
END:VEVENT
BEGIN:VEVENT
DTSTART;TZID=America/New_York:20251104T063000
DTEND;TZID=America/New_York:20251104T120000
DTSTAMP:20260424T022104
CREATED:20250701T192107Z
LAST-MODIFIED:20250701T192107Z
UID:55878-1762237800-1762257600@864foodtrucks.com
SUMMARY:Vita Nova @ 511 Conestee Rd
DESCRIPTION:The vision of Vita Nova is to bring communities together around good coffee\, delicacies and various entertainment!
URL:https://864foodtrucks.com/event/vita-nova-511-conestee-rd/2025-11-04/
LOCATION:511 Conestee Rd\, 511 Conestee Rd\, Greenville\, South Carolina
CATEGORIES:Food Truck Schedules,Greenville
ATTACH;FMTTYPE=image/jpeg:https://864foodtrucks.com/wp-content/uploads/2023/06/Vita-Nova-2.jpg
ORGANIZER;CN="Vita Nova Coffee And Tea":MAILTO:Vitanova3710@gmail.com
GEO:34.768332;-82.3524817
X-APPLE-STRUCTURED-LOCATION;VALUE=URI;X-ADDRESS=511 Conestee Rd 511 Conestee Rd Greenville South Carolina;X-APPLE-RADIUS=500;X-TITLE=511 Conestee Rd:geo:-82.3524817,34.768332
END:VEVENT
BEGIN:VEVENT
DTSTART;TZID=America/New_York:20251101T063000
DTEND;TZID=America/New_York:20251101T120000
DTSTAMP:20260424T022104
CREATED:20250701T192107Z
LAST-MODIFIED:20251103T142527Z
UID:55721-1761978600-1761998400@864foodtrucks.com
SUMMARY:Vita Nova @ 511 Conestee Rd
DESCRIPTION:The vision of Vita Nova is to bring communities together around good coffee\, delicacies and various entertainment!
URL:https://864foodtrucks.com/event/vita-nova-511-conestee-rd/2025-11-01/
LOCATION:511 Conestee Rd\, 511 Conestee Rd\, Greenville\, South Carolina
CATEGORIES:Food Truck Schedules,Greenville
ATTACH;FMTTYPE=image/jpeg:https://864foodtrucks.com/wp-content/uploads/2023/06/Vita-Nova-2.jpg
ORGANIZER;CN="Vita Nova Coffee And Tea":MAILTO:Vitanova3710@gmail.com
GEO:34.768332;-82.3524817
X-APPLE-STRUCTURED-LOCATION;VALUE=URI;X-ADDRESS=511 Conestee Rd 511 Conestee Rd Greenville South Carolina;X-APPLE-RADIUS=500;X-TITLE=511 Conestee Rd:geo:-82.3524817,34.768332
END:VEVENT
BEGIN:VEVENT
DTSTART;TZID=America/New_York:20251031T063000
DTEND;TZID=America/New_York:20251031T120000
DTSTAMP:20260424T022104
CREATED:20250701T192107Z
LAST-MODIFIED:20251103T142527Z
UID:55720-1761892200-1761912000@864foodtrucks.com
SUMMARY:Vita Nova @ 511 Conestee Rd
DESCRIPTION:The vision of Vita Nova is to bring communities together around good coffee\, delicacies and various entertainment!
URL:https://864foodtrucks.com/event/vita-nova-511-conestee-rd/2025-10-31/
LOCATION:511 Conestee Rd\, 511 Conestee Rd\, Greenville\, South Carolina
CATEGORIES:Food Truck Schedules,Greenville
ATTACH;FMTTYPE=image/jpeg:https://864foodtrucks.com/wp-content/uploads/2023/06/Vita-Nova-2.jpg
ORGANIZER;CN="Vita Nova Coffee And Tea":MAILTO:Vitanova3710@gmail.com
GEO:34.768332;-82.3524817
X-APPLE-STRUCTURED-LOCATION;VALUE=URI;X-ADDRESS=511 Conestee Rd 511 Conestee Rd Greenville South Carolina;X-APPLE-RADIUS=500;X-TITLE=511 Conestee Rd:geo:-82.3524817,34.768332
END:VEVENT
BEGIN:VEVENT
DTSTART;TZID=America/New_York:20251030T063000
DTEND;TZID=America/New_York:20251030T120000
DTSTAMP:20260424T022104
CREATED:20250701T192107Z
LAST-MODIFIED:20251103T142527Z
UID:55719-1761805800-1761825600@864foodtrucks.com
SUMMARY:Vita Nova @ 511 Conestee Rd
DESCRIPTION:The vision of Vita Nova is to bring communities together around good coffee\, delicacies and various entertainment!
URL:https://864foodtrucks.com/event/vita-nova-511-conestee-rd/2025-10-30/
LOCATION:511 Conestee Rd\, 511 Conestee Rd\, Greenville\, South Carolina
CATEGORIES:Food Truck Schedules,Greenville
ATTACH;FMTTYPE=image/jpeg:https://864foodtrucks.com/wp-content/uploads/2023/06/Vita-Nova-2.jpg
ORGANIZER;CN="Vita Nova Coffee And Tea":MAILTO:Vitanova3710@gmail.com
GEO:34.768332;-82.3524817
X-APPLE-STRUCTURED-LOCATION;VALUE=URI;X-ADDRESS=511 Conestee Rd 511 Conestee Rd Greenville South Carolina;X-APPLE-RADIUS=500;X-TITLE=511 Conestee Rd:geo:-82.3524817,34.768332
END:VEVENT
BEGIN:VEVENT
DTSTART;TZID=America/New_York:20251029T063000
DTEND;TZID=America/New_York:20251029T120000
DTSTAMP:20260424T022104
CREATED:20250701T192107Z
LAST-MODIFIED:20251103T142526Z
UID:55718-1761719400-1761739200@864foodtrucks.com
SUMMARY:Vita Nova @ 511 Conestee Rd
DESCRIPTION:The vision of Vita Nova is to bring communities together around good coffee\, delicacies and various entertainment!
URL:https://864foodtrucks.com/event/vita-nova-511-conestee-rd/2025-10-29/
LOCATION:511 Conestee Rd\, 511 Conestee Rd\, Greenville\, South Carolina
CATEGORIES:Food Truck Schedules,Greenville
ATTACH;FMTTYPE=image/jpeg:https://864foodtrucks.com/wp-content/uploads/2023/06/Vita-Nova-2.jpg
ORGANIZER;CN="Vita Nova Coffee And Tea":MAILTO:Vitanova3710@gmail.com
GEO:34.768332;-82.3524817
X-APPLE-STRUCTURED-LOCATION;VALUE=URI;X-ADDRESS=511 Conestee Rd 511 Conestee Rd Greenville South Carolina;X-APPLE-RADIUS=500;X-TITLE=511 Conestee Rd:geo:-82.3524817,34.768332
END:VEVENT
BEGIN:VEVENT
DTSTART;TZID=America/New_York:20251028T063000
DTEND;TZID=America/New_York:20251028T120000
DTSTAMP:20260424T022104
CREATED:20250701T192107Z
LAST-MODIFIED:20251103T142526Z
UID:55717-1761633000-1761652800@864foodtrucks.com
SUMMARY:Vita Nova @ 511 Conestee Rd
DESCRIPTION:The vision of Vita Nova is to bring communities together around good coffee\, delicacies and various entertainment!
URL:https://864foodtrucks.com/event/vita-nova-511-conestee-rd/2025-10-28/
LOCATION:511 Conestee Rd\, 511 Conestee Rd\, Greenville\, South Carolina
CATEGORIES:Food Truck Schedules,Greenville
ATTACH;FMTTYPE=image/jpeg:https://864foodtrucks.com/wp-content/uploads/2023/06/Vita-Nova-2.jpg
ORGANIZER;CN="Vita Nova Coffee And Tea":MAILTO:Vitanova3710@gmail.com
GEO:34.768332;-82.3524817
X-APPLE-STRUCTURED-LOCATION;VALUE=URI;X-ADDRESS=511 Conestee Rd 511 Conestee Rd Greenville South Carolina;X-APPLE-RADIUS=500;X-TITLE=511 Conestee Rd:geo:-82.3524817,34.768332
END:VEVENT
BEGIN:VEVENT
DTSTART;TZID=America/New_York:20251023T063000
DTEND;TZID=America/New_York:20251023T120000
DTSTAMP:20260424T022104
CREATED:20250701T192107Z
LAST-MODIFIED:20251103T142523Z
UID:55716-1761201000-1761220800@864foodtrucks.com
SUMMARY:Vita Nova @ 511 Conestee Rd
DESCRIPTION:The vision of Vita Nova is to bring communities together around good coffee\, delicacies and various entertainment!
URL:https://864foodtrucks.com/event/vita-nova-511-conestee-rd/2025-10-23/
LOCATION:511 Conestee Rd\, 511 Conestee Rd\, Greenville\, South Carolina
CATEGORIES:Food Truck Schedules,Greenville
ATTACH;FMTTYPE=image/jpeg:https://864foodtrucks.com/wp-content/uploads/2023/06/Vita-Nova-2.jpg
ORGANIZER;CN="Vita Nova Coffee And Tea":MAILTO:Vitanova3710@gmail.com
GEO:34.768332;-82.3524817
X-APPLE-STRUCTURED-LOCATION;VALUE=URI;X-ADDRESS=511 Conestee Rd 511 Conestee Rd Greenville South Carolina;X-APPLE-RADIUS=500;X-TITLE=511 Conestee Rd:geo:-82.3524817,34.768332
END:VEVENT
BEGIN:VEVENT
DTSTART;TZID=America/New_York:20251022T063000
DTEND;TZID=America/New_York:20251022T120000
DTSTAMP:20260424T022104
CREATED:20250701T192107Z
LAST-MODIFIED:20251103T142522Z
UID:55715-1761114600-1761134400@864foodtrucks.com
SUMMARY:Vita Nova @ 511 Conestee Rd
DESCRIPTION:The vision of Vita Nova is to bring communities together around good coffee\, delicacies and various entertainment!
URL:https://864foodtrucks.com/event/vita-nova-511-conestee-rd/2025-10-22/
LOCATION:511 Conestee Rd\, 511 Conestee Rd\, Greenville\, South Carolina
CATEGORIES:Food Truck Schedules,Greenville
ATTACH;FMTTYPE=image/jpeg:https://864foodtrucks.com/wp-content/uploads/2023/06/Vita-Nova-2.jpg
ORGANIZER;CN="Vita Nova Coffee And Tea":MAILTO:Vitanova3710@gmail.com
GEO:34.768332;-82.3524817
X-APPLE-STRUCTURED-LOCATION;VALUE=URI;X-ADDRESS=511 Conestee Rd 511 Conestee Rd Greenville South Carolina;X-APPLE-RADIUS=500;X-TITLE=511 Conestee Rd:geo:-82.3524817,34.768332
END:VEVENT
BEGIN:VEVENT
DTSTART;TZID=America/New_York:20251021T063000
DTEND;TZID=America/New_York:20251021T120000
DTSTAMP:20260424T022104
CREATED:20250701T192107Z
LAST-MODIFIED:20251103T142522Z
UID:55714-1761028200-1761048000@864foodtrucks.com
SUMMARY:Vita Nova @ 511 Conestee Rd
DESCRIPTION:The vision of Vita Nova is to bring communities together around good coffee\, delicacies and various entertainment!
URL:https://864foodtrucks.com/event/vita-nova-511-conestee-rd/2025-10-21/
LOCATION:511 Conestee Rd\, 511 Conestee Rd\, Greenville\, South Carolina
CATEGORIES:Food Truck Schedules,Greenville
ATTACH;FMTTYPE=image/jpeg:https://864foodtrucks.com/wp-content/uploads/2023/06/Vita-Nova-2.jpg
ORGANIZER;CN="Vita Nova Coffee And Tea":MAILTO:Vitanova3710@gmail.com
GEO:34.768332;-82.3524817
X-APPLE-STRUCTURED-LOCATION;VALUE=URI;X-ADDRESS=511 Conestee Rd 511 Conestee Rd Greenville South Carolina;X-APPLE-RADIUS=500;X-TITLE=511 Conestee Rd:geo:-82.3524817,34.768332
END:VEVENT
BEGIN:VEVENT
DTSTART;TZID=America/New_York:20251003T063000
DTEND;TZID=America/New_York:20251003T120000
DTSTAMP:20260424T022104
CREATED:20250701T192107Z
LAST-MODIFIED:20251103T142522Z
UID:55713-1759473000-1759492800@864foodtrucks.com
SUMMARY:Vita Nova @ 511 Conestee Rd
DESCRIPTION:The vision of Vita Nova is to bring communities together around good coffee\, delicacies and various entertainment!
URL:https://864foodtrucks.com/event/vita-nova-511-conestee-rd/2025-10-03/
LOCATION:511 Conestee Rd\, 511 Conestee Rd\, Greenville\, South Carolina
CATEGORIES:Food Truck Schedules,Greenville
ATTACH;FMTTYPE=image/jpeg:https://864foodtrucks.com/wp-content/uploads/2023/06/Vita-Nova-2.jpg
ORGANIZER;CN="Vita Nova Coffee And Tea":MAILTO:Vitanova3710@gmail.com
GEO:34.768332;-82.3524817
X-APPLE-STRUCTURED-LOCATION;VALUE=URI;X-ADDRESS=511 Conestee Rd 511 Conestee Rd Greenville South Carolina;X-APPLE-RADIUS=500;X-TITLE=511 Conestee Rd:geo:-82.3524817,34.768332
END:VEVENT
BEGIN:VEVENT
DTSTART;TZID=America/New_York:20251002T063000
DTEND;TZID=America/New_York:20251002T120000
DTSTAMP:20260424T022104
CREATED:20250701T192107Z
LAST-MODIFIED:20251103T142522Z
UID:55712-1759386600-1759406400@864foodtrucks.com
SUMMARY:Vita Nova @ 511 Conestee Rd
DESCRIPTION:The vision of Vita Nova is to bring communities together around good coffee\, delicacies and various entertainment!
URL:https://864foodtrucks.com/event/vita-nova-511-conestee-rd/2025-10-02/
LOCATION:511 Conestee Rd\, 511 Conestee Rd\, Greenville\, South Carolina
CATEGORIES:Food Truck Schedules,Greenville
ATTACH;FMTTYPE=image/jpeg:https://864foodtrucks.com/wp-content/uploads/2023/06/Vita-Nova-2.jpg
ORGANIZER;CN="Vita Nova Coffee And Tea":MAILTO:Vitanova3710@gmail.com
GEO:34.768332;-82.3524817
X-APPLE-STRUCTURED-LOCATION;VALUE=URI;X-ADDRESS=511 Conestee Rd 511 Conestee Rd Greenville South Carolina;X-APPLE-RADIUS=500;X-TITLE=511 Conestee Rd:geo:-82.3524817,34.768332
END:VEVENT
BEGIN:VEVENT
DTSTART;TZID=America/New_York:20251001T063000
DTEND;TZID=America/New_York:20251001T120000
DTSTAMP:20260424T022104
CREATED:20250701T192107Z
LAST-MODIFIED:20251103T142521Z
UID:55711-1759300200-1759320000@864foodtrucks.com
SUMMARY:Vita Nova @ 511 Conestee Rd
DESCRIPTION:The vision of Vita Nova is to bring communities together around good coffee\, delicacies and various entertainment!
URL:https://864foodtrucks.com/event/vita-nova-511-conestee-rd/2025-10-01/
LOCATION:511 Conestee Rd\, 511 Conestee Rd\, Greenville\, South Carolina
CATEGORIES:Food Truck Schedules,Greenville
ATTACH;FMTTYPE=image/jpeg:https://864foodtrucks.com/wp-content/uploads/2023/06/Vita-Nova-2.jpg
ORGANIZER;CN="Vita Nova Coffee And Tea":MAILTO:Vitanova3710@gmail.com
GEO:34.768332;-82.3524817
X-APPLE-STRUCTURED-LOCATION;VALUE=URI;X-ADDRESS=511 Conestee Rd 511 Conestee Rd Greenville South Carolina;X-APPLE-RADIUS=500;X-TITLE=511 Conestee Rd:geo:-82.3524817,34.768332
END:VEVENT
BEGIN:VEVENT
DTSTART;TZID=America/New_York:20250920T063000
DTEND;TZID=America/New_York:20250920T120000
DTSTAMP:20260424T022104
CREATED:20250701T192107Z
LAST-MODIFIED:20251103T142521Z
UID:55710-1758349800-1758369600@864foodtrucks.com
SUMMARY:Vita Nova @ 511 Conestee Rd
DESCRIPTION:The vision of Vita Nova is to bring communities together around good coffee\, delicacies and various entertainment!
URL:https://864foodtrucks.com/event/vita-nova-511-conestee-rd/2025-09-20/
LOCATION:511 Conestee Rd\, 511 Conestee Rd\, Greenville\, South Carolina
CATEGORIES:Food Truck Schedules,Greenville
ATTACH;FMTTYPE=image/jpeg:https://864foodtrucks.com/wp-content/uploads/2023/06/Vita-Nova-2.jpg
ORGANIZER;CN="Vita Nova Coffee And Tea":MAILTO:Vitanova3710@gmail.com
GEO:34.768332;-82.3524817
X-APPLE-STRUCTURED-LOCATION;VALUE=URI;X-ADDRESS=511 Conestee Rd 511 Conestee Rd Greenville South Carolina;X-APPLE-RADIUS=500;X-TITLE=511 Conestee Rd:geo:-82.3524817,34.768332
END:VEVENT
BEGIN:VEVENT
DTSTART;TZID=America/New_York:20250919T063000
DTEND;TZID=America/New_York:20250919T120000
DTSTAMP:20260424T022104
CREATED:20250701T192107Z
LAST-MODIFIED:20251103T142521Z
UID:55709-1758263400-1758283200@864foodtrucks.com
SUMMARY:Vita Nova @ 511 Conestee Rd
DESCRIPTION:The vision of Vita Nova is to bring communities together around good coffee\, delicacies and various entertainment!
URL:https://864foodtrucks.com/event/vita-nova-511-conestee-rd/2025-09-19/
LOCATION:511 Conestee Rd\, 511 Conestee Rd\, Greenville\, South Carolina
CATEGORIES:Food Truck Schedules,Greenville
ATTACH;FMTTYPE=image/jpeg:https://864foodtrucks.com/wp-content/uploads/2023/06/Vita-Nova-2.jpg
ORGANIZER;CN="Vita Nova Coffee And Tea":MAILTO:Vitanova3710@gmail.com
GEO:34.768332;-82.3524817
X-APPLE-STRUCTURED-LOCATION;VALUE=URI;X-ADDRESS=511 Conestee Rd 511 Conestee Rd Greenville South Carolina;X-APPLE-RADIUS=500;X-TITLE=511 Conestee Rd:geo:-82.3524817,34.768332
END:VEVENT
BEGIN:VEVENT
DTSTART;TZID=America/New_York:20250918T063000
DTEND;TZID=America/New_York:20250918T120000
DTSTAMP:20260424T022104
CREATED:20250701T192107Z
LAST-MODIFIED:20251103T142521Z
UID:55708-1758177000-1758196800@864foodtrucks.com
SUMMARY:Vita Nova @ 511 Conestee Rd
DESCRIPTION:The vision of Vita Nova is to bring communities together around good coffee\, delicacies and various entertainment!
URL:https://864foodtrucks.com/event/vita-nova-511-conestee-rd/2025-09-18/
LOCATION:511 Conestee Rd\, 511 Conestee Rd\, Greenville\, South Carolina
CATEGORIES:Food Truck Schedules,Greenville
ATTACH;FMTTYPE=image/jpeg:https://864foodtrucks.com/wp-content/uploads/2023/06/Vita-Nova-2.jpg
ORGANIZER;CN="Vita Nova Coffee And Tea":MAILTO:Vitanova3710@gmail.com
GEO:34.768332;-82.3524817
X-APPLE-STRUCTURED-LOCATION;VALUE=URI;X-ADDRESS=511 Conestee Rd 511 Conestee Rd Greenville South Carolina;X-APPLE-RADIUS=500;X-TITLE=511 Conestee Rd:geo:-82.3524817,34.768332
END:VEVENT
BEGIN:VEVENT
DTSTART;TZID=America/New_York:20250917T063000
DTEND;TZID=America/New_York:20250917T120000
DTSTAMP:20260424T022104
CREATED:20250701T192107Z
LAST-MODIFIED:20251103T142520Z
UID:55707-1758090600-1758110400@864foodtrucks.com
SUMMARY:Vita Nova @ 511 Conestee Rd
DESCRIPTION:The vision of Vita Nova is to bring communities together around good coffee\, delicacies and various entertainment!
URL:https://864foodtrucks.com/event/vita-nova-511-conestee-rd/2025-09-17/
LOCATION:511 Conestee Rd\, 511 Conestee Rd\, Greenville\, South Carolina
CATEGORIES:Food Truck Schedules,Greenville
ATTACH;FMTTYPE=image/jpeg:https://864foodtrucks.com/wp-content/uploads/2023/06/Vita-Nova-2.jpg
ORGANIZER;CN="Vita Nova Coffee And Tea":MAILTO:Vitanova3710@gmail.com
GEO:34.768332;-82.3524817
X-APPLE-STRUCTURED-LOCATION;VALUE=URI;X-ADDRESS=511 Conestee Rd 511 Conestee Rd Greenville South Carolina;X-APPLE-RADIUS=500;X-TITLE=511 Conestee Rd:geo:-82.3524817,34.768332
END:VEVENT
BEGIN:VEVENT
DTSTART;TZID=America/New_York:20250916T063000
DTEND;TZID=America/New_York:20250916T120000
DTSTAMP:20260424T022104
CREATED:20250701T192107Z
LAST-MODIFIED:20251103T142512Z
UID:55706-1758004200-1758024000@864foodtrucks.com
SUMMARY:Vita Nova @ 511 Conestee Rd
DESCRIPTION:The vision of Vita Nova is to bring communities together around good coffee\, delicacies and various entertainment!
URL:https://864foodtrucks.com/event/vita-nova-511-conestee-rd/2025-09-16/
LOCATION:511 Conestee Rd\, 511 Conestee Rd\, Greenville\, South Carolina
CATEGORIES:Food Truck Schedules,Greenville
ATTACH;FMTTYPE=image/jpeg:https://864foodtrucks.com/wp-content/uploads/2023/06/Vita-Nova-2.jpg
ORGANIZER;CN="Vita Nova Coffee And Tea":MAILTO:Vitanova3710@gmail.com
GEO:34.768332;-82.3524817
X-APPLE-STRUCTURED-LOCATION;VALUE=URI;X-ADDRESS=511 Conestee Rd 511 Conestee Rd Greenville South Carolina;X-APPLE-RADIUS=500;X-TITLE=511 Conestee Rd:geo:-82.3524817,34.768332
END:VEVENT
BEGIN:VEVENT
DTSTART;TZID=America/New_York:20250912T063000
DTEND;TZID=America/New_York:20250912T120000
DTSTAMP:20260424T022104
CREATED:20250701T192107Z
LAST-MODIFIED:20251103T142512Z
UID:55705-1757658600-1757678400@864foodtrucks.com
SUMMARY:Vita Nova @ 511 Conestee Rd
DESCRIPTION:The vision of Vita Nova is to bring communities together around good coffee\, delicacies and various entertainment!
URL:https://864foodtrucks.com/event/vita-nova-511-conestee-rd/2025-09-12/
LOCATION:511 Conestee Rd\, 511 Conestee Rd\, Greenville\, South Carolina
CATEGORIES:Food Truck Schedules,Greenville
ATTACH;FMTTYPE=image/jpeg:https://864foodtrucks.com/wp-content/uploads/2023/06/Vita-Nova-2.jpg
ORGANIZER;CN="Vita Nova Coffee And Tea":MAILTO:Vitanova3710@gmail.com
GEO:34.768332;-82.3524817
X-APPLE-STRUCTURED-LOCATION;VALUE=URI;X-ADDRESS=511 Conestee Rd 511 Conestee Rd Greenville South Carolina;X-APPLE-RADIUS=500;X-TITLE=511 Conestee Rd:geo:-82.3524817,34.768332
END:VEVENT
BEGIN:VEVENT
DTSTART;TZID=America/New_York:20250910T063000
DTEND;TZID=America/New_York:20250910T120000
DTSTAMP:20260424T022104
CREATED:20250701T192107Z
LAST-MODIFIED:20251103T142511Z
UID:55704-1757485800-1757505600@864foodtrucks.com
SUMMARY:Vita Nova @ 511 Conestee Rd
DESCRIPTION:The vision of Vita Nova is to bring communities together around good coffee\, delicacies and various entertainment!
URL:https://864foodtrucks.com/event/vita-nova-511-conestee-rd/2025-09-10/
LOCATION:511 Conestee Rd\, 511 Conestee Rd\, Greenville\, South Carolina
CATEGORIES:Food Truck Schedules,Greenville
ATTACH;FMTTYPE=image/jpeg:https://864foodtrucks.com/wp-content/uploads/2023/06/Vita-Nova-2.jpg
ORGANIZER;CN="Vita Nova Coffee And Tea":MAILTO:Vitanova3710@gmail.com
GEO:34.768332;-82.3524817
X-APPLE-STRUCTURED-LOCATION;VALUE=URI;X-ADDRESS=511 Conestee Rd 511 Conestee Rd Greenville South Carolina;X-APPLE-RADIUS=500;X-TITLE=511 Conestee Rd:geo:-82.3524817,34.768332
END:VEVENT
BEGIN:VEVENT
DTSTART;TZID=America/New_York:20250909T063000
DTEND;TZID=America/New_York:20250909T120000
DTSTAMP:20260424T022104
CREATED:20250701T192107Z
LAST-MODIFIED:20251103T142510Z
UID:55703-1757399400-1757419200@864foodtrucks.com
SUMMARY:Vita Nova @ 511 Conestee Rd
DESCRIPTION:The vision of Vita Nova is to bring communities together around good coffee\, delicacies and various entertainment!
URL:https://864foodtrucks.com/event/vita-nova-511-conestee-rd/2025-09-09/
LOCATION:511 Conestee Rd\, 511 Conestee Rd\, Greenville\, South Carolina
CATEGORIES:Food Truck Schedules,Greenville
ATTACH;FMTTYPE=image/jpeg:https://864foodtrucks.com/wp-content/uploads/2023/06/Vita-Nova-2.jpg
ORGANIZER;CN="Vita Nova Coffee And Tea":MAILTO:Vitanova3710@gmail.com
GEO:34.768332;-82.3524817
X-APPLE-STRUCTURED-LOCATION;VALUE=URI;X-ADDRESS=511 Conestee Rd 511 Conestee Rd Greenville South Carolina;X-APPLE-RADIUS=500;X-TITLE=511 Conestee Rd:geo:-82.3524817,34.768332
END:VEVENT
BEGIN:VEVENT
DTSTART;TZID=America/New_York:20250829T063000
DTEND;TZID=America/New_York:20250829T120000
DTSTAMP:20260424T022104
CREATED:20250701T192107Z
LAST-MODIFIED:20251103T142510Z
UID:55702-1756449000-1756468800@864foodtrucks.com
SUMMARY:Vita Nova @ 511 Conestee Rd
DESCRIPTION:The vision of Vita Nova is to bring communities together around good coffee\, delicacies and various entertainment!
URL:https://864foodtrucks.com/event/vita-nova-511-conestee-rd/2025-08-29/
LOCATION:511 Conestee Rd\, 511 Conestee Rd\, Greenville\, South Carolina
CATEGORIES:Food Truck Schedules,Greenville
ATTACH;FMTTYPE=image/jpeg:https://864foodtrucks.com/wp-content/uploads/2023/06/Vita-Nova-2.jpg
ORGANIZER;CN="Vita Nova Coffee And Tea":MAILTO:Vitanova3710@gmail.com
GEO:34.768332;-82.3524817
X-APPLE-STRUCTURED-LOCATION;VALUE=URI;X-ADDRESS=511 Conestee Rd 511 Conestee Rd Greenville South Carolina;X-APPLE-RADIUS=500;X-TITLE=511 Conestee Rd:geo:-82.3524817,34.768332
END:VEVENT
BEGIN:VEVENT
DTSTART;TZID=America/New_York:20250827T063000
DTEND;TZID=America/New_York:20250827T120000
DTSTAMP:20260424T022104
CREATED:20250701T192107Z
LAST-MODIFIED:20251103T142509Z
UID:55701-1756276200-1756296000@864foodtrucks.com
SUMMARY:Vita Nova @ 511 Conestee Rd
DESCRIPTION:The vision of Vita Nova is to bring communities together around good coffee\, delicacies and various entertainment!
URL:https://864foodtrucks.com/event/vita-nova-511-conestee-rd/2025-08-27/
LOCATION:511 Conestee Rd\, 511 Conestee Rd\, Greenville\, South Carolina
CATEGORIES:Food Truck Schedules,Greenville
ATTACH;FMTTYPE=image/jpeg:https://864foodtrucks.com/wp-content/uploads/2023/06/Vita-Nova-2.jpg
ORGANIZER;CN="Vita Nova Coffee And Tea":MAILTO:Vitanova3710@gmail.com
GEO:34.768332;-82.3524817
X-APPLE-STRUCTURED-LOCATION;VALUE=URI;X-ADDRESS=511 Conestee Rd 511 Conestee Rd Greenville South Carolina;X-APPLE-RADIUS=500;X-TITLE=511 Conestee Rd:geo:-82.3524817,34.768332
END:VEVENT
BEGIN:VEVENT
DTSTART;TZID=America/New_York:20250826T063000
DTEND;TZID=America/New_York:20250826T120000
DTSTAMP:20260424T022104
CREATED:20250701T192107Z
LAST-MODIFIED:20251103T142508Z
UID:55700-1756189800-1756209600@864foodtrucks.com
SUMMARY:Vita Nova @ 511 Conestee Rd
DESCRIPTION:The vision of Vita Nova is to bring communities together around good coffee\, delicacies and various entertainment!
URL:https://864foodtrucks.com/event/vita-nova-511-conestee-rd/2025-08-26/
LOCATION:511 Conestee Rd\, 511 Conestee Rd\, Greenville\, South Carolina
CATEGORIES:Food Truck Schedules,Greenville
ATTACH;FMTTYPE=image/jpeg:https://864foodtrucks.com/wp-content/uploads/2023/06/Vita-Nova-2.jpg
ORGANIZER;CN="Vita Nova Coffee And Tea":MAILTO:Vitanova3710@gmail.com
GEO:34.768332;-82.3524817
X-APPLE-STRUCTURED-LOCATION;VALUE=URI;X-ADDRESS=511 Conestee Rd 511 Conestee Rd Greenville South Carolina;X-APPLE-RADIUS=500;X-TITLE=511 Conestee Rd:geo:-82.3524817,34.768332
END:VEVENT
BEGIN:VEVENT
DTSTART;TZID=America/New_York:20250702T063000
DTEND;TZID=America/New_York:20250702T120000
DTSTAMP:20260424T022104
CREATED:20250701T192107Z
LAST-MODIFIED:20251103T142430Z
UID:49634-1751437800-1751457600@864foodtrucks.com
SUMMARY:Vita Nova @ 511 Conestee Rd
DESCRIPTION:The vision of Vita Nova is to bring communities together around good coffee\, delicacies and various entertainment!
URL:https://864foodtrucks.com/event/vita-nova-511-conestee-rd/2025-07-02/
LOCATION:511 Conestee Rd\, 511 Conestee Rd\, Greenville\, South Carolina
CATEGORIES:Food Truck Schedules,Greenville
ATTACH;FMTTYPE=image/jpeg:https://864foodtrucks.com/wp-content/uploads/2023/06/Vita-Nova-2.jpg
ORGANIZER;CN="Vita Nova Coffee And Tea":MAILTO:Vitanova3710@gmail.com
GEO:34.768332;-82.3524817
X-APPLE-STRUCTURED-LOCATION;VALUE=URI;X-ADDRESS=511 Conestee Rd 511 Conestee Rd Greenville South Carolina;X-APPLE-RADIUS=500;X-TITLE=511 Conestee Rd:geo:-82.3524817,34.768332
END:VEVENT
END:VCALENDAR