BEGIN:VCALENDAR
VERSION:2.0
PRODID:-//864 Food Trucks - ECPv6.15.20//NONSGML v1.0//EN
CALSCALE:GREGORIAN
METHOD:PUBLISH
X-WR-CALNAME:864 Food Trucks
X-ORIGINAL-URL:https://864foodtrucks.com
X-WR-CALDESC:Events for 864 Food Trucks
REFRESH-INTERVAL;VALUE=DURATION:PT1H
X-Robots-Tag:noindex
X-PUBLISHED-TTL:PT1H
BEGIN:VTIMEZONE
TZID:America/New_York
BEGIN:DAYLIGHT
TZOFFSETFROM:-0500
TZOFFSETTO:-0400
TZNAME:EDT
DTSTART:20250309T070000
END:DAYLIGHT
BEGIN:STANDARD
TZOFFSETFROM:-0400
TZOFFSETTO:-0500
TZNAME:EST
DTSTART:20251102T060000
END:STANDARD
BEGIN:DAYLIGHT
TZOFFSETFROM:-0500
TZOFFSETTO:-0400
TZNAME:EDT
DTSTART:20260308T070000
END:DAYLIGHT
BEGIN:STANDARD
TZOFFSETFROM:-0400
TZOFFSETTO:-0500
TZNAME:EST
DTSTART:20261101T060000
END:STANDARD
BEGIN:DAYLIGHT
TZOFFSETFROM:-0500
TZOFFSETTO:-0400
TZNAME:EDT
DTSTART:20270314T070000
END:DAYLIGHT
BEGIN:STANDARD
TZOFFSETFROM:-0400
TZOFFSETTO:-0500
TZNAME:EST
DTSTART:20271107T060000
END:STANDARD
END:VTIMEZONE
BEGIN:VEVENT
DTSTART;TZID=America/New_York:20260227T120000
DTEND;TZID=America/New_York:20260227T140000
DTSTAMP:20260424T045947
CREATED:20260222T203825Z
LAST-MODIFIED:20260222T203825Z
UID:60066-1772193600-1772200800@864foodtrucks.com
SUMMARY:Cinnabon @ Woodmont High School
DESCRIPTION:Cinnabon Food Truck Greenville
URL:https://864foodtrucks.com/event/cinnabon-woodmont-high-school-2/
LOCATION:Woodmont Middle School\, 325 N Flat Rock Rd\, Piedmont\, South Carolina
CATEGORIES:Food Truck Schedules,Greenville
ATTACH;FMTTYPE=image/jpeg:https://864foodtrucks.com/wp-content/uploads/2024/12/326870080_1829549937401559_2632445834433428235_n-2.jpg
ORGANIZER;CN="Cinnabon Greenville":MAILTO:info@hotbonssc.com
END:VEVENT
BEGIN:VEVENT
DTSTART;TZID=America/New_York:20260227T150000
DTEND;TZID=America/New_York:20260227T200000
DTSTAMP:20260424T045947
CREATED:20251215T234210Z
LAST-MODIFIED:20260308T194526Z
UID:60078-1772204400-1772222400@864foodtrucks.com
SUMMARY:Uncle Luke's @ Bottles Greenville
DESCRIPTION:Uncle Lukes LLC\nNamed after my Father\nBook for Job worksite’s Corporate lunches\, Churches\, Festivals\, Apartments buildings.
URL:https://864foodtrucks.com/event/uncle-lukes-bottles-greenville/2026-02-27/
LOCATION:Bottles Beverage Superstore\, 7 Milestone Plz\, Greenville\, South Carolina\, 29615
CATEGORIES:Food Truck Schedules,Greenville
ATTACH;FMTTYPE=image/jpeg:https://864foodtrucks.com/wp-content/uploads/2025/12/Uncle-Lukes.jpg
ORGANIZER;CN="Uncle Luke's":MAILTO:j.diggs864@gmail.com
GEO:34.8623675;-82.2700255
X-APPLE-STRUCTURED-LOCATION;VALUE=URI;X-ADDRESS=Bottles Beverage Superstore 7 Milestone Plz Greenville South Carolina 29615;X-APPLE-RADIUS=500;X-TITLE=7 Milestone Plz:geo:-82.2700255,34.8623675
END:VEVENT
BEGIN:VEVENT
DTSTART;TZID=America/New_York:20260227T170000
DTEND;TZID=America/New_York:20260227T190000
DTSTAMP:20260424T045947
CREATED:20260223T193628Z
LAST-MODIFIED:20260223T193628Z
UID:60125-1772211600-1772218800@864foodtrucks.com
SUMMARY:Churro Masters @ The Standard at Pinestone
DESCRIPTION:Delicious CHURROS made fresh!
URL:https://864foodtrucks.com/event/churro-masters-the-standard-at-pinestone-3/
LOCATION:The Standard at Pinestone\, 125 Pinestone Dr\, Traveler's Rest\, SC\, United States
CATEGORIES:Food Truck Schedules,Travelers Rest
ATTACH;FMTTYPE=image/jpeg:https://864foodtrucks.com/wp-content/uploads/2025/03/Churro-Masters.jpg
ORGANIZER;CN="Churro Masters":MAILTO:Churromastersemail@gmail.com
END:VEVENT
BEGIN:VEVENT
DTSTART;TZID=America/New_York:20260227T170000
DTEND;TZID=America/New_York:20260227T193000
DTSTAMP:20260424T045947
CREATED:20260223T200229Z
LAST-MODIFIED:20260223T200229Z
UID:60143-1772211600-1772220600@864foodtrucks.com
SUMMARY:Dos Bros @ Plain Elementary
DESCRIPTION:
URL:https://864foodtrucks.com/event/dos-bros-plain-elementary/
LOCATION:Plain Elementary\, 506 Neely Ferry Road\, Simpsonville\, South Carolina
CATEGORIES:Food Truck Schedules,Greenville,Simpsonville
ATTACH;FMTTYPE=image/jpeg:https://864foodtrucks.com/wp-content/uploads/2021/10/Dos-Bros-Tacos-Truck.jpg
ORGANIZER;CN="Dos Bros Tacos 864":MAILTO:jesusi86@yahoo.com
GEO:34.7315705;-82.2833849
X-APPLE-STRUCTURED-LOCATION;VALUE=URI;X-ADDRESS=Plain Elementary 506 Neely Ferry Road Simpsonville South Carolina;X-APPLE-RADIUS=500;X-TITLE=506 Neely Ferry Road:geo:-82.2833849,34.7315705
END:VEVENT
BEGIN:VEVENT
DTSTART;TZID=America/New_York:20260227T173000
DTEND;TZID=America/New_York:20260227T193000
DTSTAMP:20260424T045947
CREATED:20241028T001540Z
LAST-MODIFIED:20260420T123441Z
UID:60069-1772213400-1772220600@864foodtrucks.com
SUMMARY:The Noodle Lady @ Piney Mountain Bike Lounge
DESCRIPTION:Authentic Chinese dishes for catering and events. Artisan Noodles and 100% Natural. Check out here our events calendar in Greenville\, South Carolina. #TheNoodleLady
URL:https://864foodtrucks.com/event/the-noodle-lady-piney-mountain-bike-lounge-2/2026-02-27/
LOCATION:Piney Mountain Bike Lounge\, 20 Piney Mountain Rd\, Greenville\, South Carolina
CATEGORIES:Food Truck Schedules,Greenville
ATTACH;FMTTYPE=image/jpeg:https://864foodtrucks.com/wp-content/uploads/2023/07/Noodle-lady.jpg
ORGANIZER;CN="The Noodle Lady":MAILTO:thenoodlelady@yahoo.com
GEO:34.8913881;-82.373773
X-APPLE-STRUCTURED-LOCATION;VALUE=URI;X-ADDRESS=Piney Mountain Bike Lounge 20 Piney Mountain Rd Greenville South Carolina;X-APPLE-RADIUS=500;X-TITLE=20 Piney Mountain Rd:geo:-82.373773,34.8913881
END:VEVENT
BEGIN:VEVENT
DTSTART;TZID=America/New_York:20260227T173000
DTEND;TZID=America/New_York:20260227T200000
DTSTAMP:20260424T045947
CREATED:20250421T175652Z
LAST-MODIFIED:20260413T172303Z
UID:60133-1772213400-1772222400@864foodtrucks.com
SUMMARY:Island Sun @ The Community Tap
DESCRIPTION:Mobile Kitchen serving Caribbean Cuisine to the upstate\, SC\nCaterings\, pop ups\, and private dinners\nDm for more info
URL:https://864foodtrucks.com/event/island-sun-the-community-tap-2/2026-02-27/
LOCATION:The Community Tap\, 217 Wade Hampton Blvd\, Greenville\, South Carolina
CATEGORIES:Food Truck Schedules,Greenville
ATTACH;FMTTYPE=image/jpeg:https://864foodtrucks.com/wp-content/uploads/2023/07/IslandSun864.jpg
GEO:34.8625763;-82.3857613
X-APPLE-STRUCTURED-LOCATION;VALUE=URI;X-ADDRESS=The Community Tap 217 Wade Hampton Blvd Greenville South Carolina;X-APPLE-RADIUS=500;X-TITLE=217 Wade Hampton Blvd:geo:-82.3857613,34.8625763
END:VEVENT
BEGIN:VEVENT
DTSTART;TZID=America/New_York:20260227T173000
DTEND;TZID=America/New_York:20260227T200000
DTSTAMP:20260424T045947
CREATED:20250922T173736Z
LAST-MODIFIED:20260331T002818Z
UID:60120-1772213400-1772222400@864foodtrucks.com
SUMMARY:Lai Sushi Express @ Grateful Brew
DESCRIPTION:Roll into flavor at our food truck! Serving fresh\, hand-crafted sushi and bold Asian (Lai) fusion!
URL:https://864foodtrucks.com/event/lai-sushi-express-grateful-brew-3/2026-02-27/
LOCATION:Grateful Brew\, 501 S Pleasantburg Dr\, Greenville\, SC\, 29607\, United States
CATEGORIES:Food Truck Schedules,Greenville
ATTACH;FMTTYPE=image/jpeg:https://864foodtrucks.com/wp-content/uploads/2025/04/Lai-Sushi-Express.jpg
ORGANIZER;CN="Lai Sushi Express":MAILTO:Laisushiexpress@gmail.com
GEO:34.8292844;-82.36962
X-APPLE-STRUCTURED-LOCATION;VALUE=URI;X-ADDRESS=Grateful Brew 501 S Pleasantburg Dr Greenville SC 29607 United States;X-APPLE-RADIUS=500;X-TITLE=501 S Pleasantburg Dr:geo:-82.36962,34.8292844
END:VEVENT
END:VCALENDAR