BEGIN:VCALENDAR
VERSION:2.0
PRODID:-//864 Food Trucks - ECPv6.15.20//NONSGML v1.0//EN
CALSCALE:GREGORIAN
METHOD:PUBLISH
X-ORIGINAL-URL:https://864foodtrucks.com
X-WR-CALDESC:Events for 864 Food Trucks
REFRESH-INTERVAL;VALUE=DURATION:PT1H
X-Robots-Tag:noindex
X-PUBLISHED-TTL:PT1H
BEGIN:VTIMEZONE
TZID:America/New_York
BEGIN:DAYLIGHT
TZOFFSETFROM:-0500
TZOFFSETTO:-0400
TZNAME:EDT
DTSTART:20250309T070000
END:DAYLIGHT
BEGIN:STANDARD
TZOFFSETFROM:-0400
TZOFFSETTO:-0500
TZNAME:EST
DTSTART:20251102T060000
END:STANDARD
BEGIN:DAYLIGHT
TZOFFSETFROM:-0500
TZOFFSETTO:-0400
TZNAME:EDT
DTSTART:20260308T070000
END:DAYLIGHT
BEGIN:STANDARD
TZOFFSETFROM:-0400
TZOFFSETTO:-0500
TZNAME:EST
DTSTART:20261101T060000
END:STANDARD
BEGIN:DAYLIGHT
TZOFFSETFROM:-0500
TZOFFSETTO:-0400
TZNAME:EDT
DTSTART:20270314T070000
END:DAYLIGHT
BEGIN:STANDARD
TZOFFSETFROM:-0400
TZOFFSETTO:-0500
TZNAME:EST
DTSTART:20271107T060000
END:STANDARD
END:VTIMEZONE
BEGIN:VEVENT
DTSTART;TZID=America/New_York:20260301T110000
DTEND;TZID=America/New_York:20260301T140000
DTSTAMP:20260423T171242
CREATED:20260210T183042Z
LAST-MODIFIED:20260210T183042Z
UID:59637-1772362800-1772373600@864foodtrucks.com
SUMMARY:We Got the Beets @ Swamp Rabbit Cafe
DESCRIPTION:FOOD FOR ALL!\nPowered by love…and plants 🌱🌈\n📍 Greenville\, SC
URL:https://864foodtrucks.com/event/we-got-the-beets-swamp-rabbit-cafe/2026-03-01/
LOCATION:Swamp Rabbit Cafe\, 205 Cedar Lane Road\, Greenville\, South Carolina
CATEGORIES:Food Truck Schedules,Greenville
ATTACH;FMTTYPE=image/jpeg:https://864foodtrucks.com/wp-content/uploads/2023/10/We-Got-the-Beets.jpg
GEO:34.8694785;-82.4214201
X-APPLE-STRUCTURED-LOCATION;VALUE=URI;X-ADDRESS=Swamp Rabbit Cafe 205 Cedar Lane Road Greenville South Carolina;X-APPLE-RADIUS=500;X-TITLE=205 Cedar Lane Road:geo:-82.4214201,34.8694785
END:VEVENT
BEGIN:VEVENT
DTSTART;TZID=America/New_York:20260301T130000
DTEND;TZID=America/New_York:20260301T160000
DTSTAMP:20260423T171242
CREATED:20260223T195912Z
LAST-MODIFIED:20260223T195912Z
UID:60140-1772370000-1772380800@864foodtrucks.com
SUMMARY:Dos Bros @ Alliance Training Center
DESCRIPTION:
URL:https://864foodtrucks.com/event/dos-bros-alliance-training-center/
LOCATION:Alliance Training Center\, 117 Haywood Rd\, Greenville\, South Carolina
CATEGORIES:Food Truck Schedules,Greenville
ATTACH;FMTTYPE=image/jpeg:https://864foodtrucks.com/wp-content/uploads/2021/10/Dos-Bros-Tacos-Truck.jpg
ORGANIZER;CN="Dos Bros Tacos 864":MAILTO:jesusi86@yahoo.com
GEO:34.8370827;-82.3460367
X-APPLE-STRUCTURED-LOCATION;VALUE=URI;X-ADDRESS=Alliance Training Center 117 Haywood Rd Greenville South Carolina;X-APPLE-RADIUS=500;X-TITLE=117 Haywood Rd:geo:-82.3460367,34.8370827
END:VEVENT
END:VCALENDAR