BEGIN:VCALENDAR
VERSION:2.0
PRODID:-//864 Food Trucks - ECPv6.15.20//NONSGML v1.0//EN
CALSCALE:GREGORIAN
METHOD:PUBLISH
X-WR-CALNAME:864 Food Trucks
X-ORIGINAL-URL:https://864foodtrucks.com
X-WR-CALDESC:Events for 864 Food Trucks
REFRESH-INTERVAL;VALUE=DURATION:PT1H
X-Robots-Tag:noindex
X-PUBLISHED-TTL:PT1H
BEGIN:VTIMEZONE
TZID:America/New_York
BEGIN:DAYLIGHT
TZOFFSETFROM:-0500
TZOFFSETTO:-0400
TZNAME:EDT
DTSTART:20250309T070000
END:DAYLIGHT
BEGIN:STANDARD
TZOFFSETFROM:-0400
TZOFFSETTO:-0500
TZNAME:EST
DTSTART:20251102T060000
END:STANDARD
BEGIN:DAYLIGHT
TZOFFSETFROM:-0500
TZOFFSETTO:-0400
TZNAME:EDT
DTSTART:20260308T070000
END:DAYLIGHT
BEGIN:STANDARD
TZOFFSETFROM:-0400
TZOFFSETTO:-0500
TZNAME:EST
DTSTART:20261101T060000
END:STANDARD
BEGIN:DAYLIGHT
TZOFFSETFROM:-0500
TZOFFSETTO:-0400
TZNAME:EDT
DTSTART:20270314T070000
END:DAYLIGHT
BEGIN:STANDARD
TZOFFSETFROM:-0400
TZOFFSETTO:-0500
TZNAME:EST
DTSTART:20271107T060000
END:STANDARD
END:VTIMEZONE
BEGIN:VEVENT
DTSTART;TZID=America/New_York:20260311T070000
DTEND;TZID=America/New_York:20260311T130000
DTSTAMP:20260424T070245
CREATED:20251021T124207Z
LAST-MODIFIED:20260421T172857Z
UID:60472-1773212400-1773234000@864foodtrucks.com
SUMMARY:The Rolling Dough @ Greenwood Hobby Lobby
DESCRIPTION:
URL:https://864foodtrucks.com/event/the-rolling-dough-greenwood-hobby-lobby/2026-03-11/
LOCATION:Hobby Lobby Greenwood\, 315 By-Pass 72 NW\, Greenwood\, 29649
CATEGORIES:Food Truck Schedules,Greenwood
ATTACH;FMTTYPE=image/jpeg:https://864foodtrucks.com/wp-content/uploads/2021/05/The-Rolling-Dough-Company-Truck.jpg
ORGANIZER;CN="The Rolling Dough Company":MAILTO:therollingdoughco@yahoo.com
GEO:34.2096048;-82.1777896
X-APPLE-STRUCTURED-LOCATION;VALUE=URI;X-ADDRESS=Hobby Lobby Greenwood 315 By-Pass 72 NW Greenwood 29649;X-APPLE-RADIUS=500;X-TITLE=315 By-Pass 72 NW:geo:-82.1777896,34.2096048
END:VEVENT
BEGIN:VEVENT
DTSTART;TZID=America/New_York:20260311T110000
DTEND;TZID=America/New_York:20260311T130000
DTSTAMP:20260424T070245
CREATED:20251229T163638Z
LAST-MODIFIED:20260419T195226Z
UID:60424-1773226800-1773234000@864foodtrucks.com
SUMMARY:Simpell Sammies @ First Quality
DESCRIPTION:Simpell Sammies is open for business and ready to serve you flavorful and delicious sandwiches and hoagies.
URL:https://864foodtrucks.com/event/simpell-sammies-first-quality/2026-03-11/
LOCATION:First Quality\, 441 Masters Blvd\, Anderson\, South Carolina
CATEGORIES:Anderson,Food Truck Schedules
ATTACH;FMTTYPE=image/jpeg:https://864foodtrucks.com/wp-content/uploads/2023/06/Simpell-Sammies-Trailer.jpg
ORGANIZER;CN="Simpell Sammies":MAILTO:info@simpelltreats.com
GEO:34.455698;-82.6866798
X-APPLE-STRUCTURED-LOCATION;VALUE=URI;X-ADDRESS=First Quality 441 Masters Blvd Anderson South Carolina;X-APPLE-RADIUS=500;X-TITLE=441 Masters Blvd:geo:-82.6866798,34.455698
END:VEVENT
BEGIN:VEVENT
DTSTART;TZID=America/New_York:20260311T120000
DTEND;TZID=America/New_York:20260311T143000
DTSTAMP:20260424T070245
CREATED:20260202T232937Z
LAST-MODIFIED:20260202T232937Z
UID:60430-1773230400-1773239400@864foodtrucks.com
SUMMARY:Cinnabon @ Woodmont High School
DESCRIPTION:Cinnabon Food Truck Greenville
URL:https://864foodtrucks.com/event/cinnabon-woodmont-high-school/2026-03-11/
LOCATION:Woodmont Middle School\, 325 N Flat Rock Rd\, Piedmont\, South Carolina
CATEGORIES:Food Truck Schedules,Greenville
ATTACH;FMTTYPE=image/jpeg:https://864foodtrucks.com/wp-content/uploads/2024/12/326870080_1829549937401559_2632445834433428235_n-2.jpg
ORGANIZER;CN="Cinnabon Greenville":MAILTO:info@hotbonssc.com
END:VEVENT
BEGIN:VEVENT
DTSTART;TZID=America/New_York:20260311T170000
DTEND;TZID=America/New_York:20260311T190000
DTSTAMP:20260424T070245
CREATED:20251202T135723Z
LAST-MODIFIED:20251202T135723Z
UID:60467-1773248400-1773255600@864foodtrucks.com
SUMMARY:Boyos Burgers @ District West
DESCRIPTION:Asian fusion street food
URL:https://864foodtrucks.com/event/boyos-burgers-district-west/2026-03-11/
LOCATION:District West\, 101 Reedy View Dr\, Greenville\, SC\, United States
CATEGORIES:Food Truck Schedules,Greenville
ORGANIZER;CN="Boyos Burgers":MAILTO:boyosburgersandchips@gmail.com
END:VEVENT
BEGIN:VEVENT
DTSTART;TZID=America/New_York:20260311T173000
DTEND;TZID=America/New_York:20260311T173000
DTSTAMP:20260424T070245
CREATED:20260308T224350Z
LAST-MODIFIED:20260308T224350Z
UID:60412-1773250200-1773250200@864foodtrucks.com
SUMMARY:Uncle Luke's @ WineXpress
DESCRIPTION:Uncle Lukes LLC\nNamed after my Father\nBook for Job worksite’s Corporate lunches\, Churches\, Festivals\, Apartments buildings.
URL:https://864foodtrucks.com/event/uncle-lukes-winexpress-2/
LOCATION:WineXpress\, 202 Scuffletown Rd\, Simpsonville\, South Carolina
CATEGORIES:Food Truck Schedules,Simpsonville
ATTACH;FMTTYPE=image/jpeg:https://864foodtrucks.com/wp-content/uploads/2025/12/Uncle-Lukes.jpg
ORGANIZER;CN="Uncle Luke's":MAILTO:j.diggs864@gmail.com
GEO:34.8046736;-82.2292537
X-APPLE-STRUCTURED-LOCATION;VALUE=URI;X-ADDRESS=WineXpress 202 Scuffletown Rd Simpsonville South Carolina;X-APPLE-RADIUS=500;X-TITLE=202 Scuffletown Rd:geo:-82.2292537,34.8046736
END:VEVENT
BEGIN:VEVENT
DTSTART;TZID=America/New_York:20260311T173000
DTEND;TZID=America/New_York:20260311T193000
DTSTAMP:20260424T070245
CREATED:20240305T135715Z
LAST-MODIFIED:20240305T135715Z
UID:60422-1773250200-1773257400@864foodtrucks.com
SUMMARY:The Noodle Lady @ Trailside Verdae
DESCRIPTION:Authentic Chinese dishes for catering and events. Artisan Noodles and 100% Natural. Check out here our events calendar in Greenville\, South Carolina. #TheNoodleLady
URL:https://864foodtrucks.com/event/the-noodle-lady-trailside-verdae/2026-03-11/
LOCATION:Trailside Verdae Apartments\, 180 Woodruff Rd\, Greenville\, South Carolina
CATEGORIES:Food Truck Schedules,Greenville
ATTACH;FMTTYPE=image/jpeg:https://864foodtrucks.com/wp-content/uploads/2023/07/Noodle-lady.jpg
ORGANIZER;CN="The Noodle Lady":MAILTO:thenoodlelady@yahoo.com
GEO:34.8305244;-82.344078
X-APPLE-STRUCTURED-LOCATION;VALUE=URI;X-ADDRESS=Trailside Verdae Apartments 180 Woodruff Rd Greenville South Carolina;X-APPLE-RADIUS=500;X-TITLE=180 Woodruff Rd:geo:-82.344078,34.8305244
END:VEVENT
BEGIN:VEVENT
DTSTART;TZID=America/New_York:20260311T173000
DTEND;TZID=America/New_York:20260311T200000
DTSTAMP:20260424T070246
CREATED:20250217T194151Z
LAST-MODIFIED:20250217T194151Z
UID:60485-1773250200-1773259200@864foodtrucks.com
SUMMARY:One Eyed Donkey @ Grateful Brew
DESCRIPTION:#followthedonkey … ji-roz presents the one eyed donkey! fun take on some greek classics ~ on wheels!!! same quality\, same service\, same vibe as our brick and mortar just brought directly to you. Call or email us today to schedule our donkey.
URL:https://864foodtrucks.com/event/one-eyed-donkey-grateful-brew/2026-03-11/
LOCATION:Grateful Brew\, 501 S Pleasantburg Dr\, Greenville\, SC\, 29607\, United States
CATEGORIES:Food Truck Schedules,Greenville
ATTACH;FMTTYPE=image/jpeg:https://864foodtrucks.com/wp-content/uploads/2021/05/One-Eyed-Donkey-Food-Truck.jpg
GEO:34.8292844;-82.36962
X-APPLE-STRUCTURED-LOCATION;VALUE=URI;X-ADDRESS=Grateful Brew 501 S Pleasantburg Dr Greenville SC 29607 United States;X-APPLE-RADIUS=500;X-TITLE=501 S Pleasantburg Dr:geo:-82.36962,34.8292844
END:VEVENT
BEGIN:VEVENT
DTSTART;TZID=America/New_York:20260311T173000
DTEND;TZID=America/New_York:20260311T200000
DTSTAMP:20260424T070246
CREATED:20260126T000505Z
LAST-MODIFIED:20260216T004433Z
UID:59154-1773250200-1773259200@864foodtrucks.com
SUMMARY:The Salted Fry @ Piney Mountain Bike Lounge
DESCRIPTION:100% Gluten Free Food Trailer! Crispy Belgian style pommes frites loaded with your choice of savory toppings. Choose from multiple house made sauces and unique ketchup flavors!
URL:https://864foodtrucks.com/event/the-salted-fry-piney-mountain-bike-lounge/2026-03-11/
LOCATION:Piney Mountain Bike Lounge\, 20 Piney Mountain Rd\, Greenville\, South Carolina
CATEGORIES:Food Truck Schedules,Greenville
ATTACH;FMTTYPE=image/jpeg:https://864foodtrucks.com/wp-content/uploads/2025/05/The-Salted-Fry-1.jpg
ORGANIZER;CN="The Salted Fry":MAILTO:thesaltedfry@gmail.com
GEO:34.8913881;-82.373773
X-APPLE-STRUCTURED-LOCATION;VALUE=URI;X-ADDRESS=Piney Mountain Bike Lounge 20 Piney Mountain Rd Greenville South Carolina;X-APPLE-RADIUS=500;X-TITLE=20 Piney Mountain Rd:geo:-82.373773,34.8913881
END:VEVENT
END:VCALENDAR