BEGIN:VCALENDAR
VERSION:2.0
PRODID:-//864 Food Trucks - ECPv6.15.20//NONSGML v1.0//EN
CALSCALE:GREGORIAN
METHOD:PUBLISH
X-WR-CALNAME:864 Food Trucks
X-ORIGINAL-URL:https://864foodtrucks.com
X-WR-CALDESC:Events for 864 Food Trucks
REFRESH-INTERVAL;VALUE=DURATION:PT1H
X-Robots-Tag:noindex
X-PUBLISHED-TTL:PT1H
BEGIN:VTIMEZONE
TZID:America/New_York
BEGIN:DAYLIGHT
TZOFFSETFROM:-0500
TZOFFSETTO:-0400
TZNAME:EDT
DTSTART:20250309T070000
END:DAYLIGHT
BEGIN:STANDARD
TZOFFSETFROM:-0400
TZOFFSETTO:-0500
TZNAME:EST
DTSTART:20251102T060000
END:STANDARD
BEGIN:DAYLIGHT
TZOFFSETFROM:-0500
TZOFFSETTO:-0400
TZNAME:EDT
DTSTART:20260308T070000
END:DAYLIGHT
BEGIN:STANDARD
TZOFFSETFROM:-0400
TZOFFSETTO:-0500
TZNAME:EST
DTSTART:20261101T060000
END:STANDARD
BEGIN:DAYLIGHT
TZOFFSETFROM:-0500
TZOFFSETTO:-0400
TZNAME:EDT
DTSTART:20270314T070000
END:DAYLIGHT
BEGIN:STANDARD
TZOFFSETFROM:-0400
TZOFFSETTO:-0500
TZNAME:EST
DTSTART:20271107T060000
END:STANDARD
END:VTIMEZONE
BEGIN:VEVENT
DTSTART;TZID=America/New_York:20260313T093000
DTEND;TZID=America/New_York:20260313T143000
DTSTAMP:20260423T152339
CREATED:20260308T230708Z
LAST-MODIFIED:20260308T230708Z
UID:60436-1773394200-1773412200@864foodtrucks.com
SUMMARY:Cinnabon @ Dirt and Grit Farm Tulip Fest
DESCRIPTION:Cinnabon Food Truck Greenville
URL:https://864foodtrucks.com/event/cinnabon-dirt-and-grit-farm-tulip-fest/
LOCATION:Dirt and Grit Farm\, 3456 Harris Bridge Road\, Woodruff\, South Carolina
CATEGORIES:Food Truck Schedules,Woodruff
ATTACH;FMTTYPE=image/jpeg:https://864foodtrucks.com/wp-content/uploads/2024/12/326870080_1829549937401559_2632445834433428235_n-2.jpg
ORGANIZER;CN="Cinnabon Greenville":MAILTO:info@hotbonssc.com
GEO:34.6775572;-82.0672539
X-APPLE-STRUCTURED-LOCATION;VALUE=URI;X-ADDRESS=Dirt and Grit Farm 3456 Harris Bridge Road Woodruff South Carolina;X-APPLE-RADIUS=500;X-TITLE=3456 Harris Bridge Road:geo:-82.0672539,34.6775572
END:VEVENT
BEGIN:VEVENT
DTSTART;TZID=America/New_York:20260313T120000
DTEND;TZID=America/New_York:20260313T140000
DTSTAMP:20260423T152339
CREATED:20260309T221333Z
LAST-MODIFIED:20260309T221333Z
UID:60482-1773403200-1773410400@864foodtrucks.com
SUMMARY:Lai Sushi Express @ TruNorth Advisor
DESCRIPTION:Roll into flavor at our food truck! Serving fresh\, hand-crafted sushi and bold Asian (Lai) fusion!
URL:https://864foodtrucks.com/event/lai-sushi-express-trunorth-advisor/
LOCATION:TruNorth Advisor\, 501 River St Suite 101\, Greenville\, South Carolina
CATEGORIES:Food Truck Schedules,Greenville
ATTACH;FMTTYPE=image/jpeg:https://864foodtrucks.com/wp-content/uploads/2025/04/Lai-Sushi-Express.jpg
ORGANIZER;CN="Lai Sushi Express":MAILTO:Laisushiexpress@gmail.com
GEO:34.8495718;-82.4022589
X-APPLE-STRUCTURED-LOCATION;VALUE=URI;X-ADDRESS=TruNorth Advisor 501 River St Suite 101 Greenville South Carolina;X-APPLE-RADIUS=500;X-TITLE=501 River St Suite 101:geo:-82.4022589,34.8495718
END:VEVENT
BEGIN:VEVENT
DTSTART;TZID=America/New_York:20260313T120000
DTEND;TZID=America/New_York:20260313T150000
DTSTAMP:20260423T152339
CREATED:20260310T183441Z
LAST-MODIFIED:20260402T131803Z
UID:60520-1773403200-1773414000@864foodtrucks.com
SUMMARY:Dos Bros @ 701 Brookfield Parkway
DESCRIPTION:
URL:https://864foodtrucks.com/event/dos-bros-brookfield-parkway/2026-03-13/
LOCATION:201 Brookfield Pwy\, Brookfield Parkway 201\, Greenville\, South Carolina\, 29607\, United States
CATEGORIES:Food Truck Schedules,Greenville
ATTACH;FMTTYPE=image/jpeg:https://864foodtrucks.com/wp-content/uploads/2021/10/Dos-Bros-Tacos-Truck.jpg
ORGANIZER;CN="Dos Bros Tacos 864":MAILTO:jesusi86@yahoo.com
GEO:34.8095457;-82.2833655
X-APPLE-STRUCTURED-LOCATION;VALUE=URI;X-ADDRESS=201 Brookfield Pwy Brookfield Parkway 201 Greenville South Carolina 29607 United States;X-APPLE-RADIUS=500;X-TITLE=Brookfield Parkway 201:geo:-82.2833655,34.8095457
END:VEVENT
BEGIN:VEVENT
DTSTART;TZID=America/New_York:20260313T130000
DTEND;TZID=America/New_York:20260313T180000
DTSTAMP:20260423T152339
CREATED:20251215T234210Z
LAST-MODIFIED:20251215T234210Z
UID:60410-1773406800-1773424800@864foodtrucks.com
SUMMARY:Uncle Luke's @ Bottles Greenville
DESCRIPTION:Uncle Lukes LLC\nNamed after my Father\nBook for Job worksite’s Corporate lunches\, Churches\, Festivals\, Apartments buildings.
URL:https://864foodtrucks.com/event/uncle-lukes-bottles-greenville/2026-03-13/
LOCATION:Bottles Beverage Superstore\, 7 Milestone Plz\, Greenville\, South Carolina\, 29615
CATEGORIES:Food Truck Schedules,Greenville
ATTACH;FMTTYPE=image/jpeg:https://864foodtrucks.com/wp-content/uploads/2025/12/Uncle-Lukes.jpg
ORGANIZER;CN="Uncle Luke's":MAILTO:j.diggs864@gmail.com
GEO:34.8623675;-82.2700255
X-APPLE-STRUCTURED-LOCATION;VALUE=URI;X-ADDRESS=Bottles Beverage Superstore 7 Milestone Plz Greenville South Carolina 29615;X-APPLE-RADIUS=500;X-TITLE=7 Milestone Plz:geo:-82.2700255,34.8623675
END:VEVENT
BEGIN:VEVENT
DTSTART;TZID=America/New_York:20260313T160000
DTEND;TZID=America/New_York:20260313T200000
DTSTAMP:20260423T152339
CREATED:20241224T150028Z
LAST-MODIFIED:20260421T002917Z
UID:60489-1773417600-1773432000@864foodtrucks.com
SUMMARY:Boyos Burgers @ The Community Tap
DESCRIPTION:Specialty handmade burgers with homemade chips served by a family of food lovers.
URL:https://864foodtrucks.com/event/boyos-burgers-the-community-tap/2026-03-13/
LOCATION:The Community Tap\, 217 Wade Hampton Blvd\, Greenville\, South Carolina
CATEGORIES:Food Truck Schedules,Greenville
ATTACH;FMTTYPE=image/jpeg:https://864foodtrucks.com/wp-content/uploads/2024/12/Boyos-Burgers.jpg
ORGANIZER;CN="Boyos Burgers":MAILTO:boyosburgersandchips@gmail.com
GEO:34.8625763;-82.3857613
X-APPLE-STRUCTURED-LOCATION;VALUE=URI;X-ADDRESS=The Community Tap 217 Wade Hampton Blvd Greenville South Carolina;X-APPLE-RADIUS=500;X-TITLE=217 Wade Hampton Blvd:geo:-82.3857613,34.8625763
END:VEVENT
BEGIN:VEVENT
DTSTART;TZID=America/New_York:20260313T163000
DTEND;TZID=America/New_York:20260313T200000
DTSTAMP:20260423T152339
CREATED:20250922T191234Z
LAST-MODIFIED:20250922T191234Z
UID:60495-1773419400-1773432000@864foodtrucks.com
SUMMARY:Churro Masters @ Greer Alive
DESCRIPTION:Delicious CHURROS made fresh!
URL:https://864foodtrucks.com/event/churro-masters-greer-alive/2026-03-13/
LOCATION:Greer City Park\, 301 E Poinsett St\, Greer\, South Carolina
CATEGORIES:Food Truck Schedules,Greer
ATTACH;FMTTYPE=image/jpeg:https://864foodtrucks.com/wp-content/uploads/2025/03/Churro-Masters.jpg
ORGANIZER;CN="Churro Masters":MAILTO:Churromastersemail@gmail.com
GEO:34.9377066;-82.2230614
X-APPLE-STRUCTURED-LOCATION;VALUE=URI;X-ADDRESS=Greer City Park 301 E Poinsett St Greer South Carolina;X-APPLE-RADIUS=500;X-TITLE=301 E Poinsett St:geo:-82.2230614,34.9377066
END:VEVENT
BEGIN:VEVENT
DTSTART;TZID=America/New_York:20260313T163000
DTEND;TZID=America/New_York:20260313T200000
DTSTAMP:20260423T152339
CREATED:20251020T203039Z
LAST-MODIFIED:20251020T203039Z
UID:60493-1773419400-1773432000@864foodtrucks.com
SUMMARY:The Salted Fry @ Greer Alive
DESCRIPTION:100% Gluten Free Food Trailer! Crispy Belgian style pommes frites loaded with your choice of savory toppings. Choose from multiple house made sauces and unique ketchup flavors!
URL:https://864foodtrucks.com/event/greer-alive-the-salted-fry/2026-03-13/
LOCATION:Greer City Park\, 301 E Poinsett St\, Greer\, South Carolina
CATEGORIES:Food Truck Schedules,Greer
ATTACH;FMTTYPE=image/jpeg:https://864foodtrucks.com/wp-content/uploads/2025/05/The-Salted-Fry-1.jpg
ORGANIZER;CN="The Salted Fry":MAILTO:thesaltedfry@gmail.com
GEO:34.9377066;-82.2230614
X-APPLE-STRUCTURED-LOCATION;VALUE=URI;X-ADDRESS=Greer City Park 301 E Poinsett St Greer South Carolina;X-APPLE-RADIUS=500;X-TITLE=301 E Poinsett St:geo:-82.2230614,34.9377066
END:VEVENT
BEGIN:VEVENT
DTSTART;TZID=America/New_York:20260313T170000
DTEND;TZID=America/New_York:20260313T170000
DTSTAMP:20260423T152339
CREATED:20250324T131233Z
LAST-MODIFIED:20260316T232446Z
UID:60573-1773421200-1773421200@864foodtrucks.com
SUMMARY:Las Cazuelas @ Swamp Rabbit Brewery
DESCRIPTION:
URL:https://864foodtrucks.com/event/las-cazuelas-swamp-rabbit-brewery/2026-03-13/
LOCATION:Swamp Rabbit Brewery\, 26 S Main St\, Travelers Rest\, South Carolina
CATEGORIES:Food Truck Schedules,Travelers Rest
ATTACH;FMTTYPE=image/png:https://864foodtrucks.com/wp-content/uploads/2024/12/Las-Cazuelas.png
ORGANIZER;CN="Las Cazuelas":MAILTO:lascazuelascatering.llc@gmail.com
GEO:34.9670847;-82.4425017
X-APPLE-STRUCTURED-LOCATION;VALUE=URI;X-ADDRESS=Swamp Rabbit Brewery 26 S Main St Travelers Rest South Carolina;X-APPLE-RADIUS=500;X-TITLE=26 S Main St:geo:-82.4425017,34.9670847
END:VEVENT
BEGIN:VEVENT
DTSTART;TZID=America/New_York:20260313T170000
DTEND;TZID=America/New_York:20260313T200000
DTSTAMP:20260423T152339
CREATED:20260209T182849Z
LAST-MODIFIED:20260413T233552Z
UID:60497-1773421200-1773432000@864foodtrucks.com
SUMMARY:Fuel Foods @ Belton City Square
DESCRIPTION:Fuel Foods – Food Truck & Catering\nClean\, Unique & Delicious!\nLocated in Clemson & Upstate\, SC 📍\nBook Us for Events! Contact for More Info!
URL:https://864foodtrucks.com/event/fuel-foods-belton-city-square/2026-03-13/
LOCATION:City Square Belton\, 300 City Square\, Belton\, South Carolina
CATEGORIES:Belton,Food Truck Schedules
ATTACH;FMTTYPE=image/png:https://864foodtrucks.com/wp-content/uploads/2025/03/Fuel-Foods-.png
ORGANIZER;CN="Fuel Foods Food Truck":MAILTO:fuelfoods.truck@gmail.com
GEO:34.5228881;-82.4942948
X-APPLE-STRUCTURED-LOCATION;VALUE=URI;X-ADDRESS=City Square Belton 300 City Square Belton South Carolina;X-APPLE-RADIUS=500;X-TITLE=300 City Square:geo:-82.4942948,34.5228881
END:VEVENT
BEGIN:VEVENT
DTSTART;TZID=America/New_York:20260313T170000
DTEND;TZID=America/New_York:20260313T203000
DTSTAMP:20260423T152339
CREATED:20250217T183428Z
LAST-MODIFIED:20260412T192445Z
UID:60465-1773421200-1773433800@864foodtrucks.com
SUMMARY:Local Pie Pizza Co @ Grateful Brew
DESCRIPTION:
URL:https://864foodtrucks.com/event/local-pie-pizza-co-grateful-brew-6/2026-03-13/
LOCATION:Grateful Brew\, 501 S Pleasantburg Dr\, Greenville\, SC\, 29607\, United States
CATEGORIES:Food Truck Schedules,Greenville
ORGANIZER;CN="Local Pie Pizza Company":MAILTO:cory@localpiepizzacompany.com
GEO:34.8292844;-82.36962
X-APPLE-STRUCTURED-LOCATION;VALUE=URI;X-ADDRESS=Grateful Brew 501 S Pleasantburg Dr Greenville SC 29607 United States;X-APPLE-RADIUS=500;X-TITLE=501 S Pleasantburg Dr:geo:-82.36962,34.8292844
END:VEVENT
BEGIN:VEVENT
DTSTART;TZID=America/New_York:20260313T173000
DTEND;TZID=America/New_York:20260313T193000
DTSTAMP:20260423T152339
CREATED:20241028T001540Z
LAST-MODIFIED:20260420T123441Z
UID:60420-1773423000-1773430200@864foodtrucks.com
SUMMARY:The Noodle Lady @ Piney Mountain Bike Lounge
DESCRIPTION:Authentic Chinese dishes for catering and events. Artisan Noodles and 100% Natural. Check out here our events calendar in Greenville\, South Carolina. #TheNoodleLady
URL:https://864foodtrucks.com/event/the-noodle-lady-piney-mountain-bike-lounge-2/2026-03-13/
LOCATION:Piney Mountain Bike Lounge\, 20 Piney Mountain Rd\, Greenville\, South Carolina
CATEGORIES:Food Truck Schedules,Greenville
ATTACH;FMTTYPE=image/jpeg:https://864foodtrucks.com/wp-content/uploads/2023/07/Noodle-lady.jpg
ORGANIZER;CN="The Noodle Lady":MAILTO:thenoodlelady@yahoo.com
GEO:34.8913881;-82.373773
X-APPLE-STRUCTURED-LOCATION;VALUE=URI;X-ADDRESS=Piney Mountain Bike Lounge 20 Piney Mountain Rd Greenville South Carolina;X-APPLE-RADIUS=500;X-TITLE=20 Piney Mountain Rd:geo:-82.373773,34.8913881
END:VEVENT
END:VCALENDAR