BEGIN:VCALENDAR
VERSION:2.0
PRODID:-//864 Food Trucks - ECPv6.15.20//NONSGML v1.0//EN
CALSCALE:GREGORIAN
METHOD:PUBLISH
X-ORIGINAL-URL:https://864foodtrucks.com
X-WR-CALDESC:Events for 864 Food Trucks
REFRESH-INTERVAL;VALUE=DURATION:PT1H
X-Robots-Tag:noindex
X-PUBLISHED-TTL:PT1H
BEGIN:VTIMEZONE
TZID:America/New_York
BEGIN:DAYLIGHT
TZOFFSETFROM:-0500
TZOFFSETTO:-0400
TZNAME:EDT
DTSTART:20250309T070000
END:DAYLIGHT
BEGIN:STANDARD
TZOFFSETFROM:-0400
TZOFFSETTO:-0500
TZNAME:EST
DTSTART:20251102T060000
END:STANDARD
BEGIN:DAYLIGHT
TZOFFSETFROM:-0500
TZOFFSETTO:-0400
TZNAME:EDT
DTSTART:20260308T070000
END:DAYLIGHT
BEGIN:STANDARD
TZOFFSETFROM:-0400
TZOFFSETTO:-0500
TZNAME:EST
DTSTART:20261101T060000
END:STANDARD
BEGIN:DAYLIGHT
TZOFFSETFROM:-0500
TZOFFSETTO:-0400
TZNAME:EDT
DTSTART:20270314T070000
END:DAYLIGHT
BEGIN:STANDARD
TZOFFSETFROM:-0400
TZOFFSETTO:-0500
TZNAME:EST
DTSTART:20271107T060000
END:STANDARD
END:VTIMEZONE
BEGIN:VEVENT
DTSTART;TZID=America/New_York:20260320T070000
DTEND;TZID=America/New_York:20260320T120000
DTSTAMP:20260423T170358
CREATED:20250721T233654Z
LAST-MODIFIED:20260413T233451Z
UID:60740-1773990000-1774008000@864foodtrucks.com
SUMMARY:The Rolling Dough @ Big House Outpost
DESCRIPTION:
URL:https://864foodtrucks.com/event/the-rolling-dough-big-house-outpost/2026-03-20/
LOCATION:Big House Outpost\, 100 Greenville St #4\,\, Abbeville\, South Carolina
CATEGORIES:Abbeville,Food Truck Schedules
ATTACH;FMTTYPE=image/jpeg:https://864foodtrucks.com/wp-content/uploads/2021/05/The-Rolling-Dough-Company-Truck.jpg
ORGANIZER;CN="The Rolling Dough Company":MAILTO:therollingdoughco@yahoo.com
GEO:34.1808277;-82.3812485
X-APPLE-STRUCTURED-LOCATION;VALUE=URI;X-ADDRESS=Big House Outpost 100 Greenville St #4 Abbeville South Carolina;X-APPLE-RADIUS=500;X-TITLE=100 Greenville St #4\,:geo:-82.3812485,34.1808277
END:VEVENT
BEGIN:VEVENT
DTSTART;TZID=America/New_York:20260320T120000
DTEND;TZID=America/New_York:20260320T170000
DTSTAMP:20260423T170358
CREATED:20251211T171433Z
LAST-MODIFIED:20251211T171433Z
UID:60729-1774008000-1774026000@864foodtrucks.com
SUMMARY:Dos Bros @ Adidas Store
DESCRIPTION:
URL:https://864foodtrucks.com/event/dos-bros-adidas-store/2026-03-20/
LOCATION:Adidas Store\, 10 Quest Lane\, Greenville\, SC\, 29605\, United States
CATEGORIES:Food Truck Schedules,Greenville
ATTACH;FMTTYPE=image/jpeg:https://864foodtrucks.com/wp-content/uploads/2021/10/Dos-Bros-Tacos-Truck.jpg
ORGANIZER;CN="Dos Bros Tacos 864":MAILTO:jesusi86@yahoo.com
GEO:34.7906809;-82.4091423
X-APPLE-STRUCTURED-LOCATION;VALUE=URI;X-ADDRESS=Adidas Store 10 Quest Lane Greenville SC 29605 United States;X-APPLE-RADIUS=500;X-TITLE=10 Quest Lane:geo:-82.4091423,34.7906809
END:VEVENT
BEGIN:VEVENT
DTSTART;TZID=America/New_York:20260320T150000
DTEND;TZID=America/New_York:20260320T200000
DTSTAMP:20260423T170358
CREATED:20260105T004949Z
LAST-MODIFIED:20260413T195213Z
UID:60812-1774018800-1774036800@864foodtrucks.com
SUMMARY:Uncle Luke's @ GVL Wine and Spirits
DESCRIPTION:Uncle Lukes LLC\nNamed after my Father\nBook for Job worksite’s Corporate lunches\, Churches\, Festivals\, Apartments buildings.
URL:https://864foodtrucks.com/event/uncle-lukes-gvl-wine-and-spirits/2026-03-20/
LOCATION:GVL Wine & Spirits\, 4025 Kennett Pike\, Greenville\, South Carolina
CATEGORIES:Food Truck Schedules,Greenville
ATTACH;FMTTYPE=image/jpeg:https://864foodtrucks.com/wp-content/uploads/2025/12/Uncle-Lukes.jpg
ORGANIZER;CN="Uncle Luke's":MAILTO:j.diggs864@gmail.com
GEO:34.8484984;-82.4000158
X-APPLE-STRUCTURED-LOCATION;VALUE=URI;X-ADDRESS=GVL Wine & Spirits 4025 Kennett Pike Greenville South Carolina;X-APPLE-RADIUS=500;X-TITLE=4025 Kennett Pike:geo:-82.4000158,34.8484984
END:VEVENT
BEGIN:VEVENT
DTSTART;TZID=America/New_York:20260320T160000
DTEND;TZID=America/New_York:20260320T220000
DTSTAMP:20260423T170358
CREATED:20260315T231938Z
LAST-MODIFIED:20260315T231938Z
UID:60693-1774022400-1774044000@864foodtrucks.com
SUMMARY:The Salted Fry @ Fan Fest
DESCRIPTION:100% Gluten Free Food Trailer! Crispy Belgian style pommes frites loaded with your choice of savory toppings. Choose from multiple house made sauces and unique ketchup flavors!
URL:https://864foodtrucks.com/event/the-salted-fry-fan-fest/
LOCATION:NOMA Square\, 220 N Main St\, Greenville\, South Carolina
CATEGORIES:Food Truck Schedules,Greenville
ATTACH;FMTTYPE=image/jpeg:https://864foodtrucks.com/wp-content/uploads/2025/05/The-Salted-Fry-1.jpg
ORGANIZER;CN="The Salted Fry":MAILTO:thesaltedfry@gmail.com
GEO:34.8529645;-82.3968802
X-APPLE-STRUCTURED-LOCATION;VALUE=URI;X-ADDRESS=NOMA Square 220 N Main St Greenville South Carolina;X-APPLE-RADIUS=500;X-TITLE=220 N Main St:geo:-82.3968802,34.8529645
END:VEVENT
BEGIN:VEVENT
DTSTART;TZID=America/New_York:20260320T170000
DTEND;TZID=America/New_York:20260320T193000
DTSTAMP:20260423T170358
CREATED:20240701T160253Z
LAST-MODIFIED:20240701T160253Z
UID:60688-1774026000-1774035000@864foodtrucks.com
SUMMARY:Local Pie Pizza Co @ Ellison On Broad
DESCRIPTION:Artisan Pizza Food Truck
URL:https://864foodtrucks.com/event/local-pie-pizza-co-ellison-on-broad/2026-03-20/
LOCATION:Ellison on Broad\, 212 E Broad St\, Greenville\, South Carolina
CATEGORIES:Food Truck Schedules,Greenville
ATTACH;FMTTYPE=image/png:https://864foodtrucks.com/wp-content/uploads/2022/01/Local-Pie.png
ORGANIZER;CN="Local Pie Pizza Company":MAILTO:cory@localpiepizzacompany.com
GEO:34.8456507;-82.3964566
X-APPLE-STRUCTURED-LOCATION;VALUE=URI;X-ADDRESS=Ellison on Broad 212 E Broad St Greenville South Carolina;X-APPLE-RADIUS=500;X-TITLE=212 E Broad St:geo:-82.3964566,34.8456507
END:VEVENT
BEGIN:VEVENT
DTSTART;TZID=America/New_York:20260320T170000
DTEND;TZID=America/New_York:20260320T200000
DTSTAMP:20260423T170358
CREATED:20260209T182849Z
LAST-MODIFIED:20260413T233552Z
UID:60778-1774026000-1774036800@864foodtrucks.com
SUMMARY:Fuel Foods @ Belton City Square
DESCRIPTION:Fuel Foods – Food Truck & Catering\nClean\, Unique & Delicious!\nLocated in Clemson & Upstate\, SC 📍\nBook Us for Events! Contact for More Info!
URL:https://864foodtrucks.com/event/fuel-foods-belton-city-square/2026-03-20/
LOCATION:City Square Belton\, 300 City Square\, Belton\, South Carolina
CATEGORIES:Belton,Food Truck Schedules
ATTACH;FMTTYPE=image/png:https://864foodtrucks.com/wp-content/uploads/2025/03/Fuel-Foods-.png
ORGANIZER;CN="Fuel Foods Food Truck":MAILTO:fuelfoods.truck@gmail.com
GEO:34.5228881;-82.4942948
X-APPLE-STRUCTURED-LOCATION;VALUE=URI;X-ADDRESS=City Square Belton 300 City Square Belton South Carolina;X-APPLE-RADIUS=500;X-TITLE=300 City Square:geo:-82.4942948,34.5228881
END:VEVENT
BEGIN:VEVENT
DTSTART;TZID=America/New_York:20260320T173000
DTEND;TZID=America/New_York:20260320T200000
DTSTAMP:20260423T170358
CREATED:20250922T173736Z
LAST-MODIFIED:20260331T002819Z
UID:60720-1774027800-1774036800@864foodtrucks.com
SUMMARY:Lai Sushi Express @ Grateful Brew
DESCRIPTION:Roll into flavor at our food truck! Serving fresh\, hand-crafted sushi and bold Asian (Lai) fusion!
URL:https://864foodtrucks.com/event/lai-sushi-express-grateful-brew-3/2026-03-20/
LOCATION:Grateful Brew\, 501 S Pleasantburg Dr\, Greenville\, SC\, 29607\, United States
CATEGORIES:Food Truck Schedules,Greenville
ATTACH;FMTTYPE=image/jpeg:https://864foodtrucks.com/wp-content/uploads/2025/04/Lai-Sushi-Express.jpg
ORGANIZER;CN="Lai Sushi Express":MAILTO:Laisushiexpress@gmail.com
GEO:34.8292844;-82.36962
X-APPLE-STRUCTURED-LOCATION;VALUE=URI;X-ADDRESS=Grateful Brew 501 S Pleasantburg Dr Greenville SC 29607 United States;X-APPLE-RADIUS=500;X-TITLE=501 S Pleasantburg Dr:geo:-82.36962,34.8292844
END:VEVENT
BEGIN:VEVENT
DTSTART;TZID=America/New_York:20260320T173000
DTEND;TZID=America/New_York:20260320T200000
DTSTAMP:20260423T170358
CREATED:20251110T202549Z
LAST-MODIFIED:20260413T172135Z
UID:60698-1774027800-1774036800@864foodtrucks.com
SUMMARY:The Noodle Lady @ The Community Tap
DESCRIPTION:Authentic Chinese dishes for catering and events. Artisan Noodles and 100% Natural. Check out here our events calendar in Greenville\, South Carolina. #TheNoodleLady
URL:https://864foodtrucks.com/event/the-noodle-lady-the-community-tap-6/2026-03-20/
LOCATION:The Community Tap\, 217 Wade Hampton Blvd\, Greenville\, South Carolina
CATEGORIES:Food Truck Schedules,Greenville
ATTACH;FMTTYPE=image/jpeg:https://864foodtrucks.com/wp-content/uploads/2023/07/Noodle-lady.jpg
ORGANIZER;CN="The Noodle Lady":MAILTO:thenoodlelady@yahoo.com
GEO:34.8625763;-82.3857613
X-APPLE-STRUCTURED-LOCATION;VALUE=URI;X-ADDRESS=The Community Tap 217 Wade Hampton Blvd Greenville South Carolina;X-APPLE-RADIUS=500;X-TITLE=217 Wade Hampton Blvd:geo:-82.3857613,34.8625763
END:VEVENT
END:VCALENDAR