BEGIN:VCALENDAR
VERSION:2.0
PRODID:-//864 Food Trucks - ECPv6.15.20//NONSGML v1.0//EN
CALSCALE:GREGORIAN
METHOD:PUBLISH
X-ORIGINAL-URL:https://864foodtrucks.com
X-WR-CALDESC:Events for 864 Food Trucks
REFRESH-INTERVAL;VALUE=DURATION:PT1H
X-Robots-Tag:noindex
X-PUBLISHED-TTL:PT1H
BEGIN:VTIMEZONE
TZID:America/New_York
BEGIN:DAYLIGHT
TZOFFSETFROM:-0500
TZOFFSETTO:-0400
TZNAME:EDT
DTSTART:20250309T070000
END:DAYLIGHT
BEGIN:STANDARD
TZOFFSETFROM:-0400
TZOFFSETTO:-0500
TZNAME:EST
DTSTART:20251102T060000
END:STANDARD
BEGIN:DAYLIGHT
TZOFFSETFROM:-0500
TZOFFSETTO:-0400
TZNAME:EDT
DTSTART:20260308T070000
END:DAYLIGHT
BEGIN:STANDARD
TZOFFSETFROM:-0400
TZOFFSETTO:-0500
TZNAME:EST
DTSTART:20261101T060000
END:STANDARD
BEGIN:DAYLIGHT
TZOFFSETFROM:-0500
TZOFFSETTO:-0400
TZNAME:EDT
DTSTART:20270314T070000
END:DAYLIGHT
BEGIN:STANDARD
TZOFFSETFROM:-0400
TZOFFSETTO:-0500
TZNAME:EST
DTSTART:20271107T060000
END:STANDARD
END:VTIMEZONE
BEGIN:VEVENT
DTSTART;TZID=America/New_York:20260324T073000
DTEND;TZID=America/New_York:20260324T090000
DTSTAMP:20260423T152415
CREATED:20250915T172654Z
LAST-MODIFIED:20250915T172654Z
UID:60959-1774337400-1774342800@864foodtrucks.com
SUMMARY:Cinnabon @ Encompass Health
DESCRIPTION:Cinnabon Food Truck Greenville
URL:https://864foodtrucks.com/event/cinnabon-encompass-health/2026-03-24/
LOCATION:Encompass Health\, 3372 Laurens Rd\, Greenville\, South Carolina
CATEGORIES:Food Truck Schedules,Greenville
ATTACH;FMTTYPE=image/jpeg:https://864foodtrucks.com/wp-content/uploads/2024/12/326870080_1829549937401559_2632445834433428235_n-2.jpg
ORGANIZER;CN="Cinnabon Greenville":MAILTO:info@hotbonssc.com
GEO:34.804786;-82.3264247
X-APPLE-STRUCTURED-LOCATION;VALUE=URI;X-ADDRESS=Encompass Health 3372 Laurens Rd Greenville South Carolina;X-APPLE-RADIUS=500;X-TITLE=3372 Laurens Rd:geo:-82.3264247,34.804786
END:VEVENT
BEGIN:VEVENT
DTSTART;TZID=America/New_York:20260324T110000
DTEND;TZID=America/New_York:20260324T130000
DTSTAMP:20260423T152415
CREATED:20251116T235758Z
LAST-MODIFIED:20260419T195248Z
UID:60950-1774350000-1774357200@864foodtrucks.com
SUMMARY:Simpell Sammies @ Borgwarner
DESCRIPTION:Simpell Sammies is open for business and ready to serve you flavorful and delicious sandwiches and hoagies.
URL:https://864foodtrucks.com/event/simpell-sammies-borgwarner-4/2026-03-24/
LOCATION:BorgWarner\, 15545 Wells Hwy\, Seneca
CATEGORIES:Food Truck Schedules,Seneca
ATTACH;FMTTYPE=image/jpeg:https://864foodtrucks.com/wp-content/uploads/2023/06/Simpell-Sammies-Trailer.jpg
ORGANIZER;CN="Simpell Sammies":MAILTO:info@simpelltreats.com
END:VEVENT
BEGIN:VEVENT
DTSTART;TZID=America/New_York:20260324T120000
DTEND;TZID=America/New_York:20260324T140000
DTSTAMP:20260423T152416
CREATED:20260323T204725Z
LAST-MODIFIED:20260406T201104Z
UID:60999-1774353600-1774360800@864foodtrucks.com
SUMMARY:Lai Sushi Express @ WHHS
DESCRIPTION:Roll into flavor at our food truck! Serving fresh\, hand-crafted sushi and bold Asian (Lai) fusion!
URL:https://864foodtrucks.com/event/lai-sushi-express-whhs/2026-03-24/
LOCATION:Wade Hampton High School\, 100 Pine Knoll Dr\, Greenville\, South Carolina
CATEGORIES:Food Truck Schedules,Greenville
ATTACH;FMTTYPE=image/jpeg:https://864foodtrucks.com/wp-content/uploads/2025/04/Lai-Sushi-Express.jpg
ORGANIZER;CN="Lai Sushi Express":MAILTO:Laisushiexpress@gmail.com
GEO:34.887119;-82.356348
X-APPLE-STRUCTURED-LOCATION;VALUE=URI;X-ADDRESS=Wade Hampton High School 100 Pine Knoll Dr Greenville South Carolina;X-APPLE-RADIUS=500;X-TITLE=100 Pine Knoll Dr:geo:-82.356348,34.887119
END:VEVENT
BEGIN:VEVENT
DTSTART;TZID=America/New_York:20260324T170000
DTEND;TZID=America/New_York:20260324T193000
DTSTAMP:20260423T152416
CREATED:20260323T202455Z
LAST-MODIFIED:20260323T202455Z
UID:60972-1774371600-1774380600@864foodtrucks.com
SUMMARY:Local Pie Pizza Co @ Hawthorn at Carlyle
DESCRIPTION:
URL:https://864foodtrucks.com/event/local-pie-pizza-co-hawthorn-at-carlyle/
LOCATION:Hawthorne at Carlisle\, 620 Halton Rd\, Greenville
CATEGORIES:Food Truck Schedules,Greenville
ATTACH;FMTTYPE=image/jpeg:https://864foodtrucks.com/wp-content/uploads/2021/12/Local-Pie-Pizza-3.jpg
ORGANIZER;CN="Local Pie Pizza Company":MAILTO:cory@localpiepizzacompany.com
END:VEVENT
BEGIN:VEVENT
DTSTART;TZID=America/New_York:20260324T170000
DTEND;TZID=America/New_York:20260324T210000
DTSTAMP:20260423T152416
CREATED:20251215T233217Z
LAST-MODIFIED:20260421T002841Z
UID:60946-1774371600-1774386000@864foodtrucks.com
SUMMARY:Uncle Luke's @ Community Tap
DESCRIPTION:Uncle Lukes LLC\nNamed after my Father\nBook for Job worksite’s Corporate lunches\, Churches\, Festivals\, Apartments buildings.
URL:https://864foodtrucks.com/event/uncle-lukes-community-tap/2026-03-24/
LOCATION:The Community Tap\, 217 Wade Hampton Blvd\, Greenville\, South Carolina
CATEGORIES:Food Truck Schedules,Greenville
ATTACH;FMTTYPE=image/jpeg:https://864foodtrucks.com/wp-content/uploads/2025/12/Uncle-Lukes.jpg
ORGANIZER;CN="Uncle Luke's":MAILTO:j.diggs864@gmail.com
GEO:34.8625763;-82.3857613
X-APPLE-STRUCTURED-LOCATION;VALUE=URI;X-ADDRESS=The Community Tap 217 Wade Hampton Blvd Greenville South Carolina;X-APPLE-RADIUS=500;X-TITLE=217 Wade Hampton Blvd:geo:-82.3857613,34.8625763
END:VEVENT
BEGIN:VEVENT
DTSTART;TZID=America/New_York:20260324T173000
DTEND;TZID=America/New_York:20260324T200000
DTSTAMP:20260423T152416
CREATED:20241218T192144Z
LAST-MODIFIED:20260406T220332Z
UID:60968-1774373400-1774382400@864foodtrucks.com
SUMMARY:Las Cazuelas @ Piney Mountain Bike Lounge
DESCRIPTION:864 748 3194 Text to place an order !\nClosed Sunday.
URL:https://864foodtrucks.com/event/las-cazuelas-piney-mountain-bike-lounge/2026-03-24/
LOCATION:Piney Mountain Bike Lounge\, 20 Piney Mountain Rd\, Greenville\, South Carolina
CATEGORIES:Food Truck Schedules,Greenville
ATTACH;FMTTYPE=image/png:https://864foodtrucks.com/wp-content/uploads/2024/12/Las-Cazuelas.png
ORGANIZER;CN="Las Cazuelas":MAILTO:lascazuelascatering.llc@gmail.com
GEO:34.8913881;-82.373773
X-APPLE-STRUCTURED-LOCATION;VALUE=URI;X-ADDRESS=Piney Mountain Bike Lounge 20 Piney Mountain Rd Greenville South Carolina;X-APPLE-RADIUS=500;X-TITLE=20 Piney Mountain Rd:geo:-82.373773,34.8913881
END:VEVENT
BEGIN:VEVENT
DTSTART;TZID=America/New_York:20260324T180000
DTEND;TZID=America/New_York:20260324T203000
DTSTAMP:20260423T152416
CREATED:20251110T205331Z
LAST-MODIFIED:20251110T205331Z
UID:60986-1774375200-1774384200@864foodtrucks.com
SUMMARY:Churro Masters @ CESA Spartanburg
DESCRIPTION:Delicious CHURROS made fresh!
URL:https://864foodtrucks.com/event/churro-masters-cesa-spartanburg/2026-03-24/
LOCATION:CESA Spartanburg\, 125 S Main St\, Duncan\, South Carolina
CATEGORIES:Duncan,Food Truck Schedules
ATTACH;FMTTYPE=image/jpeg:https://864foodtrucks.com/wp-content/uploads/2025/03/Churro-Masters.jpg
ORGANIZER;CN="Churro Masters":MAILTO:Churromastersemail@gmail.com
GEO:34.923101;-82.1042981
X-APPLE-STRUCTURED-LOCATION;VALUE=URI;X-ADDRESS=CESA Spartanburg 125 S Main St Duncan South Carolina;X-APPLE-RADIUS=500;X-TITLE=125 S Main St:geo:-82.1042981,34.923101
END:VEVENT
END:VCALENDAR