BEGIN:VCALENDAR
VERSION:2.0
PRODID:-//864 Food Trucks - ECPv6.15.20//NONSGML v1.0//EN
CALSCALE:GREGORIAN
METHOD:PUBLISH
X-WR-CALNAME:864 Food Trucks
X-ORIGINAL-URL:https://864foodtrucks.com
X-WR-CALDESC:Events for 864 Food Trucks
REFRESH-INTERVAL;VALUE=DURATION:PT1H
X-Robots-Tag:noindex
X-PUBLISHED-TTL:PT1H
BEGIN:VTIMEZONE
TZID:America/New_York
BEGIN:DAYLIGHT
TZOFFSETFROM:-0500
TZOFFSETTO:-0400
TZNAME:EDT
DTSTART:20250309T070000
END:DAYLIGHT
BEGIN:STANDARD
TZOFFSETFROM:-0400
TZOFFSETTO:-0500
TZNAME:EST
DTSTART:20251102T060000
END:STANDARD
BEGIN:DAYLIGHT
TZOFFSETFROM:-0500
TZOFFSETTO:-0400
TZNAME:EDT
DTSTART:20260308T070000
END:DAYLIGHT
BEGIN:STANDARD
TZOFFSETFROM:-0400
TZOFFSETTO:-0500
TZNAME:EST
DTSTART:20261101T060000
END:STANDARD
BEGIN:DAYLIGHT
TZOFFSETFROM:-0500
TZOFFSETTO:-0400
TZNAME:EDT
DTSTART:20270314T070000
END:DAYLIGHT
BEGIN:STANDARD
TZOFFSETFROM:-0400
TZOFFSETTO:-0500
TZNAME:EST
DTSTART:20271107T060000
END:STANDARD
END:VTIMEZONE
BEGIN:VEVENT
DTSTART;TZID=America/New_York:20260328T083000
DTEND;TZID=America/New_York:20260328T083000
DTSTAMP:20260424T070331
CREATED:20250217T222338Z
LAST-MODIFIED:20260420T151400Z
UID:60984-1774686600-1774686600@864foodtrucks.com
SUMMARY:Scout's Doughnuts @ Grateful Brew
DESCRIPTION:Handcrafted 100 Layer Doughnuts\nMade in Greenville\, SC #SweeterTogether
URL:https://864foodtrucks.com/event/scouts-doughnuts-grateful-brew-2/2026-03-28/
LOCATION:Grateful Brew\, 501 S Pleasantburg Dr\, Greenville\, SC\, 29607\, United States
CATEGORIES:Food Truck Schedules,Greenville
ATTACH;FMTTYPE=image/jpeg:https://864foodtrucks.com/wp-content/uploads/2022/08/Scouts-Doughnuts-1.jpg
ORGANIZER;CN="Scouts Doughnuts":MAILTO:hello@scoutsdoughnuts.com
GEO:34.8292844;-82.36962
X-APPLE-STRUCTURED-LOCATION;VALUE=URI;X-ADDRESS=Grateful Brew 501 S Pleasantburg Dr Greenville SC 29607 United States;X-APPLE-RADIUS=500;X-TITLE=501 S Pleasantburg Dr:geo:-82.36962,34.8292844
END:VEVENT
BEGIN:VEVENT
DTSTART;TZID=America/New_York:20260328T090000
DTEND;TZID=America/New_York:20260328T140000
DTSTAMP:20260424T070331
CREATED:20251021T124207Z
LAST-MODIFIED:20260421T172859Z
UID:61010-1774688400-1774706400@864foodtrucks.com
SUMMARY:The Rolling Dough @ Greenwood Hobby Lobby
DESCRIPTION:
URL:https://864foodtrucks.com/event/the-rolling-dough-greenwood-hobby-lobby/2026-03-28/
LOCATION:Hobby Lobby Greenwood\, 315 By-Pass 72 NW\, Greenwood\, 29649
CATEGORIES:Food Truck Schedules,Greenwood
ATTACH;FMTTYPE=image/jpeg:https://864foodtrucks.com/wp-content/uploads/2021/05/The-Rolling-Dough-Company-Truck.jpg
ORGANIZER;CN="The Rolling Dough Company":MAILTO:therollingdoughco@yahoo.com
GEO:34.2096048;-82.1777896
X-APPLE-STRUCTURED-LOCATION;VALUE=URI;X-ADDRESS=Hobby Lobby Greenwood 315 By-Pass 72 NW Greenwood 29649;X-APPLE-RADIUS=500;X-TITLE=315 By-Pass 72 NW:geo:-82.1777896,34.2096048
END:VEVENT
BEGIN:VEVENT
DTSTART;TZID=America/New_York:20260328T100000
DTEND;TZID=America/New_York:20260328T140000
DTSTAMP:20260424T070331
CREATED:20260323T190412Z
LAST-MODIFIED:20260323T190412Z
UID:60954-1774692000-1774706400@864foodtrucks.com
SUMMARY:Simpell Sammies @ Forrest Fest
DESCRIPTION:Simpell Sammies is open for business and ready to serve you flavorful and delicious sandwiches and hoagies.
URL:https://864foodtrucks.com/event/simpell-sammies-forrest-fest/
LOCATION:Issaqueena Trailhead\, E Dam Rd\, Central\, South Carolina
CATEGORIES:Food Truck Schedules,Greenville
ATTACH;FMTTYPE=image/jpeg:https://864foodtrucks.com/wp-content/uploads/2023/06/Simpell-Sammies-Trailer.jpg
ORGANIZER;CN="Simpell Sammies":MAILTO:info@simpelltreats.com
GEO:34.736314;-82.853156
X-APPLE-STRUCTURED-LOCATION;VALUE=URI;X-ADDRESS=Issaqueena Trailhead E Dam Rd Central South Carolina;X-APPLE-RADIUS=500;X-TITLE=E Dam Rd:geo:-82.853156,34.736314
END:VEVENT
BEGIN:VEVENT
DTSTART;TZID=America/New_York:20260328T110000
DTEND;TZID=America/New_York:20260328T143000
DTSTAMP:20260424T070331
CREATED:20260323T204254Z
LAST-MODIFIED:20260323T204254Z
UID:60995-1774695600-1774708200@864foodtrucks.com
SUMMARY:Fuel Foods @ Emerge Church Easter Event
DESCRIPTION:Fuel Foods – Food Truck & Catering\nClean\, Unique & Delicious!\nLocated in Clemson & Upstate\, SC 📍\nBook Us for Events! Contact for More Info!
URL:https://864foodtrucks.com/event/fuel-foods-emerge-church-easter-event/
LOCATION:Emerge Church\, 13701 SC-20\, Belton\, South Carolina
CATEGORIES:Belton,Food Truck Schedules
ATTACH;FMTTYPE=image/png:https://864foodtrucks.com/wp-content/uploads/2025/03/Fuel-Foods-.png
ORGANIZER;CN="Fuel Foods Food Truck":MAILTO:fuelfoods.truck@gmail.com
GEO:34.5660738;-82.4892387
X-APPLE-STRUCTURED-LOCATION;VALUE=URI;X-ADDRESS=Emerge Church 13701 SC-20 Belton South Carolina;X-APPLE-RADIUS=500;X-TITLE=13701 SC-20:geo:-82.4892387,34.5660738
END:VEVENT
BEGIN:VEVENT
DTSTART;TZID=America/New_York:20260328T140000
DTEND;TZID=America/New_York:20260328T160000
DTSTAMP:20260424T070331
CREATED:20260323T201444Z
LAST-MODIFIED:20260323T201444Z
UID:60965-1774706400-1774713600@864foodtrucks.com
SUMMARY:Cinnabon @ Midway Bible Baptist Church
DESCRIPTION:Cinnabon Food Truck Greenville
URL:https://864foodtrucks.com/event/cinnabon-midway-bible-baptist-church/
LOCATION:Midway Bible Baptist Church\, 632 Spearman Rd\, Pelzer\, South Carolina
CATEGORIES:Food Truck Schedules,Greenville
ATTACH;FMTTYPE=image/jpeg:https://864foodtrucks.com/wp-content/uploads/2024/12/326870080_1829549937401559_2632445834433428235_n-2.jpg
ORGANIZER;CN="Cinnabon Greenville":MAILTO:info@hotbonssc.com
GEO:34.6591272;-82.5504636
X-APPLE-STRUCTURED-LOCATION;VALUE=URI;X-ADDRESS=Midway Bible Baptist Church 632 Spearman Rd Pelzer South Carolina;X-APPLE-RADIUS=500;X-TITLE=632 Spearman Rd:geo:-82.5504636,34.6591272
END:VEVENT
BEGIN:VEVENT
DTSTART;TZID=America/New_York:20260328T160000
DTEND;TZID=America/New_York:20260328T210000
DTSTAMP:20260424T070331
CREATED:20260323T185112Z
LAST-MODIFIED:20260323T185112Z
UID:60943-1774713600-1774731600@864foodtrucks.com
SUMMARY:The Noodle Lady @ Greer 150
DESCRIPTION:Authentic Chinese dishes for catering and events. Artisan Noodles and 100% Natural. Check out here our events calendar in Greenville\, South Carolina. #TheNoodleLady
URL:https://864foodtrucks.com/event/the-noodle-lady-greer-150/
LOCATION:Greer City Park\, 301 E Poinsett St\, Greer\, South Carolina
CATEGORIES:Food Truck Schedules,Greer
ATTACH;FMTTYPE=image/jpeg:https://864foodtrucks.com/wp-content/uploads/2023/07/Noodle-lady.jpg
ORGANIZER;CN="The Noodle Lady":MAILTO:thenoodlelady@yahoo.com
GEO:34.9377066;-82.2230614
X-APPLE-STRUCTURED-LOCATION;VALUE=URI;X-ADDRESS=Greer City Park 301 E Poinsett St Greer South Carolina;X-APPLE-RADIUS=500;X-TITLE=301 E Poinsett St:geo:-82.2230614,34.9377066
END:VEVENT
BEGIN:VEVENT
DTSTART;TZID=America/New_York:20260328T160000
DTEND;TZID=America/New_York:20260328T210000
DTSTAMP:20260424T070331
CREATED:20260323T192143Z
LAST-MODIFIED:20260323T192143Z
UID:60957-1774713600-1774731600@864foodtrucks.com
SUMMARY:The Salted Fry @ Greer150
DESCRIPTION:100% Gluten Free Food Trailer! Crispy Belgian style pommes frites loaded with your choice of savory toppings. Choose from multiple house made sauces and unique ketchup flavors!
URL:https://864foodtrucks.com/event/the-salted-fry-greer150/
LOCATION:Greer City Park\, 301 E Poinsett St\, Greer\, South Carolina
CATEGORIES:Food Truck Schedules,Greer
ATTACH;FMTTYPE=image/jpeg:https://864foodtrucks.com/wp-content/uploads/2025/05/The-Salted-Fry-1.jpg
ORGANIZER;CN="The Salted Fry":MAILTO:thesaltedfry@gmail.com
GEO:34.9377066;-82.2230614
X-APPLE-STRUCTURED-LOCATION;VALUE=URI;X-ADDRESS=Greer City Park 301 E Poinsett St Greer South Carolina;X-APPLE-RADIUS=500;X-TITLE=301 E Poinsett St:geo:-82.2230614,34.9377066
END:VEVENT
BEGIN:VEVENT
DTSTART;TZID=America/New_York:20260328T170000
DTEND;TZID=America/New_York:20260328T190000
DTSTAMP:20260424T070331
CREATED:20250303T142321Z
LAST-MODIFIED:20250303T142321Z
UID:60976-1774717200-1774724400@864foodtrucks.com
SUMMARY:Local Pie Pizza Co @ Orchard Farms
DESCRIPTION:
URL:https://864foodtrucks.com/event/local-pie-pizza-co-orchard-farms/2026-03-28/
LOCATION:Orchard Farms\, Simpsonville
CATEGORIES:Food Truck Schedules,Simpsonville
ATTACH;FMTTYPE=image/jpeg:https://864foodtrucks.com/wp-content/uploads/2021/12/Local-Pie-Pizza-3.jpg
ORGANIZER;CN="Local Pie Pizza Company":MAILTO:cory@localpiepizzacompany.com
GEO:34.7370639;-82.2542834
END:VEVENT
END:VCALENDAR