BEGIN:VCALENDAR
VERSION:2.0
PRODID:-//864 Food Trucks - ECPv6.15.20//NONSGML v1.0//EN
CALSCALE:GREGORIAN
METHOD:PUBLISH
X-ORIGINAL-URL:https://864foodtrucks.com
X-WR-CALDESC:Events for 864 Food Trucks
REFRESH-INTERVAL;VALUE=DURATION:PT1H
X-Robots-Tag:noindex
X-PUBLISHED-TTL:PT1H
BEGIN:VTIMEZONE
TZID:America/New_York
BEGIN:DAYLIGHT
TZOFFSETFROM:-0500
TZOFFSETTO:-0400
TZNAME:EDT
DTSTART:20250309T070000
END:DAYLIGHT
BEGIN:STANDARD
TZOFFSETFROM:-0400
TZOFFSETTO:-0500
TZNAME:EST
DTSTART:20251102T060000
END:STANDARD
BEGIN:DAYLIGHT
TZOFFSETFROM:-0500
TZOFFSETTO:-0400
TZNAME:EDT
DTSTART:20260308T070000
END:DAYLIGHT
BEGIN:STANDARD
TZOFFSETFROM:-0400
TZOFFSETTO:-0500
TZNAME:EST
DTSTART:20261101T060000
END:STANDARD
BEGIN:DAYLIGHT
TZOFFSETFROM:-0500
TZOFFSETTO:-0400
TZNAME:EDT
DTSTART:20270314T070000
END:DAYLIGHT
BEGIN:STANDARD
TZOFFSETFROM:-0400
TZOFFSETTO:-0500
TZNAME:EST
DTSTART:20271107T060000
END:STANDARD
END:VTIMEZONE
BEGIN:VEVENT
DTSTART;TZID=America/New_York:20260418T083000
DTEND;TZID=America/New_York:20260418T083000
DTSTAMP:20260423T135310
CREATED:20250217T222338Z
LAST-MODIFIED:20260420T151402Z
UID:61818-1776501000-1776501000@864foodtrucks.com
SUMMARY:Scout's Doughnuts @ Grateful Brew
DESCRIPTION:Handcrafted 100 Layer Doughnuts\nMade in Greenville\, SC #SweeterTogether
URL:https://864foodtrucks.com/event/scouts-doughnuts-grateful-brew-2/2026-04-18/
LOCATION:Grateful Brew\, 501 S Pleasantburg Dr\, Greenville\, SC\, 29607\, United States
CATEGORIES:Food Truck Schedules,Greenville
ATTACH;FMTTYPE=image/jpeg:https://864foodtrucks.com/wp-content/uploads/2022/08/Scouts-Doughnuts-1.jpg
ORGANIZER;CN="Scouts Doughnuts":MAILTO:hello@scoutsdoughnuts.com
GEO:34.8292844;-82.36962
X-APPLE-STRUCTURED-LOCATION;VALUE=URI;X-ADDRESS=Grateful Brew 501 S Pleasantburg Dr Greenville SC 29607 United States;X-APPLE-RADIUS=500;X-TITLE=501 S Pleasantburg Dr:geo:-82.36962,34.8292844
END:VEVENT
BEGIN:VEVENT
DTSTART;TZID=America/New_York:20260418T153000
DTEND;TZID=America/New_York:20260418T200000
DTSTAMP:20260423T135310
CREATED:20251215T233742Z
LAST-MODIFIED:20251215T233742Z
UID:61837-1776526200-1776542400@864foodtrucks.com
SUMMARY:Uncle Luke's @ Keg & Cellar
DESCRIPTION:Uncle Lukes LLC\nNamed after my Father\nBook for Job worksite’s Corporate lunches\, Churches\, Festivals\, Apartments buildings.
URL:https://864foodtrucks.com/event/uncle-lukes-keg-cellar/2026-04-18/
LOCATION:Keg & Cellar\, 5844 Reidville Rd\, Moore\, South Carolina
CATEGORIES:Food Truck Schedules,Moore
ATTACH;FMTTYPE=image/jpeg:https://864foodtrucks.com/wp-content/uploads/2025/12/Uncle-Lukes.jpg
ORGANIZER;CN="Uncle Luke's":MAILTO:j.diggs864@gmail.com
GEO:34.887628;-82.0648457
X-APPLE-STRUCTURED-LOCATION;VALUE=URI;X-ADDRESS=Keg & Cellar 5844 Reidville Rd Moore South Carolina;X-APPLE-RADIUS=500;X-TITLE=5844 Reidville Rd:geo:-82.0648457,34.887628
END:VEVENT
BEGIN:VEVENT
DTSTART;TZID=America/New_York:20260418T160000
DTEND;TZID=America/New_York:20260418T210000
DTSTAMP:20260423T135310
CREATED:20260412T193402Z
LAST-MODIFIED:20260412T193402Z
UID:61787-1776528000-1776546000@864foodtrucks.com
SUMMARY:The Noodle Lady @ Blues & Jazz Festival in Mauldin
DESCRIPTION:Authentic Chinese dishes for catering and events. Artisan Noodles and 100% Natural. Check out here our events calendar in Greenville\, South Carolina. #TheNoodleLady
URL:https://864foodtrucks.com/event/the-noodle-lady-blues-jazz-festival-in-mauldin/
LOCATION:Mauldin Cultural Center\, 101 E Butler Road\, Mauldin\, South Carolina
CATEGORIES:Food Truck Schedules,Mauldin
ATTACH;FMTTYPE=image/jpeg:https://864foodtrucks.com/wp-content/uploads/2023/07/Noodle-lady.jpg
ORGANIZER;CN="The Noodle Lady":MAILTO:thenoodlelady@yahoo.com
GEO:34.7796468;-82.3063956
X-APPLE-STRUCTURED-LOCATION;VALUE=URI;X-ADDRESS=Mauldin Cultural Center 101 E Butler Road Mauldin South Carolina;X-APPLE-RADIUS=500;X-TITLE=101 E Butler Road:geo:-82.3063956,34.7796468
END:VEVENT
BEGIN:VEVENT
DTSTART;TZID=America/New_York:20260418T170000
DTEND;TZID=America/New_York:20260418T200000
DTSTAMP:20260423T135310
CREATED:20250113T214946Z
LAST-MODIFIED:20250113T214946Z
UID:61820-1776531600-1776542400@864foodtrucks.com
SUMMARY:Las Cazuelas @ WineXpress
DESCRIPTION:
URL:https://864foodtrucks.com/event/las-cazuelas-winexpress/2026-04-18/
LOCATION:WineXpress\, 202 Scuffletown Rd\, Simpsonville\, South Carolina
CATEGORIES:Food Truck Schedules,Simpsonville
ATTACH;FMTTYPE=image/png:https://864foodtrucks.com/wp-content/uploads/2024/12/Las-Cazuelas.png
ORGANIZER;CN="Las Cazuelas":MAILTO:lascazuelascatering.llc@gmail.com
GEO:34.8046736;-82.2292537
X-APPLE-STRUCTURED-LOCATION;VALUE=URI;X-ADDRESS=WineXpress 202 Scuffletown Rd Simpsonville South Carolina;X-APPLE-RADIUS=500;X-TITLE=202 Scuffletown Rd:geo:-82.2292537,34.8046736
END:VEVENT
BEGIN:VEVENT
DTSTART;TZID=America/New_York:20260418T173000
DTEND;TZID=America/New_York:20260418T200000
DTSTAMP:20260423T135310
CREATED:20250421T183536Z
LAST-MODIFIED:20250421T183536Z
UID:61829-1776533400-1776542400@864foodtrucks.com
SUMMARY:Lai Sushi Express @ Community Tap
DESCRIPTION:Roll into flavor at our food truck! Serving fresh\, hand-crafted sushi and bold Asian (Lai) fusion!
URL:https://864foodtrucks.com/event/lai-sushi-express-community-tap/2026-04-18/
LOCATION:The Community tap\, 217 Wade Hampton Blvd\, Greenville\, SC\, 29609\, United States
CATEGORIES:Food Truck Schedules,Greenville
ATTACH;FMTTYPE=image/jpeg:https://864foodtrucks.com/wp-content/uploads/2025/04/Lai-Sushi-Express.jpg
ORGANIZER;CN="Lai Sushi Express":MAILTO:Laisushiexpress@gmail.com
GEO:34.8623218;-82.3858037
X-APPLE-STRUCTURED-LOCATION;VALUE=URI;X-ADDRESS=The Community tap 217 Wade Hampton Blvd Greenville SC 29609 United States;X-APPLE-RADIUS=500;X-TITLE=217 Wade Hampton Blvd:geo:-82.3858037,34.8623218
END:VEVENT
END:VCALENDAR