BEGIN:VCALENDAR
VERSION:2.0
PRODID:-//864 Food Trucks - ECPv6.15.20//NONSGML v1.0//EN
CALSCALE:GREGORIAN
METHOD:PUBLISH
X-WR-CALNAME:864 Food Trucks
X-ORIGINAL-URL:https://864foodtrucks.com
X-WR-CALDESC:Events for 864 Food Trucks
REFRESH-INTERVAL;VALUE=DURATION:PT1H
X-Robots-Tag:noindex
X-PUBLISHED-TTL:PT1H
BEGIN:VTIMEZONE
TZID:America/New_York
BEGIN:DAYLIGHT
TZOFFSETFROM:-0500
TZOFFSETTO:-0400
TZNAME:EDT
DTSTART:20250309T070000
END:DAYLIGHT
BEGIN:STANDARD
TZOFFSETFROM:-0400
TZOFFSETTO:-0500
TZNAME:EST
DTSTART:20251102T060000
END:STANDARD
BEGIN:DAYLIGHT
TZOFFSETFROM:-0500
TZOFFSETTO:-0400
TZNAME:EDT
DTSTART:20260308T070000
END:DAYLIGHT
BEGIN:STANDARD
TZOFFSETFROM:-0400
TZOFFSETTO:-0500
TZNAME:EST
DTSTART:20261101T060000
END:STANDARD
BEGIN:DAYLIGHT
TZOFFSETFROM:-0500
TZOFFSETTO:-0400
TZNAME:EDT
DTSTART:20270314T070000
END:DAYLIGHT
BEGIN:STANDARD
TZOFFSETFROM:-0400
TZOFFSETTO:-0500
TZNAME:EST
DTSTART:20271107T060000
END:STANDARD
END:VTIMEZONE
BEGIN:VEVENT
DTSTART;TZID=America/New_York:20260422T070000
DTEND;TZID=America/New_York:20260422T130000
DTSTAMP:20260423T121513
CREATED:20251021T124207Z
LAST-MODIFIED:20251021T124207Z
UID:62147-1776841200-1776862800@864foodtrucks.com
SUMMARY:The Rolling Dough @ Greenwood Hobby Lobby
DESCRIPTION:
URL:https://864foodtrucks.com/event/the-rolling-dough-greenwood-hobby-lobby/2026-04-22/
LOCATION:Hobby Lobby Greenwood\, 315 By-Pass 72 NW\, Greenwood\, 29649
CATEGORIES:Food Truck Schedules,Greenwood
ATTACH;FMTTYPE=image/jpeg:https://864foodtrucks.com/wp-content/uploads/2021/05/The-Rolling-Dough-Company-Truck.jpg
ORGANIZER;CN="The Rolling Dough Company":MAILTO:therollingdoughco@yahoo.com
GEO:34.2096048;-82.1777896
X-APPLE-STRUCTURED-LOCATION;VALUE=URI;X-ADDRESS=Hobby Lobby Greenwood 315 By-Pass 72 NW Greenwood 29649;X-APPLE-RADIUS=500;X-TITLE=315 By-Pass 72 NW:geo:-82.1777896,34.2096048
END:VEVENT
BEGIN:VEVENT
DTSTART;TZID=America/New_York:20260422T110000
DTEND;TZID=America/New_York:20260422T130000
DTSTAMP:20260423T121513
CREATED:20251229T163638Z
LAST-MODIFIED:20251229T163638Z
UID:62013-1776855600-1776862800@864foodtrucks.com
SUMMARY:Simpell Sammies @ First Quality
DESCRIPTION:Simpell Sammies is open for business and ready to serve you flavorful and delicious sandwiches and hoagies.
URL:https://864foodtrucks.com/event/simpell-sammies-first-quality/2026-04-22/
LOCATION:First Quality\, 441 Masters Blvd\, Anderson\, South Carolina
CATEGORIES:Anderson,Food Truck Schedules
ATTACH;FMTTYPE=image/jpeg:https://864foodtrucks.com/wp-content/uploads/2023/06/Simpell-Sammies-Trailer.jpg
ORGANIZER;CN="Simpell Sammies":MAILTO:info@simpelltreats.com
GEO:34.455698;-82.6866798
X-APPLE-STRUCTURED-LOCATION;VALUE=URI;X-ADDRESS=First Quality 441 Masters Blvd Anderson South Carolina;X-APPLE-RADIUS=500;X-TITLE=441 Masters Blvd:geo:-82.6866798,34.455698
END:VEVENT
BEGIN:VEVENT
DTSTART;TZID=America/New_York:20260422T110000
DTEND;TZID=America/New_York:20260422T153000
DTSTAMP:20260423T121513
CREATED:20260126T190100Z
LAST-MODIFIED:20260126T190100Z
UID:62056-1776855600-1776871800@864foodtrucks.com
SUMMARY:Cinnabon @ Spartanburg Medical Center
DESCRIPTION:Cinnabon Food Truck Greenville
URL:https://864foodtrucks.com/event/cinnabon-spartanburg-medical-center/2026-04-22/
LOCATION:Spartanburg Medical Center\, East Wood Street 101\, Spartanburg\, SC\, 29303\, United States
CATEGORIES:Food Truck Schedules,Spartanburg
ATTACH;FMTTYPE=image/jpeg:https://864foodtrucks.com/wp-content/uploads/2024/12/326870080_1829549937401559_2632445834433428235_n-2.jpg
ORGANIZER;CN="Cinnabon Greenville":MAILTO:info@hotbonssc.com
GEO:34.967042;-81.9385993
X-APPLE-STRUCTURED-LOCATION;VALUE=URI;X-ADDRESS=Spartanburg Medical Center East Wood Street 101 Spartanburg SC 29303 United States;X-APPLE-RADIUS=500;X-TITLE=East Wood Street 101:geo:-81.9385993,34.967042
END:VEVENT
BEGIN:VEVENT
DTSTART;TZID=America/New_York:20260422T170000
DTEND;TZID=America/New_York:20260422T193000
DTSTAMP:20260423T121513
CREATED:20240130T003124Z
LAST-MODIFIED:20240130T003124Z
UID:62049-1776877200-1776886200@864foodtrucks.com
SUMMARY:Local Pie Pizza Co @ Saddler's Ridge
DESCRIPTION:Artisan Pizza Food Truck
URL:https://864foodtrucks.com/event/local-pie-pizza-co-saddlers-ridge/2026-04-22/
LOCATION:Saddler’s Ridge Pool\, Harrison Bridge Rd\, Simpsonville\, SC\, United States
CATEGORIES:Food Truck Schedules,Simpsonville
ATTACH;FMTTYPE=image/jpeg:https://864foodtrucks.com/wp-content/uploads/2022/01/Local-Pie-Logo.jpg
ORGANIZER;CN="Local Pie Pizza Company":MAILTO:cory@localpiepizzacompany.com
END:VEVENT
BEGIN:VEVENT
DTSTART;TZID=America/New_York:20260422T170000
DTEND;TZID=America/New_York:20260422T200000
DTSTAMP:20260423T121513
CREATED:20250128T003151Z
LAST-MODIFIED:20250128T003151Z
UID:62151-1776877200-1776888000@864foodtrucks.com
SUMMARY:Fifi Hibachi @ Woodruff Manor
DESCRIPTION:
URL:https://864foodtrucks.com/event/fifi-hibachi-woodruff-manor/2026-04-22/
LOCATION:Woodruff Manor\, 1114 E Georgia Rd\, Woodruff\, South Carolina
CATEGORIES:Food Truck Schedules,Woodruff
ATTACH;FMTTYPE=image/jpeg:https://864foodtrucks.com/wp-content/uploads/2023/11/Fifis-Hibachi.jpg
GEO:34.7496008;-82.016773
X-APPLE-STRUCTURED-LOCATION;VALUE=URI;X-ADDRESS=Woodruff Manor 1114 E Georgia Rd Woodruff South Carolina;X-APPLE-RADIUS=500;X-TITLE=1114 E Georgia Rd:geo:-82.016773,34.7496008
END:VEVENT
BEGIN:VEVENT
DTSTART;TZID=America/New_York:20260422T173000
DTEND;TZID=America/New_York:20260422T200000
DTSTAMP:20260423T121513
CREATED:20250922T174243Z
LAST-MODIFIED:20250922T174243Z
UID:62071-1776879000-1776888000@864foodtrucks.com
SUMMARY:We Got the Beets @ Grateful Brew
DESCRIPTION:FOOD FOR ALL!\nPowered by love…and plants 🌱🌈\n📍 Greenville\, SC
URL:https://864foodtrucks.com/event/we-got-the-beets-grateful-brew-2/2026-04-22/
LOCATION:Grateful Brew\, 501 S Pleasantburg Dr\, Greenville\, SC\, 29607\, United States
CATEGORIES:Food Truck Schedules,Greenville
ATTACH;FMTTYPE=image/jpeg:https://864foodtrucks.com/wp-content/uploads/2023/10/We-Got-the-Beets.jpg
GEO:34.8292844;-82.36962
X-APPLE-STRUCTURED-LOCATION;VALUE=URI;X-ADDRESS=Grateful Brew 501 S Pleasantburg Dr Greenville SC 29607 United States;X-APPLE-RADIUS=500;X-TITLE=501 S Pleasantburg Dr:geo:-82.36962,34.8292844
END:VEVENT
END:VCALENDAR