BEGIN:VCALENDAR
VERSION:2.0
PRODID:-//864 Food Trucks - ECPv6.15.20//NONSGML v1.0//EN
CALSCALE:GREGORIAN
METHOD:PUBLISH
X-ORIGINAL-URL:https://864foodtrucks.com
X-WR-CALDESC:Events for 864 Food Trucks
REFRESH-INTERVAL;VALUE=DURATION:PT1H
X-Robots-Tag:noindex
X-PUBLISHED-TTL:PT1H
BEGIN:VTIMEZONE
TZID:America/New_York
BEGIN:DAYLIGHT
TZOFFSETFROM:-0500
TZOFFSETTO:-0400
TZNAME:EDT
DTSTART:20250309T070000
END:DAYLIGHT
BEGIN:STANDARD
TZOFFSETFROM:-0400
TZOFFSETTO:-0500
TZNAME:EST
DTSTART:20251102T060000
END:STANDARD
BEGIN:DAYLIGHT
TZOFFSETFROM:-0500
TZOFFSETTO:-0400
TZNAME:EDT
DTSTART:20260308T070000
END:DAYLIGHT
BEGIN:STANDARD
TZOFFSETFROM:-0400
TZOFFSETTO:-0500
TZNAME:EST
DTSTART:20261101T060000
END:STANDARD
BEGIN:DAYLIGHT
TZOFFSETFROM:-0500
TZOFFSETTO:-0400
TZNAME:EDT
DTSTART:20270314T070000
END:DAYLIGHT
BEGIN:STANDARD
TZOFFSETFROM:-0400
TZOFFSETTO:-0500
TZNAME:EST
DTSTART:20271107T060000
END:STANDARD
END:VTIMEZONE
BEGIN:VEVENT
DTSTART;TZID=America/New_York:20260102T103000
DTEND;TZID=America/New_York:20260102T130000
DTSTAMP:20260425T162817
CREATED:20251229T163638Z
LAST-MODIFIED:20260419T195225Z
UID:58292-1767349800-1767358800@864foodtrucks.com
SUMMARY:Simpell Sammies @ First Quality
DESCRIPTION:Simpell Sammies is open for business and ready to serve you flavorful and delicious sandwiches and hoagies.
URL:https://864foodtrucks.com/event/simpell-sammies-first-quality/2026-01-02/
LOCATION:First Quality\, 441 Masters Blvd\, Anderson\, South Carolina
CATEGORIES:Anderson,Food Truck Schedules
ATTACH;FMTTYPE=image/jpeg:https://864foodtrucks.com/wp-content/uploads/2023/06/Simpell-Sammies-Trailer.jpg
ORGANIZER;CN="Simpell Sammies":MAILTO:info@simpelltreats.com
GEO:34.455698;-82.6866798
X-APPLE-STRUCTURED-LOCATION;VALUE=URI;X-ADDRESS=First Quality 441 Masters Blvd Anderson South Carolina;X-APPLE-RADIUS=500;X-TITLE=441 Masters Blvd:geo:-82.6866798,34.455698
END:VEVENT
BEGIN:VEVENT
DTSTART;TZID=America/New_York:20260105T110000
DTEND;TZID=America/New_York:20260105T130000
DTSTAMP:20260425T162817
CREATED:20250413T140759Z
LAST-MODIFIED:20260302T002420Z
UID:58469-1767610800-1767618000@864foodtrucks.com
SUMMARY:Simpell Sammies @ Michelin
DESCRIPTION:Simpell Sammies is open for business and ready to serve you flavorful and delicious sandwiches and hoagies.
URL:https://864foodtrucks.com/event/simpell-sammies-michelin-2/2026-01-05/
LOCATION:Michelin\, 10 Bib Way\, Anderson\, South Carolina
CATEGORIES:Anderson,Food Truck Schedules
ATTACH;FMTTYPE=image/jpeg:https://864foodtrucks.com/wp-content/uploads/2023/06/Simpell-Sammies-Trailer.jpg
ORGANIZER;CN="Simpell Sammies":MAILTO:info@simpelltreats.com
GEO:34.7264362;-82.3658822
X-APPLE-STRUCTURED-LOCATION;VALUE=URI;X-ADDRESS=Michelin 10 Bib Way Anderson South Carolina;X-APPLE-RADIUS=500;X-TITLE=10 Bib Way:geo:-82.3658822,34.7264362
END:VEVENT
BEGIN:VEVENT
DTSTART;TZID=America/New_York:20260109T110000
DTEND;TZID=America/New_York:20260109T140000
DTSTAMP:20260425T162817
CREATED:20260106T201931Z
LAST-MODIFIED:20260106T201931Z
UID:58554-1767956400-1767967200@864foodtrucks.com
SUMMARY:Kodesh BBQ Bowls @ Achieve Rehab
DESCRIPTION:Kodesh BBQ Bowls is a mobile food trailer that provides a heap amount of Levitical clean\, flavorful\, pit smoked BBQ. We’ve also come up with a link between enjoying our delicious BBQ and providing healthier options\, our cultural inspired bowls!
URL:https://864foodtrucks.com/event/kodesh-bbq-bowls-achieve-rehab/
LOCATION:Achieve Rehab\, 611 E Hampton St\, Anderson\, South Carolina
CATEGORIES:Anderson,Food Truck Schedules
ATTACH;FMTTYPE=image/jpeg:https://864foodtrucks.com/wp-content/uploads/2023/07/Kodesh-BBQ.jpg
ORGANIZER;CN="Kodesh BBQ & Bowls":MAILTO:kodeshbbq@gmail.com
GEO:34.4964581;-82.6392707
X-APPLE-STRUCTURED-LOCATION;VALUE=URI;X-ADDRESS=Achieve Rehab 611 E Hampton St Anderson South Carolina;X-APPLE-RADIUS=500;X-TITLE=611 E Hampton St:geo:-82.6392707,34.4964581
END:VEVENT
BEGIN:VEVENT
DTSTART;TZID=America/New_York:20260115T110000
DTEND;TZID=America/New_York:20260115T140000
DTSTAMP:20260425T162817
CREATED:20250326T002131Z
LAST-MODIFIED:20250326T002131Z
UID:58767-1768474800-1768485600@864foodtrucks.com
SUMMARY:Kodesh BBQ Bowls @ International Vitamin Corporation
DESCRIPTION:Kodesh BBQ Bowls is a mobile food trailer that provides a heap amount of Levitical clean\, flavorful\, pit smoked BBQ. We’ve also come up with a link between enjoying our delicious BBQ and providing healthier options\, our cultural inspired bowls!
URL:https://864foodtrucks.com/event/kodesh-bbq-bowls-international-vitamin-corporation/2026-01-15/
LOCATION:International Vitamin Corporation\, 1050 Woodruff Rd\, Greenville\, South Carolina
CATEGORIES:Anderson,Food Truck Schedules
ATTACH;FMTTYPE=image/jpeg:https://864foodtrucks.com/wp-content/uploads/2023/07/Kodesh-BBQ.jpg
ORGANIZER;CN="Kodesh BBQ & Bowls":MAILTO:kodeshbbq@gmail.com
GEO:34.8324015;-82.3104075
X-APPLE-STRUCTURED-LOCATION;VALUE=URI;X-ADDRESS=International Vitamin Corporation 1050 Woodruff Rd Greenville South Carolina;X-APPLE-RADIUS=500;X-TITLE=1050 Woodruff Rd:geo:-82.3104075,34.8324015
END:VEVENT
BEGIN:VEVENT
DTSTART;TZID=America/New_York:20260124T163000
DTEND;TZID=America/New_York:20260124T180000
DTSTAMP:20260425T162817
CREATED:20260118T205426Z
LAST-MODIFIED:20260202T141014Z
UID:58955-1769272200-1769277600@864foodtrucks.com
SUMMARY:Simpell Sammies @ Second Chance Church
DESCRIPTION:Simpell Sammies is open for business and ready to serve you flavorful and delicious sandwiches and hoagies.
URL:https://864foodtrucks.com/event/simpell-sammies-second-chance-church/2026-01-24/
LOCATION:Second Chance Church\, 3233 Martin Luther King Jr Blvd\, Anderson\, South Carolina
CATEGORIES:Anderson,Food Truck Schedules
ATTACH;FMTTYPE=image/jpeg:https://864foodtrucks.com/wp-content/uploads/2023/06/Simpell-Sammies-Trailer.jpg
ORGANIZER;CN="Simpell Sammies":MAILTO:info@simpelltreats.com
GEO:34.5437009;-82.6704621
X-APPLE-STRUCTURED-LOCATION;VALUE=URI;X-ADDRESS=Second Chance Church 3233 Martin Luther King Jr Blvd Anderson South Carolina;X-APPLE-RADIUS=500;X-TITLE=3233 Martin Luther King Jr Blvd:geo:-82.6704621,34.5437009
END:VEVENT
BEGIN:VEVENT
DTSTART;TZID=America/New_York:20260130T110000
DTEND;TZID=America/New_York:20260130T180000
DTSTAMP:20260425T162817
CREATED:20231205T132151Z
LAST-MODIFIED:20231205T132151Z
UID:59236-1769770800-1769796000@864foodtrucks.com
SUMMARY:Kodesh BBQ Bowls @ Target Anderson
DESCRIPTION:Kodesh BBQ Bowls is a mobile food trailer that provides a heap amount of Levitical clean\, flavorful\, pit smoked BBQ. We’ve also come up with a link between enjoying our delicious BBQ and providing healthier options\, our cultural inspired bowls!
URL:https://864foodtrucks.com/event/kodesh-bbq-bowls-target-anderson/2026-01-30/
LOCATION:Target Anderson\, Clemson Boulevard 3519\, Anderson\, South Carolina\, 29621\, United States
CATEGORIES:Anderson,Food Truck Schedules
ATTACH;FMTTYPE=image/jpeg:https://864foodtrucks.com/wp-content/uploads/2023/07/Kodesh-BBQ.jpg
ORGANIZER;CN="Kodesh BBQ & Bowls":MAILTO:kodeshbbq@gmail.com
GEO:34.5520271;-82.6750092
X-APPLE-STRUCTURED-LOCATION;VALUE=URI;X-ADDRESS=Target Anderson Clemson Boulevard 3519 Anderson South Carolina 29621 United States;X-APPLE-RADIUS=500;X-TITLE=Clemson Boulevard 3519:geo:-82.6750092,34.5520271
END:VEVENT
BEGIN:VEVENT
DTSTART;TZID=America/New_York:20260131T163000
DTEND;TZID=America/New_York:20260131T180000
DTSTAMP:20260425T162817
CREATED:20260118T205426Z
LAST-MODIFIED:20260202T141015Z
UID:59141-1769877000-1769882400@864foodtrucks.com
SUMMARY:Simpell Sammies @ Second Chance Church
DESCRIPTION:Simpell Sammies is open for business and ready to serve you flavorful and delicious sandwiches and hoagies.
URL:https://864foodtrucks.com/event/simpell-sammies-second-chance-church/2026-01-31/
LOCATION:Second Chance Church\, 3233 Martin Luther King Jr Blvd\, Anderson\, South Carolina
CATEGORIES:Anderson,Food Truck Schedules
ATTACH;FMTTYPE=image/jpeg:https://864foodtrucks.com/wp-content/uploads/2023/06/Simpell-Sammies-Trailer.jpg
ORGANIZER;CN="Simpell Sammies":MAILTO:info@simpelltreats.com
GEO:34.5437009;-82.6704621
X-APPLE-STRUCTURED-LOCATION;VALUE=URI;X-ADDRESS=Second Chance Church 3233 Martin Luther King Jr Blvd Anderson South Carolina;X-APPLE-RADIUS=500;X-TITLE=3233 Martin Luther King Jr Blvd:geo:-82.6704621,34.5437009
END:VEVENT
END:VCALENDAR