BEGIN:VCALENDAR
VERSION:2.0
PRODID:-//864 Food Trucks - ECPv6.15.20//NONSGML v1.0//EN
CALSCALE:GREGORIAN
METHOD:PUBLISH
X-ORIGINAL-URL:https://864foodtrucks.com
X-WR-CALDESC:Events for 864 Food Trucks
REFRESH-INTERVAL;VALUE=DURATION:PT1H
X-Robots-Tag:noindex
X-PUBLISHED-TTL:PT1H
BEGIN:VTIMEZONE
TZID:America/New_York
BEGIN:DAYLIGHT
TZOFFSETFROM:-0500
TZOFFSETTO:-0400
TZNAME:EDT
DTSTART:20250309T070000
END:DAYLIGHT
BEGIN:STANDARD
TZOFFSETFROM:-0400
TZOFFSETTO:-0500
TZNAME:EST
DTSTART:20251102T060000
END:STANDARD
BEGIN:DAYLIGHT
TZOFFSETFROM:-0500
TZOFFSETTO:-0400
TZNAME:EDT
DTSTART:20260308T070000
END:DAYLIGHT
BEGIN:STANDARD
TZOFFSETFROM:-0400
TZOFFSETTO:-0500
TZNAME:EST
DTSTART:20261101T060000
END:STANDARD
BEGIN:DAYLIGHT
TZOFFSETFROM:-0500
TZOFFSETTO:-0400
TZNAME:EDT
DTSTART:20270314T070000
END:DAYLIGHT
BEGIN:STANDARD
TZOFFSETFROM:-0400
TZOFFSETTO:-0500
TZNAME:EST
DTSTART:20271107T060000
END:STANDARD
END:VTIMEZONE
BEGIN:VEVENT
DTSTART;TZID=America/New_York:20260305T110000
DTEND;TZID=America/New_York:20260305T130000
DTSTAMP:20260425T115322
CREATED:20250413T140759Z
LAST-MODIFIED:20250413T140759Z
UID:60267-1772708400-1772715600@864foodtrucks.com
SUMMARY:Simpell Sammies @ Michelin
DESCRIPTION:Simpell Sammies is open for business and ready to serve you flavorful and delicious sandwiches and hoagies.
URL:https://864foodtrucks.com/event/simpell-sammies-michelin-2/2026-03-05/
LOCATION:Michelin\, 10 Bib Way\, Anderson\, South Carolina
CATEGORIES:Anderson,Food Truck Schedules
ATTACH;FMTTYPE=image/jpeg:https://864foodtrucks.com/wp-content/uploads/2023/06/Simpell-Sammies-Trailer.jpg
ORGANIZER;CN="Simpell Sammies":MAILTO:info@simpelltreats.com
GEO:34.7264362;-82.3658822
X-APPLE-STRUCTURED-LOCATION;VALUE=URI;X-ADDRESS=Michelin 10 Bib Way Anderson South Carolina;X-APPLE-RADIUS=500;X-TITLE=10 Bib Way:geo:-82.3658822,34.7264362
END:VEVENT
BEGIN:VEVENT
DTSTART;TZID=America/New_York:20260311T110000
DTEND;TZID=America/New_York:20260311T130000
DTSTAMP:20260425T115322
CREATED:20251229T163638Z
LAST-MODIFIED:20260419T195226Z
UID:60424-1773226800-1773234000@864foodtrucks.com
SUMMARY:Simpell Sammies @ First Quality
DESCRIPTION:Simpell Sammies is open for business and ready to serve you flavorful and delicious sandwiches and hoagies.
URL:https://864foodtrucks.com/event/simpell-sammies-first-quality/2026-03-11/
LOCATION:First Quality\, 441 Masters Blvd\, Anderson\, South Carolina
CATEGORIES:Anderson,Food Truck Schedules
ATTACH;FMTTYPE=image/jpeg:https://864foodtrucks.com/wp-content/uploads/2023/06/Simpell-Sammies-Trailer.jpg
ORGANIZER;CN="Simpell Sammies":MAILTO:info@simpelltreats.com
GEO:34.455698;-82.6866798
X-APPLE-STRUCTURED-LOCATION;VALUE=URI;X-ADDRESS=First Quality 441 Masters Blvd Anderson South Carolina;X-APPLE-RADIUS=500;X-TITLE=441 Masters Blvd:geo:-82.6866798,34.455698
END:VEVENT
BEGIN:VEVENT
DTSTART;TZID=America/New_York:20260318T170000
DTEND;TZID=America/New_York:20260318T200000
DTSTAMP:20260425T115322
CREATED:20260315T233616Z
LAST-MODIFIED:20260315T233616Z
UID:60700-1773853200-1773864000@864foodtrucks.com
SUMMARY:Simpell Sammies @ Mccants Give Back Night
DESCRIPTION:Simpell Sammies is open for business and ready to serve you flavorful and delicious sandwiches and hoagies.
URL:https://864foodtrucks.com/event/simpell-sammies-mccants-give-back-night/
LOCATION:McCants Middle School\, 105 S Fant St\, Anderson\, South Carolina
CATEGORIES:Anderson,Food Truck Schedules
ATTACH;FMTTYPE=image/jpeg:https://864foodtrucks.com/wp-content/uploads/2023/06/Simpell-Sammies-Trailer.jpg
ORGANIZER;CN="Simpell Sammies":MAILTO:info@simpelltreats.com
GEO:34.5033429;-82.6447017
X-APPLE-STRUCTURED-LOCATION;VALUE=URI;X-ADDRESS=McCants Middle School 105 S Fant St Anderson South Carolina;X-APPLE-RADIUS=500;X-TITLE=105 S Fant St:geo:-82.6447017,34.5033429
END:VEVENT
BEGIN:VEVENT
DTSTART;TZID=America/New_York:20260321T100000
DTEND;TZID=America/New_York:20260321T170000
DTSTAMP:20260425T115322
CREATED:20260315T233757Z
LAST-MODIFIED:20260315T233757Z
UID:60703-1774087200-1774112400@864foodtrucks.com
SUMMARY:Simpell Sammies @ Wafflefest
DESCRIPTION:Simpell Sammies is open for business and ready to serve you flavorful and delicious sandwiches and hoagies.
URL:https://864foodtrucks.com/event/simpell-sammies-wafflefest/
LOCATION:Downtown Liberty\, 28 S Commerce St\, Liberty
CATEGORIES:Anderson,Food Truck Schedules
ATTACH;FMTTYPE=image/jpeg:https://864foodtrucks.com/wp-content/uploads/2023/06/Simpell-Sammies-Trailer.jpg
ORGANIZER;CN="Simpell Sammies":MAILTO:info@simpelltreats.com
END:VEVENT
BEGIN:VEVENT
DTSTART;TZID=America/New_York:20260325T110000
DTEND;TZID=America/New_York:20260325T130000
DTSTAMP:20260425T115322
CREATED:20251229T163638Z
LAST-MODIFIED:20260419T195226Z
UID:60948-1774436400-1774443600@864foodtrucks.com
SUMMARY:Simpell Sammies @ First Quality
DESCRIPTION:Simpell Sammies is open for business and ready to serve you flavorful and delicious sandwiches and hoagies.
URL:https://864foodtrucks.com/event/simpell-sammies-first-quality/2026-03-25/
LOCATION:First Quality\, 441 Masters Blvd\, Anderson\, South Carolina
CATEGORIES:Anderson,Food Truck Schedules
ATTACH;FMTTYPE=image/jpeg:https://864foodtrucks.com/wp-content/uploads/2023/06/Simpell-Sammies-Trailer.jpg
ORGANIZER;CN="Simpell Sammies":MAILTO:info@simpelltreats.com
GEO:34.455698;-82.6866798
X-APPLE-STRUCTURED-LOCATION;VALUE=URI;X-ADDRESS=First Quality 441 Masters Blvd Anderson South Carolina;X-APPLE-RADIUS=500;X-TITLE=441 Masters Blvd:geo:-82.6866798,34.455698
END:VEVENT
BEGIN:VEVENT
DTSTART;TZID=America/New_York:20260408T110000
DTEND;TZID=America/New_York:20260408T130000
DTSTAMP:20260425T115322
CREATED:20251229T163638Z
LAST-MODIFIED:20260419T195227Z
UID:61452-1775646000-1775653200@864foodtrucks.com
SUMMARY:Simpell Sammies @ First Quality
DESCRIPTION:Simpell Sammies is open for business and ready to serve you flavorful and delicious sandwiches and hoagies.
URL:https://864foodtrucks.com/event/simpell-sammies-first-quality/2026-04-08/
LOCATION:First Quality\, 441 Masters Blvd\, Anderson\, South Carolina
CATEGORIES:Anderson,Food Truck Schedules
ATTACH;FMTTYPE=image/jpeg:https://864foodtrucks.com/wp-content/uploads/2023/06/Simpell-Sammies-Trailer.jpg
ORGANIZER;CN="Simpell Sammies":MAILTO:info@simpelltreats.com
GEO:34.455698;-82.6866798
X-APPLE-STRUCTURED-LOCATION;VALUE=URI;X-ADDRESS=First Quality 441 Masters Blvd Anderson South Carolina;X-APPLE-RADIUS=500;X-TITLE=441 Masters Blvd:geo:-82.6866798,34.455698
END:VEVENT
BEGIN:VEVENT
DTSTART;TZID=America/New_York:20260422T110000
DTEND;TZID=America/New_York:20260422T130000
DTSTAMP:20260425T115322
CREATED:20251229T163638Z
LAST-MODIFIED:20251229T163638Z
UID:62013-1776855600-1776862800@864foodtrucks.com
SUMMARY:Simpell Sammies @ First Quality
DESCRIPTION:Simpell Sammies is open for business and ready to serve you flavorful and delicious sandwiches and hoagies.
URL:https://864foodtrucks.com/event/simpell-sammies-first-quality/2026-04-22/
LOCATION:First Quality\, 441 Masters Blvd\, Anderson\, South Carolina
CATEGORIES:Anderson,Food Truck Schedules
ATTACH;FMTTYPE=image/jpeg:https://864foodtrucks.com/wp-content/uploads/2023/06/Simpell-Sammies-Trailer.jpg
ORGANIZER;CN="Simpell Sammies":MAILTO:info@simpelltreats.com
GEO:34.455698;-82.6866798
X-APPLE-STRUCTURED-LOCATION;VALUE=URI;X-ADDRESS=First Quality 441 Masters Blvd Anderson South Carolina;X-APPLE-RADIUS=500;X-TITLE=441 Masters Blvd:geo:-82.6866798,34.455698
END:VEVENT
BEGIN:VEVENT
DTSTART;TZID=America/New_York:20260424T160000
DTEND;TZID=America/New_York:20260424T160000
DTSTAMP:20260425T115322
CREATED:20250421T225317Z
LAST-MODIFIED:20250421T225317Z
UID:62099-1777046400-1777046400@864foodtrucks.com
SUMMARY:Fuel Foods @ Anderson Soiree
DESCRIPTION:Fuel Foods – Food Truck & Catering\nClean\, Unique & Delicious!\nLocated in Clemson & Upstate\, SC 📍\nBook Us for Events! Contact for More Info!
URL:https://864foodtrucks.com/event/fuel-foods-anderson-soiree/2026-04-24/
LOCATION:Downtown Anderson\, Anderson\, South Carolina
CATEGORIES:Anderson,Food Truck Schedules
ATTACH;FMTTYPE=image/png:https://864foodtrucks.com/wp-content/uploads/2025/03/Fuel-Foods-.png
ORGANIZER;CN="Fuel Foods Food Truck":MAILTO:fuelfoods.truck@gmail.com
GEO:34.5034394;-82.6501332
END:VEVENT
BEGIN:VEVENT
DTSTART;TZID=America/New_York:20260425T110000
DTEND;TZID=America/New_York:20260425T110000
DTSTAMP:20260425T115322
CREATED:20250421T225317Z
LAST-MODIFIED:20250421T225317Z
UID:62100-1777114800-1777114800@864foodtrucks.com
SUMMARY:Fuel Foods @ Anderson Soiree
DESCRIPTION:Fuel Foods – Food Truck & Catering\nClean\, Unique & Delicious!\nLocated in Clemson & Upstate\, SC 📍\nBook Us for Events! Contact for More Info!
URL:https://864foodtrucks.com/event/fuel-foods-anderson-soiree/2026-04-25/
LOCATION:Downtown Anderson\, Anderson\, South Carolina
CATEGORIES:Anderson,Food Truck Schedules
ATTACH;FMTTYPE=image/png:https://864foodtrucks.com/wp-content/uploads/2025/03/Fuel-Foods-.png
ORGANIZER;CN="Fuel Foods Food Truck":MAILTO:fuelfoods.truck@gmail.com
GEO:34.5034394;-82.6501332
END:VEVENT
END:VCALENDAR