BEGIN:VCALENDAR
VERSION:2.0
PRODID:-//864 Food Trucks - ECPv6.15.20//NONSGML v1.0//EN
CALSCALE:GREGORIAN
METHOD:PUBLISH
X-ORIGINAL-URL:https://864foodtrucks.com
X-WR-CALDESC:Events for 864 Food Trucks
REFRESH-INTERVAL;VALUE=DURATION:PT1H
X-Robots-Tag:noindex
X-PUBLISHED-TTL:PT1H
BEGIN:VTIMEZONE
TZID:America/New_York
BEGIN:DAYLIGHT
TZOFFSETFROM:-0500
TZOFFSETTO:-0400
TZNAME:EDT
DTSTART:20220313T070000
END:DAYLIGHT
BEGIN:STANDARD
TZOFFSETFROM:-0400
TZOFFSETTO:-0500
TZNAME:EST
DTSTART:20221106T060000
END:STANDARD
BEGIN:DAYLIGHT
TZOFFSETFROM:-0500
TZOFFSETTO:-0400
TZNAME:EDT
DTSTART:20230312T070000
END:DAYLIGHT
BEGIN:STANDARD
TZOFFSETFROM:-0400
TZOFFSETTO:-0500
TZNAME:EST
DTSTART:20231105T060000
END:STANDARD
BEGIN:DAYLIGHT
TZOFFSETFROM:-0500
TZOFFSETTO:-0400
TZNAME:EDT
DTSTART:20240310T070000
END:DAYLIGHT
BEGIN:STANDARD
TZOFFSETFROM:-0400
TZOFFSETTO:-0500
TZNAME:EST
DTSTART:20241103T060000
END:STANDARD
BEGIN:DAYLIGHT
TZOFFSETFROM:-0500
TZOFFSETTO:-0400
TZNAME:EDT
DTSTART:20250309T070000
END:DAYLIGHT
BEGIN:STANDARD
TZOFFSETFROM:-0400
TZOFFSETTO:-0500
TZNAME:EST
DTSTART:20251102T060000
END:STANDARD
BEGIN:DAYLIGHT
TZOFFSETFROM:-0500
TZOFFSETTO:-0400
TZNAME:EDT
DTSTART:20260308T070000
END:DAYLIGHT
BEGIN:STANDARD
TZOFFSETFROM:-0400
TZOFFSETTO:-0500
TZNAME:EST
DTSTART:20261101T060000
END:STANDARD
BEGIN:DAYLIGHT
TZOFFSETFROM:-0500
TZOFFSETTO:-0400
TZNAME:EDT
DTSTART:20270314T070000
END:DAYLIGHT
BEGIN:STANDARD
TZOFFSETFROM:-0400
TZOFFSETTO:-0500
TZNAME:EST
DTSTART:20271107T060000
END:STANDARD
END:VTIMEZONE
BEGIN:VEVENT
DTSTART;TZID=America/New_York:20230625T000000
DTEND;TZID=America/New_York:20230625T000000
DTSTAMP:20260425T120154
CREATED:20230612T164002Z
LAST-MODIFIED:20230612T164002Z
UID:19655-1687651200-1687651200@864foodtrucks.com
SUMMARY:Sub Street @ Whitefield Baptist Church
DESCRIPTION:
URL:https://864foodtrucks.com/event/sub-street-whitefield-baptist-church/
LOCATION:Whitefield Baptist Church\, 207 Mitchell Rd\,\, Belton\, SC\, United States
CATEGORIES:Belton,Food Truck Schedules
ATTACH;FMTTYPE=image/jpeg:https://864foodtrucks.com/wp-content/uploads/2023/06/Sub-Street-Truck.jpg
ORGANIZER;CN="Sub Street":MAILTO:substreetllc@gmail.com
END:VEVENT
BEGIN:VEVENT
DTSTART;TZID=America/New_York:20231202T120000
DTEND;TZID=America/New_York:20231202T170000
DTSTAMP:20260425T120154
CREATED:20231126T213401Z
LAST-MODIFIED:20231126T213401Z
UID:24293-1701518400-1701536400@864foodtrucks.com
SUMMARY:Lobster Dogs @ Sugar Hill Taphouse
DESCRIPTION:Food truck serving the Best Lobster Rolls & Stuffed Avocados in the Carolinas
URL:https://864foodtrucks.com/event/lobster-dogs-sugar-hill-taphouse/
LOCATION:Sugar Hill Taphouse\, City Square 302\, Belton\, South Carolina\, 29627\, United States
CATEGORIES:Belton,Food Truck Schedules
ATTACH;FMTTYPE=image/jpeg:https://864foodtrucks.com/wp-content/uploads/2021/05/lobster-dogs-Food-Truck.jpg
ORGANIZER;CN="Lobster Dogs":MAILTO:lobsterdogs3@gmail.com
GEO:34.5231693;-82.4934273
X-APPLE-STRUCTURED-LOCATION;VALUE=URI;X-ADDRESS=Sugar Hill Taphouse City Square 302 Belton South Carolina 29627 United States;X-APPLE-RADIUS=500;X-TITLE=City Square 302:geo:-82.4934273,34.5231693
END:VEVENT
BEGIN:VEVENT
DTSTART;TZID=America/New_York:20240126T160000
DTEND;TZID=America/New_York:20240126T203000
DTSTAMP:20260425T120154
CREATED:20240121T205946Z
LAST-MODIFIED:20240318T173216Z
UID:25220-1706284800-1706301000@864foodtrucks.com
SUMMARY:Lobster Dogs @ Sugar Hill Tap House
DESCRIPTION:Food truck serving the Best Lobster Rolls & Stuffed Avocados in the Carolinas
URL:https://864foodtrucks.com/event/lobster-dogs-sugar-hill-tap-house/2024-01-26/
LOCATION:Sugar Hill Taphouse\, City Square 302\, Belton\, South Carolina\, 29627\, United States
CATEGORIES:Belton,Food Truck Schedules
ATTACH;FMTTYPE=image/jpeg:https://864foodtrucks.com/wp-content/uploads/2021/05/lobster-dogs-Food-Truck.jpg
ORGANIZER;CN="Lobster Dogs":MAILTO:lobsterdogs3@gmail.com
GEO:34.5231693;-82.4934273
X-APPLE-STRUCTURED-LOCATION;VALUE=URI;X-ADDRESS=Sugar Hill Taphouse City Square 302 Belton South Carolina 29627 United States;X-APPLE-RADIUS=500;X-TITLE=City Square 302:geo:-82.4934273,34.5231693
END:VEVENT
BEGIN:VEVENT
DTSTART;TZID=America/New_York:20240210T170000
DTEND;TZID=America/New_York:20240210T200000
DTSTAMP:20260425T120154
CREATED:20240204T235944Z
LAST-MODIFIED:20240204T235944Z
UID:25645-1707584400-1707595200@864foodtrucks.com
SUMMARY:Lobster Dogs @ Sugar Hill Tap House
DESCRIPTION:Food truck serving the Best Lobster Rolls & Stuffed Avocados in the Carolinas
URL:https://864foodtrucks.com/event/lobster-dogs-sugar-hill-tap-house-2/
LOCATION:Sugar Hill Taphouse\, City Square 302\, Belton\, South Carolina\, 29627\, United States
CATEGORIES:Belton,Food Truck Schedules
ATTACH;FMTTYPE=image/jpeg:https://864foodtrucks.com/wp-content/uploads/2021/05/lobster-dogs-Food-Truck.jpg
ORGANIZER;CN="Lobster Dogs":MAILTO:lobsterdogs3@gmail.com
GEO:34.5231693;-82.4934273
X-APPLE-STRUCTURED-LOCATION;VALUE=URI;X-ADDRESS=Sugar Hill Taphouse City Square 302 Belton South Carolina 29627 United States;X-APPLE-RADIUS=500;X-TITLE=City Square 302:geo:-82.4934273,34.5231693
END:VEVENT
BEGIN:VEVENT
DTSTART;TZID=America/New_York:20240306T170000
DTEND;TZID=America/New_York:20240306T200000
DTSTAMP:20260425T120154
CREATED:20240304T005114Z
LAST-MODIFIED:20240304T005114Z
UID:26465-1709744400-1709755200@864foodtrucks.com
SUMMARY:Krispy Cow @ Sugar Hill Tap House
DESCRIPTION:
URL:https://864foodtrucks.com/event/krispy-cow-sugar-hill-tap-house/
LOCATION:Sugar Hill Taphouse\, City Square 302\, Belton\, South Carolina\, 29627\, United States
CATEGORIES:Belton,Food Truck Schedules
ATTACH;FMTTYPE=image/png:https://864foodtrucks.com/wp-content/uploads/2023/07/Krispy-Cow.png
ORGANIZER;CN="The Krispy Cow":MAILTO:info@thekrispycow.com
GEO:34.5231693;-82.4934273
X-APPLE-STRUCTURED-LOCATION;VALUE=URI;X-ADDRESS=Sugar Hill Taphouse City Square 302 Belton South Carolina 29627 United States;X-APPLE-RADIUS=500;X-TITLE=City Square 302:geo:-82.4934273,34.5231693
END:VEVENT
BEGIN:VEVENT
DTSTART;TZID=America/New_York:20240419T170000
DTEND;TZID=America/New_York:20240419T200000
DTSTAMP:20260425T120154
CREATED:20240415T002139Z
LAST-MODIFIED:20240415T002139Z
UID:27281-1713546000-1713556800@864foodtrucks.com
SUMMARY:Simpell Sammies @ Belton on the Square
DESCRIPTION:Simpell Sammies is open for business and ready to serve you flavorful and delicious sandwiches and hoagies.
URL:https://864foodtrucks.com/event/simpell-sammies-belton-on-the-square/
LOCATION:City Square Belton\, 300 City Square\, Belton\, South Carolina
CATEGORIES:Belton,Food Truck Schedules
ATTACH;FMTTYPE=image/jpeg:https://864foodtrucks.com/wp-content/uploads/2023/06/Simpell-Sammies-Trailer.jpg
ORGANIZER;CN="Simpell Sammies":MAILTO:info@simpelltreats.com
GEO:34.5228881;-82.4942948
X-APPLE-STRUCTURED-LOCATION;VALUE=URI;X-ADDRESS=City Square Belton 300 City Square Belton South Carolina;X-APPLE-RADIUS=500;X-TITLE=300 City Square:geo:-82.4942948,34.5228881
END:VEVENT
BEGIN:VEVENT
DTSTART;TZID=America/New_York:20240823T120000
DTEND;TZID=America/New_York:20240823T200000
DTSTAMP:20260425T120154
CREATED:20240818T204952Z
LAST-MODIFIED:20240818T205010Z
UID:33556-1724414400-1724443200@864foodtrucks.com
SUMMARY:Simpell Sammies @ Belton Gun Club
DESCRIPTION:Simpell Sammies is open for business and ready to serve you flavorful and delicious sandwiches and hoagies.
URL:https://864foodtrucks.com/event/simpell-sammies-belton-gun-club/2024-08-23/
LOCATION:Belton Gun Club\, P-19-15\, Belton\, South Carolina\, 29627\, United States
CATEGORIES:Belton,Food Truck Schedules
ATTACH;FMTTYPE=image/jpeg:https://864foodtrucks.com/wp-content/uploads/2023/06/Simpell-Sammies-Trailer.jpg
ORGANIZER;CN="Simpell Sammies":MAILTO:info@simpelltreats.com
GEO:34.53794;-82.399293
X-APPLE-STRUCTURED-LOCATION;VALUE=URI;X-ADDRESS=Belton Gun Club P-19-15 Belton South Carolina 29627 United States;X-APPLE-RADIUS=500;X-TITLE=P-19-15:geo:-82.399293,34.53794
END:VEVENT
BEGIN:VEVENT
DTSTART;TZID=America/New_York:20241116T080000
DTEND;TZID=America/New_York:20241116T160000
DTSTAMP:20260425T120154
CREATED:20241111T205832Z
LAST-MODIFIED:20241111T205832Z
UID:39887-1731744000-1731772800@864foodtrucks.com
SUMMARY:Fuel Foods @ Anderson Jockey Lot
DESCRIPTION:Fuel Foods – Food Truck & Catering\nClean\, Unique & Delicious!\nLocated in Clemson & Upstate\, SC 📍\nBook Us for Events! Contact for More Info!
URL:https://864foodtrucks.com/event/fuel-foods-anderson-jockey-lot/
LOCATION:Anderson Jocky Lot\, U.S. 29 4530\, Belton\, South Carolina\, 29627\, United States
CATEGORIES:Belton,Food Truck Schedules
ATTACH;FMTTYPE=image/jpeg:https://864foodtrucks.com/wp-content/uploads/2024/08/Fuel-Foods-Food-Truck.jpg
ORGANIZER;CN="Fuel Foods Food Truck":MAILTO:fuelfoods.truck@gmail.com
GEO:34.5854353;-82.5482549
X-APPLE-STRUCTURED-LOCATION;VALUE=URI;X-ADDRESS=Anderson Jocky Lot U.S. 29 4530 Belton South Carolina 29627 United States;X-APPLE-RADIUS=500;X-TITLE=U.S. 29 4530:geo:-82.5482549,34.5854353
END:VEVENT
BEGIN:VEVENT
DTSTART;TZID=America/New_York:20241116T113000
DTEND;TZID=America/New_York:20241116T113000
DTSTAMP:20260425T120154
CREATED:20241111T210431Z
LAST-MODIFIED:20241111T210431Z
UID:39894-1731756600-1731756600@864foodtrucks.com
SUMMARY:Matty's Pattys @ The Jockey Lot
DESCRIPTION:We’re serving the friendliest hamburger this side of the Mississippi! Coming soon to Anderson\, SC
URL:https://864foodtrucks.com/event/mattys-pattys-the-jockey-lot/
LOCATION:Anderson Jocky Lot\, U.S. 29 4530\, Belton\, South Carolina\, 29627\, United States
CATEGORIES:Belton,Food Truck Schedules
ATTACH;FMTTYPE=image/jpeg:https://864foodtrucks.com/wp-content/uploads/2022/10/Mattys-Pattys.jpg
ORGANIZER;CN="Mattys Pattys":MAILTO:thebradfordfoodgroup@gmail.com
GEO:34.5854353;-82.5482549
X-APPLE-STRUCTURED-LOCATION;VALUE=URI;X-ADDRESS=Anderson Jocky Lot U.S. 29 4530 Belton South Carolina 29627 United States;X-APPLE-RADIUS=500;X-TITLE=U.S. 29 4530:geo:-82.5482549,34.5854353
END:VEVENT
BEGIN:VEVENT
DTSTART;TZID=America/New_York:20250124T160000
DTEND;TZID=America/New_York:20250124T160000
DTSTAMP:20260425T120154
CREATED:20250121T190456Z
LAST-MODIFIED:20250818T181832Z
UID:41896-1737734400-1737734400@864foodtrucks.com
SUMMARY:Fuel Foods @ Sugar Hill Tap
DESCRIPTION:Fuel Foods – Food Truck & Catering\nClean\, Unique & Delicious!\nLocated in Clemson & Upstate\, SC 📍\nBook Us for Events! Contact for More Info!
URL:https://864foodtrucks.com/event/fuel-foods-sugar-hill-tap/2025-01-24/
LOCATION:Sugar Hill Taphouse\, City Square 302\, Belton\, South Carolina\, 29627\, United States
CATEGORIES:Belton,Food Truck Schedules
ATTACH;FMTTYPE=image/jpeg:https://864foodtrucks.com/wp-content/uploads/2024/08/Fuel-Foods-Food-Truck.jpg
ORGANIZER;CN="Fuel Foods Food Truck":MAILTO:fuelfoods.truck@gmail.com
GEO:34.5231693;-82.4934273
X-APPLE-STRUCTURED-LOCATION;VALUE=URI;X-ADDRESS=Sugar Hill Taphouse City Square 302 Belton South Carolina 29627 United States;X-APPLE-RADIUS=500;X-TITLE=City Square 302:geo:-82.4934273,34.5231693
END:VEVENT
BEGIN:VEVENT
DTSTART;TZID=America/New_York:20250319T103000
DTEND;TZID=America/New_York:20250319T130000
DTSTAMP:20260425T120154
CREATED:20250316T001448Z
LAST-MODIFIED:20250316T001448Z
UID:43036-1742380200-1742389200@864foodtrucks.com
SUMMARY:Simpell Sammies @ Wright Elementary School
DESCRIPTION:Simpell Sammies is open for business and ready to serve you flavorful and delicious sandwiches and hoagies.
URL:https://864foodtrucks.com/event/simpell-sammies-wright-elementary-school/
LOCATION:Wright Elementary School\, 1136 Wright School Rd\, Belton\, South Carolina
CATEGORIES:Belton,Food Truck Schedules
ORGANIZER;CN="Simpell Sammies":MAILTO:info@simpelltreats.com
GEO:34.3988529;-82.5285956
X-APPLE-STRUCTURED-LOCATION;VALUE=URI;X-ADDRESS=Wright Elementary School 1136 Wright School Rd Belton South Carolina;X-APPLE-RADIUS=500;X-TITLE=1136 Wright School Rd:geo:-82.5285956,34.3988529
END:VEVENT
BEGIN:VEVENT
DTSTART;TZID=America/New_York:20250322T100000
DTEND;TZID=America/New_York:20250322T140000
DTSTAMP:20260425T120154
CREATED:20250318T002327Z
LAST-MODIFIED:20250319T185740Z
UID:43123-1742637600-1742652000@864foodtrucks.com
SUMMARY:Fuel Foods @ Craft & Rummage Festival
DESCRIPTION:Fuel Foods – Food Truck & Catering\nClean\, Unique & Delicious!\nLocated in Clemson & Upstate\, SC 📍\nBook Us for Events! Contact for More Info!
URL:https://864foodtrucks.com/event/fuel-foods/
LOCATION:Craft & Rummage Festival\, Belton\, South Carolina
CATEGORIES:Belton,Food Truck Schedules
ATTACH;FMTTYPE=image/png:https://864foodtrucks.com/wp-content/uploads/2025/03/Fuel-Foods-.png
ORGANIZER;CN="Fuel Foods Food Truck":MAILTO:fuelfoods.truck@gmail.com
GEO:34.5228881;-82.4942948
END:VEVENT
BEGIN:VEVENT
DTSTART;TZID=America/New_York:20251023T170000
DTEND;TZID=America/New_York:20251023T203000
DTSTAMP:20260425T120154
CREATED:20251022T130042Z
LAST-MODIFIED:20251119T185049Z
UID:55438-1761238800-1761251400@864foodtrucks.com
SUMMARY:Fuel Foods @ Sugar Hill Tap House
DESCRIPTION:Fuel Foods – Food Truck & Catering\nClean\, Unique & Delicious!\nLocated in Clemson & Upstate\, SC 📍\nBook Us for Events! Contact for More Info!
URL:https://864foodtrucks.com/event/fuel-foods-sugar-hill-tap-house/2025-10-23/
LOCATION:Sugar Hill Taphouse\, City Square 302\, Belton\, South Carolina\, 29627\, United States
CATEGORIES:Belton,Food Truck Schedules
ATTACH;FMTTYPE=image/png:https://864foodtrucks.com/wp-content/uploads/2025/03/Fuel-Foods-.png
ORGANIZER;CN="Fuel Foods Food Truck":MAILTO:fuelfoods.truck@gmail.com
GEO:34.5231693;-82.4934273
X-APPLE-STRUCTURED-LOCATION;VALUE=URI;X-ADDRESS=Sugar Hill Taphouse City Square 302 Belton South Carolina 29627 United States;X-APPLE-RADIUS=500;X-TITLE=City Square 302:geo:-82.4934273,34.5231693
END:VEVENT
BEGIN:VEVENT
DTSTART;TZID=America/New_York:20251031T170000
DTEND;TZID=America/New_York:20251031T170000
DTSTAMP:20260425T120154
CREATED:20251028T235950Z
LAST-MODIFIED:20251028T235950Z
UID:55724-1761930000-1761930000@864foodtrucks.com
SUMMARY:Fuel Foods @ Trick or Treat on the Square
DESCRIPTION:Fuel Foods – Food Truck & Catering\nClean\, Unique & Delicious!\nLocated in Clemson & Upstate\, SC 📍\nBook Us for Events! Contact for More Info!
URL:https://864foodtrucks.com/event/fuel-foods-trick-or-treat-on-the-square/
LOCATION:City Square Belton\, 300 City Square\, Belton\, South Carolina
CATEGORIES:Belton,Food Truck Schedules
ATTACH;FMTTYPE=image/png:https://864foodtrucks.com/wp-content/uploads/2025/03/Fuel-Foods-.png
ORGANIZER;CN="Fuel Foods Food Truck":MAILTO:fuelfoods.truck@gmail.com
GEO:34.5228881;-82.4942948
X-APPLE-STRUCTURED-LOCATION;VALUE=URI;X-ADDRESS=City Square Belton 300 City Square Belton South Carolina;X-APPLE-RADIUS=500;X-TITLE=300 City Square:geo:-82.4942948,34.5228881
END:VEVENT
BEGIN:VEVENT
DTSTART;TZID=America/New_York:20251031T170000
DTEND;TZID=America/New_York:20251031T203000
DTSTAMP:20260425T120154
CREATED:20251022T130042Z
LAST-MODIFIED:20251119T185050Z
UID:55631-1761930000-1761942600@864foodtrucks.com
SUMMARY:Fuel Foods @ Sugar Hill Tap House
DESCRIPTION:Fuel Foods – Food Truck & Catering\nClean\, Unique & Delicious!\nLocated in Clemson & Upstate\, SC 📍\nBook Us for Events! Contact for More Info!
URL:https://864foodtrucks.com/event/fuel-foods-sugar-hill-tap-house/2025-10-31/
LOCATION:Sugar Hill Taphouse\, City Square 302\, Belton\, South Carolina\, 29627\, United States
CATEGORIES:Belton,Food Truck Schedules
ATTACH;FMTTYPE=image/png:https://864foodtrucks.com/wp-content/uploads/2025/03/Fuel-Foods-.png
ORGANIZER;CN="Fuel Foods Food Truck":MAILTO:fuelfoods.truck@gmail.com
GEO:34.5231693;-82.4934273
X-APPLE-STRUCTURED-LOCATION;VALUE=URI;X-ADDRESS=Sugar Hill Taphouse City Square 302 Belton South Carolina 29627 United States;X-APPLE-RADIUS=500;X-TITLE=City Square 302:geo:-82.4934273,34.5231693
END:VEVENT
BEGIN:VEVENT
DTSTART;TZID=America/New_York:20251104T103000
DTEND;TZID=America/New_York:20251104T140000
DTSTAMP:20260425T120154
CREATED:20251102T212559Z
LAST-MODIFIED:20251102T212559Z
UID:55856-1762252200-1762264800@864foodtrucks.com
SUMMARY:Simpell Sammies @ Belton Prep Academy
DESCRIPTION:Simpell Sammies is open for business and ready to serve you flavorful and delicious sandwiches and hoagies.
URL:https://864foodtrucks.com/event/simpell-sammies-belton-prep-academy/
LOCATION:Belton Prep Academy\, 5901 Belton Hwy\, Belton\, South Carolina\, 29627
CATEGORIES:Belton,Food Truck Schedules
ATTACH;FMTTYPE=image/jpeg:https://864foodtrucks.com/wp-content/uploads/2023/06/Simpell-Sammies-Trailer.jpg
ORGANIZER;CN="Simpell Sammies":MAILTO:info@simpelltreats.com
GEO:34.4965896;-82.5341502
X-APPLE-STRUCTURED-LOCATION;VALUE=URI;X-ADDRESS=Belton Prep Academy 5901 Belton Hwy Belton South Carolina 29627;X-APPLE-RADIUS=500;X-TITLE=5901 Belton Hwy:geo:-82.5341502,34.4965896
END:VEVENT
BEGIN:VEVENT
DTSTART;TZID=America/New_York:20251107T170000
DTEND;TZID=America/New_York:20251107T203000
DTSTAMP:20260425T120154
CREATED:20251022T130042Z
LAST-MODIFIED:20251119T185050Z
UID:55950-1762534800-1762547400@864foodtrucks.com
SUMMARY:Fuel Foods @ Sugar Hill Tap House
DESCRIPTION:Fuel Foods – Food Truck & Catering\nClean\, Unique & Delicious!\nLocated in Clemson & Upstate\, SC 📍\nBook Us for Events! Contact for More Info!
URL:https://864foodtrucks.com/event/fuel-foods-sugar-hill-tap-house/2025-11-07/
LOCATION:Sugar Hill Taphouse\, City Square 302\, Belton\, South Carolina\, 29627\, United States
CATEGORIES:Belton,Food Truck Schedules
ATTACH;FMTTYPE=image/png:https://864foodtrucks.com/wp-content/uploads/2025/03/Fuel-Foods-.png
ORGANIZER;CN="Fuel Foods Food Truck":MAILTO:fuelfoods.truck@gmail.com
GEO:34.5231693;-82.4934273
X-APPLE-STRUCTURED-LOCATION;VALUE=URI;X-ADDRESS=Sugar Hill Taphouse City Square 302 Belton South Carolina 29627 United States;X-APPLE-RADIUS=500;X-TITLE=City Square 302:geo:-82.4934273,34.5231693
END:VEVENT
BEGIN:VEVENT
DTSTART;TZID=America/New_York:20251121T170000
DTEND;TZID=America/New_York:20251121T203000
DTSTAMP:20260425T120154
CREATED:20251022T130042Z
LAST-MODIFIED:20251022T130042Z
UID:56448-1763744400-1763757000@864foodtrucks.com
SUMMARY:Fuel Foods @ Sugar Hill Tap House
DESCRIPTION:Fuel Foods – Food Truck & Catering\nClean\, Unique & Delicious!\nLocated in Clemson & Upstate\, SC 📍\nBook Us for Events! Contact for More Info!
URL:https://864foodtrucks.com/event/fuel-foods-sugar-hill-tap-house/2025-11-21/
LOCATION:Sugar Hill Taphouse\, City Square 302\, Belton\, South Carolina\, 29627\, United States
CATEGORIES:Belton,Food Truck Schedules
ATTACH;FMTTYPE=image/png:https://864foodtrucks.com/wp-content/uploads/2025/03/Fuel-Foods-.png
ORGANIZER;CN="Fuel Foods Food Truck":MAILTO:fuelfoods.truck@gmail.com
GEO:34.5231693;-82.4934273
X-APPLE-STRUCTURED-LOCATION;VALUE=URI;X-ADDRESS=Sugar Hill Taphouse City Square 302 Belton South Carolina 29627 United States;X-APPLE-RADIUS=500;X-TITLE=City Square 302:geo:-82.4934273,34.5231693
END:VEVENT
BEGIN:VEVENT
DTSTART;TZID=America/New_York:20260213T170000
DTEND;TZID=America/New_York:20260213T200000
DTSTAMP:20260425T120154
CREATED:20260209T182849Z
LAST-MODIFIED:20260413T233552Z
UID:59572-1771002000-1771012800@864foodtrucks.com
SUMMARY:Fuel Foods @ Belton City Square
DESCRIPTION:Fuel Foods – Food Truck & Catering\nClean\, Unique & Delicious!\nLocated in Clemson & Upstate\, SC 📍\nBook Us for Events! Contact for More Info!
URL:https://864foodtrucks.com/event/fuel-foods-belton-city-square/2026-02-13/
LOCATION:City Square Belton\, 300 City Square\, Belton\, South Carolina
CATEGORIES:Belton,Food Truck Schedules
ATTACH;FMTTYPE=image/png:https://864foodtrucks.com/wp-content/uploads/2025/03/Fuel-Foods-.png
ORGANIZER;CN="Fuel Foods Food Truck":MAILTO:fuelfoods.truck@gmail.com
GEO:34.5228881;-82.4942948
X-APPLE-STRUCTURED-LOCATION;VALUE=URI;X-ADDRESS=City Square Belton 300 City Square Belton South Carolina;X-APPLE-RADIUS=500;X-TITLE=300 City Square:geo:-82.4942948,34.5228881
END:VEVENT
BEGIN:VEVENT
DTSTART;TZID=America/New_York:20260220T170000
DTEND;TZID=America/New_York:20260220T200000
DTSTAMP:20260425T120154
CREATED:20260209T182849Z
LAST-MODIFIED:20260413T233552Z
UID:59775-1771606800-1771617600@864foodtrucks.com
SUMMARY:Fuel Foods @ Belton City Square
DESCRIPTION:Fuel Foods – Food Truck & Catering\nClean\, Unique & Delicious!\nLocated in Clemson & Upstate\, SC 📍\nBook Us for Events! Contact for More Info!
URL:https://864foodtrucks.com/event/fuel-foods-belton-city-square/2026-02-20/
LOCATION:City Square Belton\, 300 City Square\, Belton\, South Carolina
CATEGORIES:Belton,Food Truck Schedules
ATTACH;FMTTYPE=image/png:https://864foodtrucks.com/wp-content/uploads/2025/03/Fuel-Foods-.png
ORGANIZER;CN="Fuel Foods Food Truck":MAILTO:fuelfoods.truck@gmail.com
GEO:34.5228881;-82.4942948
X-APPLE-STRUCTURED-LOCATION;VALUE=URI;X-ADDRESS=City Square Belton 300 City Square Belton South Carolina;X-APPLE-RADIUS=500;X-TITLE=300 City Square:geo:-82.4942948,34.5228881
END:VEVENT
BEGIN:VEVENT
DTSTART;TZID=America/New_York:20260306T170000
DTEND;TZID=America/New_York:20260306T200000
DTSTAMP:20260425T120154
CREATED:20260209T182849Z
LAST-MODIFIED:20260413T233552Z
UID:60309-1772816400-1772827200@864foodtrucks.com
SUMMARY:Fuel Foods @ Belton City Square
DESCRIPTION:Fuel Foods – Food Truck & Catering\nClean\, Unique & Delicious!\nLocated in Clemson & Upstate\, SC 📍\nBook Us for Events! Contact for More Info!
URL:https://864foodtrucks.com/event/fuel-foods-belton-city-square/2026-03-06/
LOCATION:City Square Belton\, 300 City Square\, Belton\, South Carolina
CATEGORIES:Belton,Food Truck Schedules
ATTACH;FMTTYPE=image/png:https://864foodtrucks.com/wp-content/uploads/2025/03/Fuel-Foods-.png
ORGANIZER;CN="Fuel Foods Food Truck":MAILTO:fuelfoods.truck@gmail.com
GEO:34.5228881;-82.4942948
X-APPLE-STRUCTURED-LOCATION;VALUE=URI;X-ADDRESS=City Square Belton 300 City Square Belton South Carolina;X-APPLE-RADIUS=500;X-TITLE=300 City Square:geo:-82.4942948,34.5228881
END:VEVENT
BEGIN:VEVENT
DTSTART;TZID=America/New_York:20260313T170000
DTEND;TZID=America/New_York:20260313T200000
DTSTAMP:20260425T120154
CREATED:20260209T182849Z
LAST-MODIFIED:20260413T233552Z
UID:60497-1773421200-1773432000@864foodtrucks.com
SUMMARY:Fuel Foods @ Belton City Square
DESCRIPTION:Fuel Foods – Food Truck & Catering\nClean\, Unique & Delicious!\nLocated in Clemson & Upstate\, SC 📍\nBook Us for Events! Contact for More Info!
URL:https://864foodtrucks.com/event/fuel-foods-belton-city-square/2026-03-13/
LOCATION:City Square Belton\, 300 City Square\, Belton\, South Carolina
CATEGORIES:Belton,Food Truck Schedules
ATTACH;FMTTYPE=image/png:https://864foodtrucks.com/wp-content/uploads/2025/03/Fuel-Foods-.png
ORGANIZER;CN="Fuel Foods Food Truck":MAILTO:fuelfoods.truck@gmail.com
GEO:34.5228881;-82.4942948
X-APPLE-STRUCTURED-LOCATION;VALUE=URI;X-ADDRESS=City Square Belton 300 City Square Belton South Carolina;X-APPLE-RADIUS=500;X-TITLE=300 City Square:geo:-82.4942948,34.5228881
END:VEVENT
BEGIN:VEVENT
DTSTART;TZID=America/New_York:20260314T110000
DTEND;TZID=America/New_York:20260314T143000
DTSTAMP:20260425T120154
CREATED:20260309T235721Z
LAST-MODIFIED:20260309T235721Z
UID:60496-1773486000-1773498600@864foodtrucks.com
SUMMARY:Fuel Foods @ BAMA Rummage Sale
DESCRIPTION:Fuel Foods – Food Truck & Catering\nClean\, Unique & Delicious!\nLocated in Clemson & Upstate\, SC 📍\nBook Us for Events! Contact for More Info!
URL:https://864foodtrucks.com/event/fuel-foods-bama-rummage-sale/
LOCATION:Belton Depot Museum\, 100 North Main Street\, Belton\, South Carolina
CATEGORIES:Belton,Food Truck Schedules
ATTACH;FMTTYPE=image/png:https://864foodtrucks.com/wp-content/uploads/2025/03/Fuel-Foods-.png
ORGANIZER;CN="Fuel Foods Food Truck":MAILTO:fuelfoods.truck@gmail.com
GEO:34.5223382;-82.4940775
X-APPLE-STRUCTURED-LOCATION;VALUE=URI;X-ADDRESS=Belton Depot Museum 100 North Main Street Belton South Carolina;X-APPLE-RADIUS=500;X-TITLE=100 North Main Street:geo:-82.4940775,34.5223382
END:VEVENT
BEGIN:VEVENT
DTSTART;TZID=America/New_York:20260320T170000
DTEND;TZID=America/New_York:20260320T200000
DTSTAMP:20260425T120154
CREATED:20260209T182849Z
LAST-MODIFIED:20260413T233552Z
UID:60778-1774026000-1774036800@864foodtrucks.com
SUMMARY:Fuel Foods @ Belton City Square
DESCRIPTION:Fuel Foods – Food Truck & Catering\nClean\, Unique & Delicious!\nLocated in Clemson & Upstate\, SC 📍\nBook Us for Events! Contact for More Info!
URL:https://864foodtrucks.com/event/fuel-foods-belton-city-square/2026-03-20/
LOCATION:City Square Belton\, 300 City Square\, Belton\, South Carolina
CATEGORIES:Belton,Food Truck Schedules
ATTACH;FMTTYPE=image/png:https://864foodtrucks.com/wp-content/uploads/2025/03/Fuel-Foods-.png
ORGANIZER;CN="Fuel Foods Food Truck":MAILTO:fuelfoods.truck@gmail.com
GEO:34.5228881;-82.4942948
X-APPLE-STRUCTURED-LOCATION;VALUE=URI;X-ADDRESS=City Square Belton 300 City Square Belton South Carolina;X-APPLE-RADIUS=500;X-TITLE=300 City Square:geo:-82.4942948,34.5228881
END:VEVENT
BEGIN:VEVENT
DTSTART;TZID=America/New_York:20260327T170000
DTEND;TZID=America/New_York:20260327T200000
DTSTAMP:20260425T120154
CREATED:20260209T182849Z
LAST-MODIFIED:20260413T233553Z
UID:60993-1774630800-1774641600@864foodtrucks.com
SUMMARY:Fuel Foods @ Belton City Square
DESCRIPTION:Fuel Foods – Food Truck & Catering\nClean\, Unique & Delicious!\nLocated in Clemson & Upstate\, SC 📍\nBook Us for Events! Contact for More Info!
URL:https://864foodtrucks.com/event/fuel-foods-belton-city-square/2026-03-27/
LOCATION:City Square Belton\, 300 City Square\, Belton\, South Carolina
CATEGORIES:Belton,Food Truck Schedules
ATTACH;FMTTYPE=image/png:https://864foodtrucks.com/wp-content/uploads/2025/03/Fuel-Foods-.png
ORGANIZER;CN="Fuel Foods Food Truck":MAILTO:fuelfoods.truck@gmail.com
GEO:34.5228881;-82.4942948
X-APPLE-STRUCTURED-LOCATION;VALUE=URI;X-ADDRESS=City Square Belton 300 City Square Belton South Carolina;X-APPLE-RADIUS=500;X-TITLE=300 City Square:geo:-82.4942948,34.5228881
END:VEVENT
BEGIN:VEVENT
DTSTART;TZID=America/New_York:20260328T110000
DTEND;TZID=America/New_York:20260328T143000
DTSTAMP:20260425T120154
CREATED:20260323T204254Z
LAST-MODIFIED:20260323T204254Z
UID:60995-1774695600-1774708200@864foodtrucks.com
SUMMARY:Fuel Foods @ Emerge Church Easter Event
DESCRIPTION:Fuel Foods – Food Truck & Catering\nClean\, Unique & Delicious!\nLocated in Clemson & Upstate\, SC 📍\nBook Us for Events! Contact for More Info!
URL:https://864foodtrucks.com/event/fuel-foods-emerge-church-easter-event/
LOCATION:Emerge Church\, 13701 SC-20\, Belton\, South Carolina
CATEGORIES:Belton,Food Truck Schedules
ATTACH;FMTTYPE=image/png:https://864foodtrucks.com/wp-content/uploads/2025/03/Fuel-Foods-.png
ORGANIZER;CN="Fuel Foods Food Truck":MAILTO:fuelfoods.truck@gmail.com
GEO:34.5660738;-82.4892387
X-APPLE-STRUCTURED-LOCATION;VALUE=URI;X-ADDRESS=Emerge Church 13701 SC-20 Belton South Carolina;X-APPLE-RADIUS=500;X-TITLE=13701 SC-20:geo:-82.4892387,34.5660738
END:VEVENT
BEGIN:VEVENT
DTSTART;TZID=America/New_York:20260402T170000
DTEND;TZID=America/New_York:20260402T200000
DTSTAMP:20260425T120154
CREATED:20260209T182849Z
LAST-MODIFIED:20260413T233553Z
UID:61263-1775149200-1775160000@864foodtrucks.com
SUMMARY:Fuel Foods @ Belton City Square
DESCRIPTION:Fuel Foods – Food Truck & Catering\nClean\, Unique & Delicious!\nLocated in Clemson & Upstate\, SC 📍\nBook Us for Events! Contact for More Info!
URL:https://864foodtrucks.com/event/fuel-foods-belton-city-square/2026-04-02/
LOCATION:City Square Belton\, 300 City Square\, Belton\, South Carolina
CATEGORIES:Belton,Food Truck Schedules
ATTACH;FMTTYPE=image/png:https://864foodtrucks.com/wp-content/uploads/2025/03/Fuel-Foods-.png
ORGANIZER;CN="Fuel Foods Food Truck":MAILTO:fuelfoods.truck@gmail.com
GEO:34.5228881;-82.4942948
X-APPLE-STRUCTURED-LOCATION;VALUE=URI;X-ADDRESS=City Square Belton 300 City Square Belton South Carolina;X-APPLE-RADIUS=500;X-TITLE=300 City Square:geo:-82.4942948,34.5228881
END:VEVENT
BEGIN:VEVENT
DTSTART;TZID=America/New_York:20260417T170000
DTEND;TZID=America/New_York:20260417T200000
DTSTAMP:20260425T120154
CREATED:20260209T182849Z
LAST-MODIFIED:20260209T182849Z
UID:61850-1776445200-1776456000@864foodtrucks.com
SUMMARY:Fuel Foods @ Belton City Square
DESCRIPTION:Fuel Foods – Food Truck & Catering\nClean\, Unique & Delicious!\nLocated in Clemson & Upstate\, SC 📍\nBook Us for Events! Contact for More Info!
URL:https://864foodtrucks.com/event/fuel-foods-belton-city-square/2026-04-17/
LOCATION:City Square Belton\, 300 City Square\, Belton\, South Carolina
CATEGORIES:Belton,Food Truck Schedules
ATTACH;FMTTYPE=image/png:https://864foodtrucks.com/wp-content/uploads/2025/03/Fuel-Foods-.png
ORGANIZER;CN="Fuel Foods Food Truck":MAILTO:fuelfoods.truck@gmail.com
GEO:34.5228881;-82.4942948
X-APPLE-STRUCTURED-LOCATION;VALUE=URI;X-ADDRESS=City Square Belton 300 City Square Belton South Carolina;X-APPLE-RADIUS=500;X-TITLE=300 City Square:geo:-82.4942948,34.5228881
END:VEVENT
END:VCALENDAR