BEGIN:VCALENDAR
VERSION:2.0
PRODID:-//864 Food Trucks - ECPv6.15.20//NONSGML v1.0//EN
CALSCALE:GREGORIAN
METHOD:PUBLISH
X-WR-CALNAME:864 Food Trucks
X-ORIGINAL-URL:https://864foodtrucks.com
X-WR-CALDESC:Events for 864 Food Trucks
REFRESH-INTERVAL;VALUE=DURATION:PT1H
X-Robots-Tag:noindex
X-PUBLISHED-TTL:PT1H
BEGIN:VTIMEZONE
TZID:America/New_York
BEGIN:DAYLIGHT
TZOFFSETFROM:-0500
TZOFFSETTO:-0400
TZNAME:EDT
DTSTART:20210314T070000
END:DAYLIGHT
BEGIN:STANDARD
TZOFFSETFROM:-0400
TZOFFSETTO:-0500
TZNAME:EST
DTSTART:20211107T060000
END:STANDARD
BEGIN:DAYLIGHT
TZOFFSETFROM:-0500
TZOFFSETTO:-0400
TZNAME:EDT
DTSTART:20220313T070000
END:DAYLIGHT
BEGIN:STANDARD
TZOFFSETFROM:-0400
TZOFFSETTO:-0500
TZNAME:EST
DTSTART:20221106T060000
END:STANDARD
BEGIN:DAYLIGHT
TZOFFSETFROM:-0500
TZOFFSETTO:-0400
TZNAME:EDT
DTSTART:20230312T070000
END:DAYLIGHT
BEGIN:STANDARD
TZOFFSETFROM:-0400
TZOFFSETTO:-0500
TZNAME:EST
DTSTART:20231105T060000
END:STANDARD
BEGIN:DAYLIGHT
TZOFFSETFROM:-0500
TZOFFSETTO:-0400
TZNAME:EDT
DTSTART:20240310T070000
END:DAYLIGHT
BEGIN:STANDARD
TZOFFSETFROM:-0400
TZOFFSETTO:-0500
TZNAME:EST
DTSTART:20241103T060000
END:STANDARD
BEGIN:DAYLIGHT
TZOFFSETFROM:-0500
TZOFFSETTO:-0400
TZNAME:EDT
DTSTART:20250309T070000
END:DAYLIGHT
BEGIN:STANDARD
TZOFFSETFROM:-0400
TZOFFSETTO:-0500
TZNAME:EST
DTSTART:20251102T060000
END:STANDARD
BEGIN:DAYLIGHT
TZOFFSETFROM:-0500
TZOFFSETTO:-0400
TZNAME:EDT
DTSTART:20260308T070000
END:DAYLIGHT
BEGIN:STANDARD
TZOFFSETFROM:-0400
TZOFFSETTO:-0500
TZNAME:EST
DTSTART:20261101T060000
END:STANDARD
BEGIN:DAYLIGHT
TZOFFSETFROM:-0500
TZOFFSETTO:-0400
TZNAME:EDT
DTSTART:20270314T070000
END:DAYLIGHT
BEGIN:STANDARD
TZOFFSETFROM:-0400
TZOFFSETTO:-0500
TZNAME:EST
DTSTART:20271107T060000
END:STANDARD
END:VTIMEZONE
BEGIN:VEVENT
DTSTART;TZID=America/New_York:20260219T170000
DTEND;TZID=America/New_York:20260219T190000
DTSTAMP:20260424T005026
CREATED:20260216T002742Z
LAST-MODIFIED:20260216T002742Z
UID:59731-1771520400-1771527600@864foodtrucks.com
SUMMARY:The Noodle Lady @ Peachtree Village
DESCRIPTION:Authentic Chinese dishes for catering and events. Artisan Noodles and 100% Natural. Check out here our events calendar in Greenville\, South Carolina. #TheNoodleLady
URL:https://864foodtrucks.com/event/the-noodle-lady-peachtree-village/
LOCATION:Peachtree Village\, 1303 Peak View Drive\, Boiling Springs\, SC\, 29316\, United States
CATEGORIES:Boiling Springs,Food Truck Schedules
ATTACH;FMTTYPE=image/jpeg:https://864foodtrucks.com/wp-content/uploads/2023/07/Noodle-lady.jpg
ORGANIZER;CN="The Noodle Lady":MAILTO:thenoodlelady@yahoo.com
GEO:35.0638109;-81.9951473
X-APPLE-STRUCTURED-LOCATION;VALUE=URI;X-ADDRESS=Peachtree Village 1303 Peak View Drive Boiling Springs SC 29316 United States;X-APPLE-RADIUS=500;X-TITLE=1303 Peak View Drive:geo:-81.9951473,35.0638109
END:VEVENT
BEGIN:VEVENT
DTSTART;TZID=America/New_York:20250626T160000
DTEND;TZID=America/New_York:20250626T190000
DTSTAMP:20260424T005026
CREATED:20250623T225620Z
LAST-MODIFIED:20250623T225620Z
UID:48968-1750953600-1750964400@864foodtrucks.com
SUMMARY:Lai Sushi @ Glen Lake
DESCRIPTION:Roll into flavor at our food truck! Serving fresh\, hand-crafted sushi and bold Asian (Lai) fusion!
URL:https://864foodtrucks.com/event/lai-sushi-glen-lake/
LOCATION:Glen Lake\, 202 Stewarts Landing\, Boiling Springs\, South Carolina
CATEGORIES:Boiling Springs,Food Truck Schedules
ATTACH;FMTTYPE=image/jpeg:https://864foodtrucks.com/wp-content/uploads/2025/04/Lai-Sushi-Express.jpg
ORGANIZER;CN="Lai Sushi Express":MAILTO:Laisushiexpress@gmail.com
GEO:35.0233253;-81.978336
X-APPLE-STRUCTURED-LOCATION;VALUE=URI;X-ADDRESS=Glen Lake 202 Stewarts Landing Boiling Springs South Carolina;X-APPLE-RADIUS=500;X-TITLE=202 Stewarts Landing:geo:-81.978336,35.0233253
END:VEVENT
BEGIN:VEVENT
DTSTART;TZID=America/New_York:20250228T160000
DTEND;TZID=America/New_York:20250228T190000
DTSTAMP:20260424T005026
CREATED:20250224T194855Z
LAST-MODIFIED:20250224T194855Z
UID:42622-1740758400-1740769200@864foodtrucks.com
SUMMARY:Cinnabon @ Peachtree Village
DESCRIPTION:Cinnabon Food Truck Greenville
URL:https://864foodtrucks.com/event/cinnabon-peachtree-village/
LOCATION:Peachtree Village\, 1303 Peak View Drive\, Boiling Springs\, SC\, 29316\, United States
CATEGORIES:Boiling Springs,Food Truck Schedules
ATTACH;FMTTYPE=image/jpeg:https://864foodtrucks.com/wp-content/uploads/2024/12/326870080_1829549937401559_2632445834433428235_n-2.jpg
GEO:35.0638109;-81.9951473
X-APPLE-STRUCTURED-LOCATION;VALUE=URI;X-ADDRESS=Peachtree Village 1303 Peak View Drive Boiling Springs SC 29316 United States;X-APPLE-RADIUS=500;X-TITLE=1303 Peak View Drive:geo:-81.9951473,35.0638109
END:VEVENT
BEGIN:VEVENT
DTSTART;TZID=America/New_York:20240824T140000
DTEND;TZID=America/New_York:20240824T180000
DTSTAMP:20260424T005026
CREATED:20240821T181328Z
LAST-MODIFIED:20240821T181328Z
UID:33634-1724508000-1724522400@864foodtrucks.com
SUMMARY:Donut NV @ Lager Festival at New Grove
DESCRIPTION:DonutNV brings the party to your door! Hot mini donuts\, fresh squeezed lemonade\, coffee & more!
URL:https://864foodtrucks.com/event/donut-nv-lager-festival-at-new-grove/
LOCATION:New Grove\, South Carolina 9\, Bennettsville\, SC\, 29512\, United States
CATEGORIES:Boiling Springs,Food Truck Schedules
ATTACH;FMTTYPE=image/jpeg:https://864foodtrucks.com/wp-content/uploads/2023/11/DonutNV.jpg
ORGANIZER;CN="Donut NV Greenville":MAILTO:greenvillesc@donutnv.com
GEO:34.6427371;-79.7042213
X-APPLE-STRUCTURED-LOCATION;VALUE=URI;X-ADDRESS=New Grove South Carolina 9 Bennettsville SC 29512 United States;X-APPLE-RADIUS=500;X-TITLE=South Carolina 9:geo:-79.7042213,34.6427371
END:VEVENT
BEGIN:VEVENT
DTSTART;TZID=America/New_York:20231203T110000
DTEND;TZID=America/New_York:20231203T170000
DTSTAMP:20260424T005026
CREATED:20231129T194542Z
LAST-MODIFIED:20231129T194542Z
UID:24426-1701601200-1701622800@864foodtrucks.com
SUMMARY:KBBQ Food Truck @ Tractor Supply
DESCRIPTION:
URL:https://864foodtrucks.com/event/kbbq-food-truck-tractor-supply/
LOCATION:Tractor Supply Boiling Springs\, 4441 SC 9\, Boiling Springs\, SC\, United States
CATEGORIES:Boiling Springs,Food Truck Schedules
ATTACH;FMTTYPE=image/jpeg:https://864foodtrucks.com/wp-content/uploads/2023/11/KBBQ.jpg
ORGANIZER;CN="KBBQ Food Truck":MAILTO:kbbq1mallory@gmail.com
END:VEVENT
BEGIN:VEVENT
DTSTART;TZID=America/New_York:20231024T180000
DTEND;TZID=America/New_York:20231024T200000
DTSTAMP:20260424T005026
CREATED:20231023T001348Z
LAST-MODIFIED:20231023T001348Z
UID:23682-1698170400-1698177600@864foodtrucks.com
SUMMARY:Lobster Dogs @ Boiling Spring High
DESCRIPTION:Food truck serving the Best Lobster Rolls & Stuffed Avocados in the Carolinas
URL:https://864foodtrucks.com/event/lobster-dogs-boiling-spring-high/
LOCATION:Boilng Springs High School\, Old Furnace Road 2251\, Boiling Springs\, South Carolina\, 29316\, United States
CATEGORIES:Boiling Springs,Food Truck Schedules
ATTACH;FMTTYPE=image/jpeg:https://864foodtrucks.com/wp-content/uploads/2021/05/lobster-dogs-Food-Truck.jpg
ORGANIZER;CN="Lobster Dogs":MAILTO:lobsterdogs3@gmail.com
GEO:35.0478277;-81.9730103
X-APPLE-STRUCTURED-LOCATION;VALUE=URI;X-ADDRESS=Boilng Springs High School Old Furnace Road 2251 Boiling Springs South Carolina 29316 United States;X-APPLE-RADIUS=500;X-TITLE=Old Furnace Road 2251:geo:-81.9730103,35.0478277
END:VEVENT
BEGIN:VEVENT
DTSTART;TZID=America/New_York:20230928T160000
DTEND;TZID=America/New_York:20230928T190000
DTSTAMP:20260424T005026
CREATED:20230924T004621Z
LAST-MODIFIED:20241209T214836Z
UID:23053-1695916800-1695927600@864foodtrucks.com
SUMMARY:Lobster Dogs @ Tractor Supply Boiling Springs
DESCRIPTION:Food truck serving the Best Lobster Rolls & Stuffed Avocados in the Carolinas
URL:https://864foodtrucks.com/event/lobster-dogs-tractor-supply-boiling-springs-2/2023-09-28/
LOCATION:Tractor Supply Boiling Springs\, 4441 SC 9\, Boiling Springs\, SC\, United States
CATEGORIES:Boiling Springs,Food Truck Schedules
ATTACH;FMTTYPE=image/jpeg:https://864foodtrucks.com/wp-content/uploads/2021/05/lobster-dogs-Food-Truck.jpg
ORGANIZER;CN="Lobster Dogs":MAILTO:lobsterdogs3@gmail.com
END:VEVENT
BEGIN:VEVENT
DTSTART;TZID=America/New_York:20230926T170000
DTEND;TZID=America/New_York:20230926T200000
DTSTAMP:20260424T005026
CREATED:20230926T003938Z
LAST-MODIFIED:20230926T003938Z
UID:23171-1695747600-1695758400@864foodtrucks.com
SUMMARY:Cheez Press @ Peachtree Village
DESCRIPTION:Food Truck with gourmet grilled cheese sandwiches and soup.
URL:https://864foodtrucks.com/event/cheez-press-peachtree-village/
LOCATION:Peachtree Village\, 1303 Peak View Drive\, Boiling Springs\, SC\, 29316\, United States
CATEGORIES:Boiling Springs,Food Truck Schedules
ATTACH;FMTTYPE=image/png:https://864foodtrucks.com/wp-content/uploads/2021/05/The-Cheez-press.png
ORGANIZER;CN="The Cheez Press":MAILTO:jimbonnie2000@gmail.com
GEO:35.0638109;-81.9951473
X-APPLE-STRUCTURED-LOCATION;VALUE=URI;X-ADDRESS=Peachtree Village 1303 Peak View Drive Boiling Springs SC 29316 United States;X-APPLE-RADIUS=500;X-TITLE=1303 Peak View Drive:geo:-81.9951473,35.0638109
END:VEVENT
BEGIN:VEVENT
DTSTART;TZID=America/New_York:20230804T173000
DTEND;TZID=America/New_York:20230804T193000
DTSTAMP:20260424T005026
CREATED:20230801T160851Z
LAST-MODIFIED:20230801T160851Z
UID:21732-1691170200-1691177400@864foodtrucks.com
SUMMARY:Churro Masters @ The Promenade
DESCRIPTION:Delicious CHURROS made fresh!
URL:https://864foodtrucks.com/event/churro-masters-the-promenade/
LOCATION:The Promenade at Boiling Springs\, 901 Dornoch Drive\, Boiling Springs\, South Carolina
CATEGORIES:Boiling Springs,Food Truck Schedules
ATTACH;FMTTYPE=image/jpeg:https://864foodtrucks.com/wp-content/uploads/2023/05/Churro-Masters-1.jpg
ORGANIZER;CN="Churro Masters":MAILTO:Churromastersemail@gmail.com
GEO:35.0365731;-81.9701865
X-APPLE-STRUCTURED-LOCATION;VALUE=URI;X-ADDRESS=The Promenade at Boiling Springs 901 Dornoch Drive Boiling Springs South Carolina;X-APPLE-RADIUS=500;X-TITLE=901 Dornoch Drive:geo:-81.9701865,35.0365731
END:VEVENT
BEGIN:VEVENT
DTSTART;TZID=America/New_York:20230624T120000
DTEND;TZID=America/New_York:20230624T160000
DTSTAMP:20260424T005026
CREATED:20230621T211918Z
LAST-MODIFIED:20230621T211918Z
UID:19922-1687608000-1687622400@864foodtrucks.com
SUMMARY:Yum Bai @ Crispifest Lager Festival
DESCRIPTION:Asian fusion street food
URL:https://864foodtrucks.com/event/yum-bai-crispifest-lager-festival/
LOCATION:Boiling Springs\, Boiling Springs\, SC\, United States
CATEGORIES:Boiling Springs,Food Truck Schedules
ATTACH;FMTTYPE=image/jpeg:https://864foodtrucks.com/wp-content/uploads/2021/05/Yum-Bai.jpg
ORGANIZER;CN="Yum Bai":MAILTO:yumbaisc@gmail.com
END:VEVENT
BEGIN:VEVENT
DTSTART;TZID=America/New_York:20230616T173000
DTEND;TZID=America/New_York:20230616T193000
DTSTAMP:20260424T005026
CREATED:20230612T120041Z
LAST-MODIFIED:20230612T120041Z
UID:19644-1686936600-1686943800@864foodtrucks.com
SUMMARY:Larrio's Doggie Wagon @ Hanging Rock
DESCRIPTION:Larrio’s Doggie Wagon is a mobile hot dog cart and catering service and birthday and event.
URL:https://864foodtrucks.com/event/larrios-doggie-wagon-hanging-rock/
LOCATION:Hanging Rock\, 101 Slate Dr\, Boiling Springs\, South Carolina
CATEGORIES:Boiling Springs,Food Truck Schedules
ATTACH;FMTTYPE=image/jpeg:https://864foodtrucks.com/wp-content/uploads/2022/03/Larrios-Doggie-Wagon-Display.jpg
ORGANIZER;CN="Larrio's Doggie Wagon":MAILTO:larriosdoggiewagon@yahoo.com
GEO:35.0389734;-82.0022709
X-APPLE-STRUCTURED-LOCATION;VALUE=URI;X-ADDRESS=Hanging Rock 101 Slate Dr Boiling Springs South Carolina;X-APPLE-RADIUS=500;X-TITLE=101 Slate Dr:geo:-82.0022709,35.0389734
END:VEVENT
BEGIN:VEVENT
DTSTART;TZID=America/New_York:20230415T110000
DTEND;TZID=America/New_York:20230415T230000
DTSTAMP:20260424T005026
CREATED:20230412T123322Z
LAST-MODIFIED:20230412T123322Z
UID:18213-1681556400-1681599600@864foodtrucks.com
SUMMARY:Yum Bai @ Spartanburg Buddhist Center of SC
DESCRIPTION:Asian fusion street food
URL:https://864foodtrucks.com/event/yum-bai-spartanburg-buddhist-center-of-sc/2023-04-15/
LOCATION:Spartanburg Buddhist Center of SC\, 770 Bryant Rd\, Spartanburg\, South Carolina
CATEGORIES:Boiling Springs,Food Truck Schedules
ATTACH;FMTTYPE=image/jpeg:https://864foodtrucks.com/wp-content/uploads/2021/05/Yum-Bai.jpg
ORGANIZER;CN="Yum Bai":MAILTO:yumbaisc@gmail.com
GEO:35.009504;-81.9268075
X-APPLE-STRUCTURED-LOCATION;VALUE=URI;X-ADDRESS=Spartanburg Buddhist Center of SC 770 Bryant Rd Spartanburg South Carolina;X-APPLE-RADIUS=500;X-TITLE=770 Bryant Rd:geo:-81.9268075,35.009504
END:VEVENT
BEGIN:VEVENT
DTSTART;TZID=America/New_York:20230315T110000
DTEND;TZID=America/New_York:20230315T140000
DTSTAMP:20260424T005026
CREATED:20230312T200959Z
LAST-MODIFIED:20230312T200959Z
UID:17414-1678878000-1678888800@864foodtrucks.com
SUMMARY:Lobster Dogs @ Tractor Supply Boiling Springs
DESCRIPTION:Food truck serving the Best Lobster Rolls & Stuffed Avocados in the Carolinas
URL:https://864foodtrucks.com/event/lobster-dogs-tractor-supply-boiling-springs/
LOCATION:Tractor Supply Boiling Springs\, 4441 SC 9\, Boiling Springs\, SC\, United States
CATEGORIES:Boiling Springs,Food Truck Schedules
ATTACH;FMTTYPE=image/jpeg:https://864foodtrucks.com/wp-content/uploads/2021/05/lobster-dogs-Food-Truck.jpg
ORGANIZER;CN="Lobster Dogs":MAILTO:lobsterdogs3@gmail.com
END:VEVENT
BEGIN:VEVENT
DTSTART;TZID=America/New_York:20230114T120000
DTEND;TZID=America/New_York:20230114T160000
DTSTAMP:20260424T005026
CREATED:20230110T002219Z
LAST-MODIFIED:20230110T002219Z
UID:16076-1673697600-1673712000@864foodtrucks.com
SUMMARY:Yum Bai @ Wood-Aged Beerfest
DESCRIPTION:Asian fusion street food
URL:https://864foodtrucks.com/event/yum-bai-wood-aged-beerfest/
LOCATION:Wood-Aged Beerfest\, Boiling Springs\, SC\, United States
CATEGORIES:Boiling Springs,Food Truck Schedules
ATTACH;FMTTYPE=image/jpeg:https://864foodtrucks.com/wp-content/uploads/2021/05/Yum-Bai.jpg
ORGANIZER;CN="Yum Bai":MAILTO:yumbaisc@gmail.com
END:VEVENT
BEGIN:VEVENT
DTSTART;TZID=America/New_York:20221210T110000
DTEND;TZID=America/New_York:20221210T140000
DTSTAMP:20260424T005026
CREATED:20221204T234609Z
LAST-MODIFIED:20221204T234609Z
UID:15408-1670670000-1670680800@864foodtrucks.com
SUMMARY:Lobster Dogs @ VFW Christmas Craft Sale
DESCRIPTION:Great food on the go. Fill your cup and go. We are the best Mediterranean food trailer in Greenville \, Sc
URL:https://864foodtrucks.com/event/lobster-dogs-vfw-christmas-craft-sale/
LOCATION:VFW Christmas Craft Sale\, 1820 Old Furnace Rd\, Boiling Springs
CATEGORIES:Boiling Springs,Food Truck Schedules
ATTACH;FMTTYPE=image/jpeg:https://864foodtrucks.com/wp-content/uploads/2021/05/lobster-dogs-Food-Truck.jpg
ORGANIZER;CN="Lobster Dogs":MAILTO:lobsterdogs3@gmail.com
END:VEVENT
END:VCALENDAR