BEGIN:VCALENDAR
VERSION:2.0
PRODID:-//864 Food Trucks - ECPv6.15.20//NONSGML v1.0//EN
CALSCALE:GREGORIAN
METHOD:PUBLISH
X-ORIGINAL-URL:https://864foodtrucks.com
X-WR-CALDESC:Events for 864 Food Trucks
REFRESH-INTERVAL;VALUE=DURATION:PT1H
X-Robots-Tag:noindex
X-PUBLISHED-TTL:PT1H
BEGIN:VTIMEZONE
TZID:America/New_York
BEGIN:DAYLIGHT
TZOFFSETFROM:-0500
TZOFFSETTO:-0400
TZNAME:EDT
DTSTART:20210314T070000
END:DAYLIGHT
BEGIN:STANDARD
TZOFFSETFROM:-0400
TZOFFSETTO:-0500
TZNAME:EST
DTSTART:20211107T060000
END:STANDARD
BEGIN:DAYLIGHT
TZOFFSETFROM:-0500
TZOFFSETTO:-0400
TZNAME:EDT
DTSTART:20220313T070000
END:DAYLIGHT
BEGIN:STANDARD
TZOFFSETFROM:-0400
TZOFFSETTO:-0500
TZNAME:EST
DTSTART:20221106T060000
END:STANDARD
BEGIN:DAYLIGHT
TZOFFSETFROM:-0500
TZOFFSETTO:-0400
TZNAME:EDT
DTSTART:20230312T070000
END:DAYLIGHT
BEGIN:STANDARD
TZOFFSETFROM:-0400
TZOFFSETTO:-0500
TZNAME:EST
DTSTART:20231105T060000
END:STANDARD
BEGIN:DAYLIGHT
TZOFFSETFROM:-0500
TZOFFSETTO:-0400
TZNAME:EDT
DTSTART:20240310T070000
END:DAYLIGHT
BEGIN:STANDARD
TZOFFSETFROM:-0400
TZOFFSETTO:-0500
TZNAME:EST
DTSTART:20241103T060000
END:STANDARD
END:VTIMEZONE
BEGIN:VEVENT
DTSTART;TZID=America/New_York:20230315T110000
DTEND;TZID=America/New_York:20230315T140000
DTSTAMP:20260424T023130
CREATED:20230312T200959Z
LAST-MODIFIED:20230312T200959Z
UID:17414-1678878000-1678888800@864foodtrucks.com
SUMMARY:Lobster Dogs @ Tractor Supply Boiling Springs
DESCRIPTION:Food truck serving the Best Lobster Rolls & Stuffed Avocados in the Carolinas
URL:https://864foodtrucks.com/event/lobster-dogs-tractor-supply-boiling-springs/
LOCATION:Tractor Supply Boiling Springs\, 4441 SC 9\, Boiling Springs\, SC\, United States
CATEGORIES:Boiling Springs,Food Truck Schedules
ATTACH;FMTTYPE=image/jpeg:https://864foodtrucks.com/wp-content/uploads/2021/05/lobster-dogs-Food-Truck.jpg
ORGANIZER;CN="Lobster Dogs":MAILTO:lobsterdogs3@gmail.com
END:VEVENT
BEGIN:VEVENT
DTSTART;TZID=America/New_York:20230114T120000
DTEND;TZID=America/New_York:20230114T160000
DTSTAMP:20260424T023130
CREATED:20230110T002219Z
LAST-MODIFIED:20230110T002219Z
UID:16076-1673697600-1673712000@864foodtrucks.com
SUMMARY:Yum Bai @ Wood-Aged Beerfest
DESCRIPTION:Asian fusion street food
URL:https://864foodtrucks.com/event/yum-bai-wood-aged-beerfest/
LOCATION:Wood-Aged Beerfest\, Boiling Springs\, SC\, United States
CATEGORIES:Boiling Springs,Food Truck Schedules
ATTACH;FMTTYPE=image/jpeg:https://864foodtrucks.com/wp-content/uploads/2021/05/Yum-Bai.jpg
ORGANIZER;CN="Yum Bai":MAILTO:yumbaisc@gmail.com
END:VEVENT
BEGIN:VEVENT
DTSTART;TZID=America/New_York:20221210T110000
DTEND;TZID=America/New_York:20221210T140000
DTSTAMP:20260424T023130
CREATED:20221204T234609Z
LAST-MODIFIED:20221204T234609Z
UID:15408-1670670000-1670680800@864foodtrucks.com
SUMMARY:Lobster Dogs @ VFW Christmas Craft Sale
DESCRIPTION:Great food on the go. Fill your cup and go. We are the best Mediterranean food trailer in Greenville \, Sc
URL:https://864foodtrucks.com/event/lobster-dogs-vfw-christmas-craft-sale/
LOCATION:VFW Christmas Craft Sale\, 1820 Old Furnace Rd\, Boiling Springs
CATEGORIES:Boiling Springs,Food Truck Schedules
ATTACH;FMTTYPE=image/jpeg:https://864foodtrucks.com/wp-content/uploads/2021/05/lobster-dogs-Food-Truck.jpg
ORGANIZER;CN="Lobster Dogs":MAILTO:lobsterdogs3@gmail.com
END:VEVENT
END:VCALENDAR