BEGIN:VCALENDAR
VERSION:2.0
PRODID:-//864 Food Trucks - ECPv6.15.20//NONSGML v1.0//EN
CALSCALE:GREGORIAN
METHOD:PUBLISH
X-ORIGINAL-URL:https://864foodtrucks.com
X-WR-CALDESC:Events for 864 Food Trucks
REFRESH-INTERVAL;VALUE=DURATION:PT1H
X-Robots-Tag:noindex
X-PUBLISHED-TTL:PT1H
BEGIN:VTIMEZONE
TZID:America/New_York
BEGIN:DAYLIGHT
TZOFFSETFROM:-0500
TZOFFSETTO:-0400
TZNAME:EDT
DTSTART:20250309T070000
END:DAYLIGHT
BEGIN:STANDARD
TZOFFSETFROM:-0400
TZOFFSETTO:-0500
TZNAME:EST
DTSTART:20251102T060000
END:STANDARD
BEGIN:DAYLIGHT
TZOFFSETFROM:-0500
TZOFFSETTO:-0400
TZNAME:EDT
DTSTART:20260308T070000
END:DAYLIGHT
BEGIN:STANDARD
TZOFFSETFROM:-0400
TZOFFSETTO:-0500
TZNAME:EST
DTSTART:20261101T060000
END:STANDARD
BEGIN:DAYLIGHT
TZOFFSETFROM:-0500
TZOFFSETTO:-0400
TZNAME:EDT
DTSTART:20270314T070000
END:DAYLIGHT
BEGIN:STANDARD
TZOFFSETFROM:-0400
TZOFFSETTO:-0500
TZNAME:EST
DTSTART:20271107T060000
END:STANDARD
END:VTIMEZONE
BEGIN:VEVENT
DTSTART;TZID=America/New_York:20260212T170000
DTEND;TZID=America/New_York:20260212T200000
DTSTAMP:20260425T162221
CREATED:20260209T183800Z
LAST-MODIFIED:20260209T183800Z
UID:59574-1770915600-1770926400@864foodtrucks.com
SUMMARY:Fuel Foods @ Daniel Girls Soccer Game
DESCRIPTION:Fuel Foods – Food Truck & Catering\nClean\, Unique & Delicious!\nLocated in Clemson & Upstate\, SC 📍\nBook Us for Events! Contact for More Info!
URL:https://864foodtrucks.com/event/fuel-foods-daniel-girls-soccer-game/
LOCATION:Daniel High School\, 140 Blue and Gold Blvd\, Central\, South Carolina
CATEGORIES:Central,Food Truck Schedules
ATTACH;FMTTYPE=image/png:https://864foodtrucks.com/wp-content/uploads/2025/03/Fuel-Foods-.png
GEO:34.7390448;-82.8337308
X-APPLE-STRUCTURED-LOCATION;VALUE=URI;X-ADDRESS=Daniel High School 140 Blue and Gold Blvd Central South Carolina;X-APPLE-RADIUS=500;X-TITLE=140 Blue and Gold Blvd:geo:-82.8337308,34.7390448
END:VEVENT
BEGIN:VEVENT
DTSTART;TZID=America/New_York:20260305T110000
DTEND;TZID=America/New_York:20260305T150000
DTSTAMP:20260425T162221
CREATED:20260302T200130Z
LAST-MODIFIED:20260302T200130Z
UID:60303-1772708400-1772722800@864foodtrucks.com
SUMMARY:Fuel Foods @ Maverick Hills
DESCRIPTION:Fuel Foods – Food Truck & Catering\nClean\, Unique & Delicious!\nLocated in Clemson & Upstate\, SC 📍\nBook Us for Events! Contact for More Info!
URL:https://864foodtrucks.com/event/fuel-foods-maverick-hills/
LOCATION:Maverick Hills\, Central\, South Carolina
CATEGORIES:Central,Food Truck Schedules
ATTACH;FMTTYPE=image/png:https://864foodtrucks.com/wp-content/uploads/2025/03/Fuel-Foods-.png
ORGANIZER;CN="Fuel Foods Food Truck":MAILTO:fuelfoods.truck@gmail.com
GEO:34.7242749;-82.7812526
END:VEVENT
BEGIN:VEVENT
DTSTART;TZID=America/New_York:20260419T120000
DTEND;TZID=America/New_York:20260419T183000
DTSTAMP:20260425T162221
CREATED:20260412T194623Z
LAST-MODIFIED:20260412T194623Z
UID:61793-1776600000-1776623400@864foodtrucks.com
SUMMARY:Simpell Sammies @ Central Roller Mill
DESCRIPTION:Simpell Sammies is open for business and ready to serve you flavorful and delicious sandwiches and hoagies.
URL:https://864foodtrucks.com/event/simpell-sammies-central-roller-mill/
LOCATION:Central Roller Mill\, 300 Maden Bridge Rd\, Central\, South Carolina
CATEGORIES:Central,Food Truck Schedules
ATTACH;FMTTYPE=image/jpeg:https://864foodtrucks.com/wp-content/uploads/2023/06/Simpell-Sammies-Trailer.jpg
ORGANIZER;CN="Simpell Sammies":MAILTO:info@simpelltreats.com
GEO:34.7247521;-82.7849077
X-APPLE-STRUCTURED-LOCATION;VALUE=URI;X-ADDRESS=Central Roller Mill 300 Maden Bridge Rd Central South Carolina;X-APPLE-RADIUS=500;X-TITLE=300 Maden Bridge Rd:geo:-82.7849077,34.7247521
END:VEVENT
END:VCALENDAR