BEGIN:VCALENDAR
VERSION:2.0
PRODID:-//864 Food Trucks - ECPv6.15.20//NONSGML v1.0//EN
CALSCALE:GREGORIAN
METHOD:PUBLISH
X-WR-CALNAME:864 Food Trucks
X-ORIGINAL-URL:https://864foodtrucks.com
X-WR-CALDESC:Events for 864 Food Trucks
REFRESH-INTERVAL;VALUE=DURATION:PT1H
X-Robots-Tag:noindex
X-PUBLISHED-TTL:PT1H
BEGIN:VTIMEZONE
TZID:America/New_York
BEGIN:DAYLIGHT
TZOFFSETFROM:-0500
TZOFFSETTO:-0400
TZNAME:EDT
DTSTART:20220313T070000
END:DAYLIGHT
BEGIN:STANDARD
TZOFFSETFROM:-0400
TZOFFSETTO:-0500
TZNAME:EST
DTSTART:20221106T060000
END:STANDARD
BEGIN:DAYLIGHT
TZOFFSETFROM:-0500
TZOFFSETTO:-0400
TZNAME:EDT
DTSTART:20230312T070000
END:DAYLIGHT
BEGIN:STANDARD
TZOFFSETFROM:-0400
TZOFFSETTO:-0500
TZNAME:EST
DTSTART:20231105T060000
END:STANDARD
BEGIN:DAYLIGHT
TZOFFSETFROM:-0500
TZOFFSETTO:-0400
TZNAME:EDT
DTSTART:20240310T070000
END:DAYLIGHT
BEGIN:STANDARD
TZOFFSETFROM:-0400
TZOFFSETTO:-0500
TZNAME:EST
DTSTART:20241103T060000
END:STANDARD
BEGIN:DAYLIGHT
TZOFFSETFROM:-0500
TZOFFSETTO:-0400
TZNAME:EDT
DTSTART:20250309T070000
END:DAYLIGHT
BEGIN:STANDARD
TZOFFSETFROM:-0400
TZOFFSETTO:-0500
TZNAME:EST
DTSTART:20251102T060000
END:STANDARD
END:VTIMEZONE
BEGIN:VEVENT
DTSTART;TZID=America/New_York:20230514T140000
DTEND;TZID=America/New_York:20230514T170000
DTSTAMP:20260425T203826
CREATED:20230510T184547Z
LAST-MODIFIED:20230510T184547Z
UID:18905-1684072800-1684083600@864foodtrucks.com
SUMMARY:The Wok Lobster @ Old Rock Quarry
DESCRIPTION:First and only Asian American🥢🥟food truck🚚 booking for festivals\, music venues AL\, TN\, GA\, NC\, SC
URL:https://864foodtrucks.com/event/the-wok-lobster-old-rock-quarry/
LOCATION:Old Rock Quarry Winery\, 620 Lawrence Road\, Enoree\, South Carolina
CATEGORIES:Enoree,Food Truck Schedules
ATTACH;FMTTYPE=image/jpeg:https://864foodtrucks.com/wp-content/uploads/2023/02/The-Wok-Lobster.jpg
ORGANIZER;CN="The Wok Lobster":MAILTO:thewoklobster@thewoklobster.net
GEO:34.6705982;-81.9458578
X-APPLE-STRUCTURED-LOCATION;VALUE=URI;X-ADDRESS=Old Rock Quarry Winery 620 Lawrence Road Enoree South Carolina;X-APPLE-RADIUS=500;X-TITLE=620 Lawrence Road:geo:-81.9458578,34.6705982
END:VEVENT
BEGIN:VEVENT
DTSTART;TZID=America/New_York:20240407T140000
DTEND;TZID=America/New_York:20240407T180000
DTSTAMP:20260425T203826
CREATED:20240401T191250Z
LAST-MODIFIED:20240602T235939Z
UID:27109-1712498400-1712512800@864foodtrucks.com
SUMMARY:Lobster Dogs @ Enoree River Winery
DESCRIPTION:Food truck serving the Best Lobster Rolls & Stuffed Avocados in the Carolinas
URL:https://864foodtrucks.com/event/lobster-dogs-enoree-river-winery/2024-04-07/
LOCATION:Enoree River Winery\, 1650 Dusty Rd\, Newberry\, South Carolina
CATEGORIES:Enoree,Food Truck Schedules
ATTACH;FMTTYPE=image/jpeg:https://864foodtrucks.com/wp-content/uploads/2021/05/lobster-dogs-Food-Truck.jpg
ORGANIZER;CN="Lobster Dogs":MAILTO:lobsterdogs3@gmail.com
GEO:34.313211;-81.560976
X-APPLE-STRUCTURED-LOCATION;VALUE=URI;X-ADDRESS=Enoree River Winery 1650 Dusty Rd Newberry South Carolina;X-APPLE-RADIUS=500;X-TITLE=1650 Dusty Rd:geo:-81.560976,34.313211
END:VEVENT
END:VCALENDAR