BEGIN:VCALENDAR
VERSION:2.0
PRODID:-//864 Food Trucks - ECPv6.15.20//NONSGML v1.0//EN
CALSCALE:GREGORIAN
METHOD:PUBLISH
X-ORIGINAL-URL:https://864foodtrucks.com
X-WR-CALDESC:Events for 864 Food Trucks
REFRESH-INTERVAL;VALUE=DURATION:PT1H
X-Robots-Tag:noindex
X-PUBLISHED-TTL:PT1H
BEGIN:VTIMEZONE
TZID:America/New_York
BEGIN:DAYLIGHT
TZOFFSETFROM:-0500
TZOFFSETTO:-0400
TZNAME:EDT
DTSTART:20240310T070000
END:DAYLIGHT
BEGIN:STANDARD
TZOFFSETFROM:-0400
TZOFFSETTO:-0500
TZNAME:EST
DTSTART:20241103T060000
END:STANDARD
BEGIN:DAYLIGHT
TZOFFSETFROM:-0500
TZOFFSETTO:-0400
TZNAME:EDT
DTSTART:20250309T070000
END:DAYLIGHT
BEGIN:STANDARD
TZOFFSETFROM:-0400
TZOFFSETTO:-0500
TZNAME:EST
DTSTART:20251102T060000
END:STANDARD
BEGIN:DAYLIGHT
TZOFFSETFROM:-0500
TZOFFSETTO:-0400
TZNAME:EDT
DTSTART:20260308T070000
END:DAYLIGHT
BEGIN:STANDARD
TZOFFSETFROM:-0400
TZOFFSETTO:-0500
TZNAME:EST
DTSTART:20261101T060000
END:STANDARD
END:VTIMEZONE
BEGIN:VEVENT
DTSTART;TZID=America/New_York:20251101T063000
DTEND;TZID=America/New_York:20251101T120000
DTSTAMP:20260425T140618
CREATED:20250701T192107Z
LAST-MODIFIED:20251103T142527Z
UID:55721-1761978600-1761998400@864foodtrucks.com
SUMMARY:Vita Nova @ 511 Conestee Rd
DESCRIPTION:The vision of Vita Nova is to bring communities together around good coffee\, delicacies and various entertainment!
URL:https://864foodtrucks.com/event/vita-nova-511-conestee-rd/2025-11-01/
LOCATION:511 Conestee Rd\, 511 Conestee Rd\, Greenville\, South Carolina
CATEGORIES:Food Truck Schedules,Greenville
ATTACH;FMTTYPE=image/jpeg:https://864foodtrucks.com/wp-content/uploads/2023/06/Vita-Nova-2.jpg
ORGANIZER;CN="Vita Nova Coffee And Tea":MAILTO:Vitanova3710@gmail.com
GEO:34.768332;-82.3524817
X-APPLE-STRUCTURED-LOCATION;VALUE=URI;X-ADDRESS=511 Conestee Rd 511 Conestee Rd Greenville South Carolina;X-APPLE-RADIUS=500;X-TITLE=511 Conestee Rd:geo:-82.3524817,34.768332
END:VEVENT
BEGIN:VEVENT
DTSTART;TZID=America/New_York:20251101T083000
DTEND;TZID=America/New_York:20251101T083000
DTSTAMP:20260425T140618
CREATED:20250217T222338Z
LAST-MODIFIED:20260420T151353Z
UID:55626-1761985800-1761985800@864foodtrucks.com
SUMMARY:Scout's Doughnuts @ Grateful Brew
DESCRIPTION:Handcrafted 100 Layer Doughnuts\nMade in Greenville\, SC #SweeterTogether
URL:https://864foodtrucks.com/event/scouts-doughnuts-grateful-brew-2/2025-11-01/
LOCATION:Grateful Brew\, 501 S Pleasantburg Dr\, Greenville\, SC\, 29607\, United States
CATEGORIES:Food Truck Schedules,Greenville
ATTACH;FMTTYPE=image/jpeg:https://864foodtrucks.com/wp-content/uploads/2022/08/Scouts-Doughnuts-1.jpg
ORGANIZER;CN="Scouts Doughnuts":MAILTO:hello@scoutsdoughnuts.com
GEO:34.8292844;-82.36962
X-APPLE-STRUCTURED-LOCATION;VALUE=URI;X-ADDRESS=Grateful Brew 501 S Pleasantburg Dr Greenville SC 29607 United States;X-APPLE-RADIUS=500;X-TITLE=501 S Pleasantburg Dr:geo:-82.36962,34.8292844
END:VEVENT
BEGIN:VEVENT
DTSTART;TZID=America/New_York:20251101T090000
DTEND;TZID=America/New_York:20251101T140000
DTSTAMP:20260425T140618
CREATED:20251021T124207Z
LAST-MODIFIED:20260421T172826Z
UID:55722-1761987600-1762005600@864foodtrucks.com
SUMMARY:The Rolling Dough @ Greenwood Hobby Lobby
DESCRIPTION:
URL:https://864foodtrucks.com/event/the-rolling-dough-greenwood-hobby-lobby/2025-11-01/
LOCATION:Hobby Lobby Greenwood\, 315 By-Pass 72 NW\, Greenwood\, 29649
CATEGORIES:Food Truck Schedules,Greenwood
ATTACH;FMTTYPE=image/jpeg:https://864foodtrucks.com/wp-content/uploads/2021/05/The-Rolling-Dough-Company-Truck.jpg
ORGANIZER;CN="The Rolling Dough Company":MAILTO:therollingdoughco@yahoo.com
GEO:34.2096048;-82.1777896
X-APPLE-STRUCTURED-LOCATION;VALUE=URI;X-ADDRESS=Hobby Lobby Greenwood 315 By-Pass 72 NW Greenwood 29649;X-APPLE-RADIUS=500;X-TITLE=315 By-Pass 72 NW:geo:-82.1777896,34.2096048
END:VEVENT
BEGIN:VEVENT
DTSTART;TZID=America/New_York:20251101T110000
DTEND;TZID=America/New_York:20251101T150000
DTSTAMP:20260425T140618
CREATED:20251029T000259Z
LAST-MODIFIED:20251029T000259Z
UID:55726-1761994800-1762009200@864foodtrucks.com
SUMMARY:Fuel Foods @ Anderson Makers Holiday Market
DESCRIPTION:Fuel Foods – Food Truck & Catering\nClean\, Unique & Delicious!\nLocated in Clemson & Upstate\, SC 📍\nBook Us for Events! Contact for More Info!
URL:https://864foodtrucks.com/event/fuel-foods-anderson-makers-holiday-market/
LOCATION:Rocky River Plantation\, East River Street 2000\, Anderson\, South Carolina\, 29621\, United States
CATEGORIES:Anderson,Food Truck Schedules
ATTACH;FMTTYPE=image/png:https://864foodtrucks.com/wp-content/uploads/2025/03/Fuel-Foods-.png
ORGANIZER;CN="Fuel Foods Food Truck":MAILTO:fuelfoods.truck@gmail.com
GEO:34.4958152;-82.6210591
X-APPLE-STRUCTURED-LOCATION;VALUE=URI;X-ADDRESS=Rocky River Plantation East River Street 2000 Anderson South Carolina 29621 United States;X-APPLE-RADIUS=500;X-TITLE=East River Street 2000:geo:-82.6210591,34.4958152
END:VEVENT
BEGIN:VEVENT
DTSTART;TZID=America/New_York:20251101T160000
DTEND;TZID=America/New_York:20251101T200000
DTSTAMP:20260425T140618
CREATED:20231029T224621Z
LAST-MODIFIED:20231029T224621Z
UID:55691-1762012800-1762027200@864foodtrucks.com
SUMMARY:Vita Nova Coffee & Tea @ Hampton Park Harvest
DESCRIPTION:The vision of Vita Nova is to bring communities together around good coffee\, delicacies and various entertainment!
URL:https://864foodtrucks.com/event/vita-nova-coffee-tea-hampton-park-harvest/2025-11-01/
LOCATION:Hampton Park Baptist Church\, 875 State Park Road\, Greenville\, South Carolina
CATEGORIES:Food Truck Schedules,Taylors
ATTACH;FMTTYPE=image/jpeg:https://864foodtrucks.com/wp-content/uploads/2023/06/Vita-Nova-2.jpg
ORGANIZER;CN="Vita Nova Coffee And Tea":MAILTO:Vitanova3710@gmail.com
GEO:34.8980634;-82.3949748
X-APPLE-STRUCTURED-LOCATION;VALUE=URI;X-ADDRESS=Hampton Park Baptist Church 875 State Park Road Greenville South Carolina;X-APPLE-RADIUS=500;X-TITLE=875 State Park Road:geo:-82.3949748,34.8980634
END:VEVENT
BEGIN:VEVENT
DTSTART;TZID=America/New_York:20251101T170000
DTEND;TZID=America/New_York:20251101T170000
DTSTAMP:20260425T140618
CREATED:20251026T225432Z
LAST-MODIFIED:20251026T225432Z
UID:55574-1762016400-1762016400@864foodtrucks.com
SUMMARY:Local Pie Pizza Co @ Sugar Tit Distillery
DESCRIPTION:
URL:https://864foodtrucks.com/event/local-pie-pizza-co-sugar-tit-distillery/
LOCATION:Sugar Tit Moonshine\, 330 Main St\, Reidville\, South Carolina
CATEGORIES:Food Truck Schedules,Reidville
ATTACH;FMTTYPE=image/jpeg:https://864foodtrucks.com/wp-content/uploads/2021/12/Local-Pie-Pizza-3.jpg
ORGANIZER;CN="Local Pie Pizza Company":MAILTO:cory@localpiepizzacompany.com
GEO:34.8603185;-82.1101298
X-APPLE-STRUCTURED-LOCATION;VALUE=URI;X-ADDRESS=Sugar Tit Moonshine 330 Main St Reidville South Carolina;X-APPLE-RADIUS=500;X-TITLE=330 Main St:geo:-82.1101298,34.8603185
END:VEVENT
BEGIN:VEVENT
DTSTART;TZID=America/New_York:20251104T063000
DTEND;TZID=America/New_York:20251104T120000
DTSTAMP:20260425T140618
CREATED:20250701T192107Z
LAST-MODIFIED:20250701T192107Z
UID:55878-1762237800-1762257600@864foodtrucks.com
SUMMARY:Vita Nova @ 511 Conestee Rd
DESCRIPTION:The vision of Vita Nova is to bring communities together around good coffee\, delicacies and various entertainment!
URL:https://864foodtrucks.com/event/vita-nova-511-conestee-rd/2025-11-04/
LOCATION:511 Conestee Rd\, 511 Conestee Rd\, Greenville\, South Carolina
CATEGORIES:Food Truck Schedules,Greenville
ATTACH;FMTTYPE=image/jpeg:https://864foodtrucks.com/wp-content/uploads/2023/06/Vita-Nova-2.jpg
ORGANIZER;CN="Vita Nova Coffee And Tea":MAILTO:Vitanova3710@gmail.com
GEO:34.768332;-82.3524817
X-APPLE-STRUCTURED-LOCATION;VALUE=URI;X-ADDRESS=511 Conestee Rd 511 Conestee Rd Greenville South Carolina;X-APPLE-RADIUS=500;X-TITLE=511 Conestee Rd:geo:-82.3524817,34.768332
END:VEVENT
BEGIN:VEVENT
DTSTART;TZID=America/New_York:20251104T103000
DTEND;TZID=America/New_York:20251104T140000
DTSTAMP:20260425T140618
CREATED:20251102T212559Z
LAST-MODIFIED:20251102T212559Z
UID:55856-1762252200-1762264800@864foodtrucks.com
SUMMARY:Simpell Sammies @ Belton Prep Academy
DESCRIPTION:Simpell Sammies is open for business and ready to serve you flavorful and delicious sandwiches and hoagies.
URL:https://864foodtrucks.com/event/simpell-sammies-belton-prep-academy/
LOCATION:Belton Prep Academy\, 5901 Belton Hwy\, Belton\, South Carolina\, 29627
CATEGORIES:Belton,Food Truck Schedules
ATTACH;FMTTYPE=image/jpeg:https://864foodtrucks.com/wp-content/uploads/2023/06/Simpell-Sammies-Trailer.jpg
ORGANIZER;CN="Simpell Sammies":MAILTO:info@simpelltreats.com
GEO:34.4965896;-82.5341502
X-APPLE-STRUCTURED-LOCATION;VALUE=URI;X-ADDRESS=Belton Prep Academy 5901 Belton Hwy Belton South Carolina 29627;X-APPLE-RADIUS=500;X-TITLE=5901 Belton Hwy:geo:-82.5341502,34.4965896
END:VEVENT
BEGIN:VEVENT
DTSTART;TZID=America/New_York:20251104T143000
DTEND;TZID=America/New_York:20251104T190000
DTSTAMP:20260425T140618
CREATED:20250714T163328Z
LAST-MODIFIED:20260208T205159Z
UID:55919-1762266600-1762282800@864foodtrucks.com
SUMMARY:Cinnabon @ Chesnee's Food Lion
DESCRIPTION:Cinnabon Food Truck Greenville
URL:https://864foodtrucks.com/event/cinnabon-chesnees-food-lion/2025-11-04/
LOCATION:Food Lion Chesnee\, 712 S Alabama Ave\, Chesnee\, South Carolina\, 29323
CATEGORIES:Chesnee,Food Truck Schedules
ATTACH;FMTTYPE=image/jpeg:https://864foodtrucks.com/wp-content/uploads/2024/12/326870080_1829549937401559_2632445834433428235_n-2.jpg
ORGANIZER;CN="Cinnabon Greenville":MAILTO:info@hotbonssc.com
GEO:35.1367556;-81.8630291
X-APPLE-STRUCTURED-LOCATION;VALUE=URI;X-ADDRESS=Food Lion Chesnee 712 S Alabama Ave Chesnee South Carolina 29323;X-APPLE-RADIUS=500;X-TITLE=712 S Alabama Ave:geo:-81.8630291,35.1367556
END:VEVENT
BEGIN:VEVENT
DTSTART;TZID=America/New_York:20251104T170000
DTEND;TZID=America/New_York:20251104T200000
DTSTAMP:20260425T140618
CREATED:20250602T142903Z
LAST-MODIFIED:20260217T005317Z
UID:55874-1762275600-1762286400@864foodtrucks.com
SUMMARY:Local Pie Pizza Co @ Community Tap
DESCRIPTION:
URL:https://864foodtrucks.com/event/local-pie-pizza-co-community-tap-4/2025-11-04/
LOCATION:The Community Tap\, 217 Wade Hampton Blvd\, Greenville\, South Carolina
CATEGORIES:Food Truck Schedules,Greenville
ATTACH;FMTTYPE=image/jpeg:https://864foodtrucks.com/wp-content/uploads/2021/12/Local-Pie-Pizza-3.jpg
ORGANIZER;CN="Local Pie Pizza Company":MAILTO:cory@localpiepizzacompany.com
GEO:34.8625763;-82.3857613
X-APPLE-STRUCTURED-LOCATION;VALUE=URI;X-ADDRESS=The Community Tap 217 Wade Hampton Blvd Greenville South Carolina;X-APPLE-RADIUS=500;X-TITLE=217 Wade Hampton Blvd:geo:-82.3857613,34.8625763
END:VEVENT
BEGIN:VEVENT
DTSTART;TZID=America/New_York:20251104T170000
DTEND;TZID=America/New_York:20251104T203000
DTSTAMP:20260425T140618
CREATED:20250106T141343Z
LAST-MODIFIED:20250106T141343Z
UID:55952-1762275600-1762288200@864foodtrucks.com
SUMMARY:Fuel Foods @ Armory Fitness Center Gym
DESCRIPTION:Fuel Foods – Food Truck & Catering\nClean\, Unique & Delicious!\nLocated in Clemson & Upstate\, SC 📍\nBook Us for Events! Contact for More Info!
URL:https://864foodtrucks.com/event/fuel-foods-armory-fitness-center-gym/2025-11-04/
LOCATION:Armory Fitness Center\, 123 Gossett Dr\, Williamston\, South Carolina
CATEGORIES:Food Truck Schedules,Williamston
ORGANIZER;CN="Fuel Foods Food Truck":MAILTO:fuelfoods.truck@gmail.com
GEO:34.6151802;-82.4795485
X-APPLE-STRUCTURED-LOCATION;VALUE=URI;X-ADDRESS=Armory Fitness Center 123 Gossett Dr Williamston South Carolina;X-APPLE-RADIUS=500;X-TITLE=123 Gossett Dr:geo:-82.4795485,34.6151802
END:VEVENT
BEGIN:VEVENT
DTSTART;TZID=America/New_York:20251104T173000
DTEND;TZID=America/New_York:20251104T193000
DTSTAMP:20260425T140618
CREATED:20240305T135715Z
LAST-MODIFIED:20260308T225033Z
UID:55934-1762277400-1762284600@864foodtrucks.com
SUMMARY:The Noodle Lady @ Trailside Verdae
DESCRIPTION:Authentic Chinese dishes for catering and events. Artisan Noodles and 100% Natural. Check out here our events calendar in Greenville\, South Carolina. #TheNoodleLady
URL:https://864foodtrucks.com/event/the-noodle-lady-trailside-verdae/2025-11-04/
LOCATION:Trailside Verdae Apartments\, 180 Woodruff Rd\, Greenville\, South Carolina
CATEGORIES:Food Truck Schedules,Greenville
ATTACH;FMTTYPE=image/jpeg:https://864foodtrucks.com/wp-content/uploads/2023/07/Noodle-lady.jpg
ORGANIZER;CN="The Noodle Lady":MAILTO:thenoodlelady@yahoo.com
GEO:34.8305244;-82.344078
X-APPLE-STRUCTURED-LOCATION;VALUE=URI;X-ADDRESS=Trailside Verdae Apartments 180 Woodruff Rd Greenville South Carolina;X-APPLE-RADIUS=500;X-TITLE=180 Woodruff Rd:geo:-82.344078,34.8305244
END:VEVENT
BEGIN:VEVENT
DTSTART;TZID=America/New_York:20251104T173000
DTEND;TZID=America/New_York:20251104T200000
DTSTAMP:20260425T140618
CREATED:20250217T193719Z
LAST-MODIFIED:20260420T151025Z
UID:55936-1762277400-1762286400@864foodtrucks.com
SUMMARY:Electric Food Truck @ Grateful Brew
DESCRIPTION:We are the world’s first all electric food truck\, serving Greenville\, SC.
URL:https://864foodtrucks.com/event/grateful-brew-electric-food-truck/2025-11-04/
LOCATION:Grateful Brew\, 501 S Pleasantburg Dr\, Greenville\, SC\, 29607\, United States
CATEGORIES:Food Truck Schedules,Greenville
ATTACH;FMTTYPE=image/jpeg:https://864foodtrucks.com/wp-content/uploads/2023/03/Electric-Food-Truck.jpg
ORGANIZER;CN="The Electric Food Truck":MAILTO:team@theelectricfoodtruck.com
GEO:34.8292844;-82.36962
X-APPLE-STRUCTURED-LOCATION;VALUE=URI;X-ADDRESS=Grateful Brew 501 S Pleasantburg Dr Greenville SC 29607 United States;X-APPLE-RADIUS=500;X-TITLE=501 S Pleasantburg Dr:geo:-82.36962,34.8292844
END:VEVENT
BEGIN:VEVENT
DTSTART;TZID=America/New_York:20251105T063000
DTEND;TZID=America/New_York:20251105T120000
DTSTAMP:20260425T140618
CREATED:20250701T192107Z
LAST-MODIFIED:20250701T192107Z
UID:55879-1762324200-1762344000@864foodtrucks.com
SUMMARY:Vita Nova @ 511 Conestee Rd
DESCRIPTION:The vision of Vita Nova is to bring communities together around good coffee\, delicacies and various entertainment!
URL:https://864foodtrucks.com/event/vita-nova-511-conestee-rd/2025-11-05/
LOCATION:511 Conestee Rd\, 511 Conestee Rd\, Greenville\, South Carolina
CATEGORIES:Food Truck Schedules,Greenville
ATTACH;FMTTYPE=image/jpeg:https://864foodtrucks.com/wp-content/uploads/2023/06/Vita-Nova-2.jpg
ORGANIZER;CN="Vita Nova Coffee And Tea":MAILTO:Vitanova3710@gmail.com
GEO:34.768332;-82.3524817
X-APPLE-STRUCTURED-LOCATION;VALUE=URI;X-ADDRESS=511 Conestee Rd 511 Conestee Rd Greenville South Carolina;X-APPLE-RADIUS=500;X-TITLE=511 Conestee Rd:geo:-82.3524817,34.768332
END:VEVENT
BEGIN:VEVENT
DTSTART;TZID=America/New_York:20251105T070000
DTEND;TZID=America/New_York:20251105T130000
DTSTAMP:20260425T140618
CREATED:20251021T124207Z
LAST-MODIFIED:20260421T172827Z
UID:55954-1762326000-1762347600@864foodtrucks.com
SUMMARY:The Rolling Dough @ Greenwood Hobby Lobby
DESCRIPTION:
URL:https://864foodtrucks.com/event/the-rolling-dough-greenwood-hobby-lobby/2025-11-05/
LOCATION:Hobby Lobby Greenwood\, 315 By-Pass 72 NW\, Greenwood\, 29649
CATEGORIES:Food Truck Schedules,Greenwood
ATTACH;FMTTYPE=image/jpeg:https://864foodtrucks.com/wp-content/uploads/2021/05/The-Rolling-Dough-Company-Truck.jpg
ORGANIZER;CN="The Rolling Dough Company":MAILTO:therollingdoughco@yahoo.com
GEO:34.2096048;-82.1777896
X-APPLE-STRUCTURED-LOCATION;VALUE=URI;X-ADDRESS=Hobby Lobby Greenwood 315 By-Pass 72 NW Greenwood 29649;X-APPLE-RADIUS=500;X-TITLE=315 By-Pass 72 NW:geo:-82.1777896,34.2096048
END:VEVENT
BEGIN:VEVENT
DTSTART;TZID=America/New_York:20251105T110000
DTEND;TZID=America/New_York:20251105T153000
DTSTAMP:20260425T140618
CREATED:20250331T003544Z
LAST-MODIFIED:20260323T195539Z
UID:55923-1762340400-1762356600@864foodtrucks.com
SUMMARY:Cinnabon @ Spartanburg Reginal Medical Center
DESCRIPTION:Cinnabon Food Truck Greenville
URL:https://864foodtrucks.com/event/cinnabon-spartanburg-reginal-healthcare/2025-11-05/
LOCATION:Spartanburg Regional Healthcare\, 101 E Wood St\, Spartanburg\, South Carolina
CATEGORIES:Food Truck Schedules,Spartanburg
ATTACH;FMTTYPE=image/jpeg:https://864foodtrucks.com/wp-content/uploads/2024/12/326870080_1829549937401559_2632445834433428235_n-2.jpg
ORGANIZER;CN="Cinnabon Greenville":MAILTO:info@hotbonssc.com
GEO:34.966283;-81.9393976
X-APPLE-STRUCTURED-LOCATION;VALUE=URI;X-ADDRESS=Spartanburg Regional Healthcare 101 E Wood St Spartanburg South Carolina;X-APPLE-RADIUS=500;X-TITLE=101 E Wood St:geo:-81.9393976,34.966283
END:VEVENT
BEGIN:VEVENT
DTSTART;TZID=America/New_York:20251105T170000
DTEND;TZID=America/New_York:20251105T200000
DTSTAMP:20260425T140618
CREATED:20250629T195621Z
LAST-MODIFIED:20260105T140119Z
UID:55872-1762362000-1762372800@864foodtrucks.com
SUMMARY:Local Pie Pizza Co @ Piney Mountain Bike Lounge
DESCRIPTION:
URL:https://864foodtrucks.com/event/local-pie-pizza-co-piney-mountain-bike-lounge-5/2025-11-05/
LOCATION:Piney Mountain Bike Lounge\, 20 Piney Mountain Rd\, Greenville\, South Carolina
CATEGORIES:Food Truck Schedules,Greenville
ATTACH;FMTTYPE=image/jpeg:https://864foodtrucks.com/wp-content/uploads/2021/12/Local-Pie-Pizza-3.jpg
ORGANIZER;CN="Local Pie Pizza Company":MAILTO:cory@localpiepizzacompany.com
GEO:34.8913881;-82.373773
X-APPLE-STRUCTURED-LOCATION;VALUE=URI;X-ADDRESS=Piney Mountain Bike Lounge 20 Piney Mountain Rd Greenville South Carolina;X-APPLE-RADIUS=500;X-TITLE=20 Piney Mountain Rd:geo:-82.373773,34.8913881
END:VEVENT
BEGIN:VEVENT
DTSTART;TZID=America/New_York:20251105T173000
DTEND;TZID=America/New_York:20251105T200000
DTSTAMP:20260425T140618
CREATED:20250922T174243Z
LAST-MODIFIED:20260420T150936Z
UID:55938-1762363800-1762372800@864foodtrucks.com
SUMMARY:We Got the Beets @ Grateful Brew
DESCRIPTION:FOOD FOR ALL!\nPowered by love…and plants 🌱🌈\n📍 Greenville\, SC
URL:https://864foodtrucks.com/event/we-got-the-beets-grateful-brew-2/2025-11-05/
LOCATION:Grateful Brew\, 501 S Pleasantburg Dr\, Greenville\, SC\, 29607\, United States
CATEGORIES:Food Truck Schedules,Greenville
ATTACH;FMTTYPE=image/jpeg:https://864foodtrucks.com/wp-content/uploads/2023/10/We-Got-the-Beets.jpg
GEO:34.8292844;-82.36962
X-APPLE-STRUCTURED-LOCATION;VALUE=URI;X-ADDRESS=Grateful Brew 501 S Pleasantburg Dr Greenville SC 29607 United States;X-APPLE-RADIUS=500;X-TITLE=501 S Pleasantburg Dr:geo:-82.36962,34.8292844
END:VEVENT
BEGIN:VEVENT
DTSTART;TZID=America/New_York:20251106T063000
DTEND;TZID=America/New_York:20251106T120000
DTSTAMP:20260425T140618
CREATED:20250701T192107Z
LAST-MODIFIED:20250701T192107Z
UID:55880-1762410600-1762430400@864foodtrucks.com
SUMMARY:Vita Nova @ 511 Conestee Rd
DESCRIPTION:The vision of Vita Nova is to bring communities together around good coffee\, delicacies and various entertainment!
URL:https://864foodtrucks.com/event/vita-nova-511-conestee-rd/2025-11-06/
LOCATION:511 Conestee Rd\, 511 Conestee Rd\, Greenville\, South Carolina
CATEGORIES:Food Truck Schedules,Greenville
ATTACH;FMTTYPE=image/jpeg:https://864foodtrucks.com/wp-content/uploads/2023/06/Vita-Nova-2.jpg
ORGANIZER;CN="Vita Nova Coffee And Tea":MAILTO:Vitanova3710@gmail.com
GEO:34.768332;-82.3524817
X-APPLE-STRUCTURED-LOCATION;VALUE=URI;X-ADDRESS=511 Conestee Rd 511 Conestee Rd Greenville South Carolina;X-APPLE-RADIUS=500;X-TITLE=511 Conestee Rd:geo:-82.3524817,34.768332
END:VEVENT
BEGIN:VEVENT
DTSTART;TZID=America/New_York:20251106T090000
DTEND;TZID=America/New_York:20251106T120000
DTSTAMP:20260425T140618
CREATED:20250519T171848Z
LAST-MODIFIED:20260323T195513Z
UID:55921-1762419600-1762430400@864foodtrucks.com
SUMMARY:Cinnabon @ Spectrum
DESCRIPTION:Cinnabon Food Truck Greenville
URL:https://864foodtrucks.com/event/cinnabon-spectrum/2025-11-06/
LOCATION:Spectrum\, 2 Digital Place\, Simpsonville\, SC\, United States
CATEGORIES:Food Truck Schedules,Simpsonville
ATTACH;FMTTYPE=image/jpeg:https://864foodtrucks.com/wp-content/uploads/2024/12/326870080_1829549937401559_2632445834433428235_n-2.jpg
ORGANIZER;CN="Cinnabon Greenville":MAILTO:info@hotbonssc.com
GEO:34.7953548;-82.2788291
X-APPLE-STRUCTURED-LOCATION;VALUE=URI;X-ADDRESS=Spectrum 2 Digital Place Simpsonville SC United States;X-APPLE-RADIUS=500;X-TITLE=2 Digital Place:geo:-82.2788291,34.7953548
END:VEVENT
BEGIN:VEVENT
DTSTART;TZID=America/New_York:20251106T160000
DTEND;TZID=America/New_York:20251106T190000
DTSTAMP:20260425T140618
CREATED:20250217T183301Z
LAST-MODIFIED:20251208T134753Z
UID:55876-1762444800-1762455600@864foodtrucks.com
SUMMARY:Local Pie Pizza Co @ Swamp Rabbit Cafe
DESCRIPTION:
URL:https://864foodtrucks.com/event/local-pie-pizza-co-swamp-rabbit-cafe-2/2025-11-06/
LOCATION:Swamp Rabbit Cafe\, 205 Cedar Lane Road\, Greenville\, South Carolina
CATEGORIES:Food Truck Schedules,Greenville
ATTACH;FMTTYPE=image/jpeg:https://864foodtrucks.com/wp-content/uploads/2021/12/Local-Pie-Pizza-3.jpg
ORGANIZER;CN="Local Pie Pizza Company":MAILTO:cory@localpiepizzacompany.com
GEO:34.8694785;-82.4214201
X-APPLE-STRUCTURED-LOCATION;VALUE=URI;X-ADDRESS=Swamp Rabbit Cafe 205 Cedar Lane Road Greenville South Carolina;X-APPLE-RADIUS=500;X-TITLE=205 Cedar Lane Road:geo:-82.4214201,34.8694785
END:VEVENT
BEGIN:VEVENT
DTSTART;TZID=America/New_York:20251106T170000
DTEND;TZID=America/New_York:20251106T200000
DTSTAMP:20260425T140619
CREATED:20250421T175652Z
LAST-MODIFIED:20260413T172300Z
UID:55946-1762448400-1762459200@864foodtrucks.com
SUMMARY:Island Sun @ The Community Tap
DESCRIPTION:Mobile Kitchen serving Caribbean Cuisine to the upstate\, SC\nCaterings\, pop ups\, and private dinners\nDm for more info
URL:https://864foodtrucks.com/event/island-sun-the-community-tap-2/2025-11-06/
LOCATION:The Community Tap\, 217 Wade Hampton Blvd\, Greenville\, South Carolina
CATEGORIES:Food Truck Schedules,Greenville
ATTACH;FMTTYPE=image/jpeg:https://864foodtrucks.com/wp-content/uploads/2023/07/IslandSun864.jpg
GEO:34.8625763;-82.3857613
X-APPLE-STRUCTURED-LOCATION;VALUE=URI;X-ADDRESS=The Community Tap 217 Wade Hampton Blvd Greenville South Carolina;X-APPLE-RADIUS=500;X-TITLE=217 Wade Hampton Blvd:geo:-82.3857613,34.8625763
END:VEVENT
BEGIN:VEVENT
DTSTART;TZID=America/New_York:20251106T173000
DTEND;TZID=America/New_York:20251106T193000
DTSTAMP:20260425T140619
CREATED:20240618T130631Z
LAST-MODIFIED:20240618T130631Z
UID:55948-1762450200-1762457400@864foodtrucks.com
SUMMARY:Churro Masters @ Palisades at the Park
DESCRIPTION:Delicious CHURROS made fresh!
URL:https://864foodtrucks.com/event/churro-masters-palisades-at-the-park/2025-11-06/
LOCATION:Palisades at The Park\, Mauldin Road 805\, Greenville\, South Carolina\, 29607\, United States
CATEGORIES:Food Truck Schedules,Greenville
ATTACH;FMTTYPE=image/jpeg:https://864foodtrucks.com/wp-content/uploads/2023/05/Churro-Masters-1.jpg
ORGANIZER;CN="Churro Masters":MAILTO:Churromastersemail@gmail.com
GEO:34.7839652;-82.3512898
X-APPLE-STRUCTURED-LOCATION;VALUE=URI;X-ADDRESS=Palisades at The Park Mauldin Road 805 Greenville South Carolina 29607 United States;X-APPLE-RADIUS=500;X-TITLE=Mauldin Road 805:geo:-82.3512898,34.7839652
END:VEVENT
BEGIN:VEVENT
DTSTART;TZID=America/New_York:20251106T173000
DTEND;TZID=America/New_York:20251106T200000
DTSTAMP:20260425T140619
CREATED:20250615T205925Z
LAST-MODIFIED:20251214T205104Z
UID:55927-1762450200-1762459200@864foodtrucks.com
SUMMARY:The Noodle Lady @ WineXpress
DESCRIPTION:Authentic Chinese dishes for catering and events. Artisan Noodles and 100% Natural. Check out here our events calendar in Greenville\, South Carolina. #TheNoodleLady
URL:https://864foodtrucks.com/event/the-noodle-lady-winexpress/2025-11-06/
LOCATION:WineXpress\, 202 Scuffletown Rd\, Simpsonville\, South Carolina
CATEGORIES:Food Truck Schedules,Simpsonville
ATTACH;FMTTYPE=image/jpeg:https://864foodtrucks.com/wp-content/uploads/2023/07/Noodle-lady.jpg
ORGANIZER;CN="The Noodle Lady":MAILTO:thenoodlelady@yahoo.com
GEO:34.8046736;-82.2292537
X-APPLE-STRUCTURED-LOCATION;VALUE=URI;X-ADDRESS=WineXpress 202 Scuffletown Rd Simpsonville South Carolina;X-APPLE-RADIUS=500;X-TITLE=202 Scuffletown Rd:geo:-82.2292537,34.8046736
END:VEVENT
BEGIN:VEVENT
DTSTART;TZID=America/New_York:20251106T173000
DTEND;TZID=America/New_York:20251106T200000
DTSTAMP:20260425T140619
CREATED:20250922T173736Z
LAST-MODIFIED:20260331T002811Z
UID:55940-1762450200-1762459200@864foodtrucks.com
SUMMARY:Lai Sushi Express @ Grateful Brew
DESCRIPTION:Roll into flavor at our food truck! Serving fresh\, hand-crafted sushi and bold Asian (Lai) fusion!
URL:https://864foodtrucks.com/event/lai-sushi-express-grateful-brew-3/2025-11-06/
LOCATION:Grateful Brew\, 501 S Pleasantburg Dr\, Greenville\, SC\, 29607\, United States
CATEGORIES:Food Truck Schedules,Greenville
ATTACH;FMTTYPE=image/jpeg:https://864foodtrucks.com/wp-content/uploads/2025/04/Lai-Sushi-Express.jpg
ORGANIZER;CN="Lai Sushi Express":MAILTO:Laisushiexpress@gmail.com
GEO:34.8292844;-82.36962
X-APPLE-STRUCTURED-LOCATION;VALUE=URI;X-ADDRESS=Grateful Brew 501 S Pleasantburg Dr Greenville SC 29607 United States;X-APPLE-RADIUS=500;X-TITLE=501 S Pleasantburg Dr:geo:-82.36962,34.8292844
END:VEVENT
BEGIN:VEVENT
DTSTART;TZID=America/New_York:20251107T063000
DTEND;TZID=America/New_York:20251107T120000
DTSTAMP:20260425T140619
CREATED:20250701T192107Z
LAST-MODIFIED:20250701T192107Z
UID:55881-1762497000-1762516800@864foodtrucks.com
SUMMARY:Vita Nova @ 511 Conestee Rd
DESCRIPTION:The vision of Vita Nova is to bring communities together around good coffee\, delicacies and various entertainment!
URL:https://864foodtrucks.com/event/vita-nova-511-conestee-rd/2025-11-07/
LOCATION:511 Conestee Rd\, 511 Conestee Rd\, Greenville\, South Carolina
CATEGORIES:Food Truck Schedules,Greenville
ATTACH;FMTTYPE=image/jpeg:https://864foodtrucks.com/wp-content/uploads/2023/06/Vita-Nova-2.jpg
ORGANIZER;CN="Vita Nova Coffee And Tea":MAILTO:Vitanova3710@gmail.com
GEO:34.768332;-82.3524817
X-APPLE-STRUCTURED-LOCATION;VALUE=URI;X-ADDRESS=511 Conestee Rd 511 Conestee Rd Greenville South Carolina;X-APPLE-RADIUS=500;X-TITLE=511 Conestee Rd:geo:-82.3524817,34.768332
END:VEVENT
BEGIN:VEVENT
DTSTART;TZID=America/New_York:20251107T070000
DTEND;TZID=America/New_York:20251107T120000
DTSTAMP:20260425T140619
CREATED:20250721T233654Z
LAST-MODIFIED:20260413T233443Z
UID:55969-1762498800-1762516800@864foodtrucks.com
SUMMARY:The Rolling Dough @ Big House Outpost
DESCRIPTION:
URL:https://864foodtrucks.com/event/the-rolling-dough-big-house-outpost/2025-11-07/
LOCATION:Big House Outpost\, 100 Greenville St #4\,\, Abbeville\, South Carolina
CATEGORIES:Abbeville,Food Truck Schedules
ATTACH;FMTTYPE=image/jpeg:https://864foodtrucks.com/wp-content/uploads/2021/05/The-Rolling-Dough-Company-Truck.jpg
ORGANIZER;CN="The Rolling Dough Company":MAILTO:therollingdoughco@yahoo.com
GEO:34.1808277;-82.3812485
X-APPLE-STRUCTURED-LOCATION;VALUE=URI;X-ADDRESS=Big House Outpost 100 Greenville St #4 Abbeville South Carolina;X-APPLE-RADIUS=500;X-TITLE=100 Greenville St #4\,:geo:-82.3812485,34.1808277
END:VEVENT
BEGIN:VEVENT
DTSTART;TZID=America/New_York:20251107T103000
DTEND;TZID=America/New_York:20251107T130000
DTSTAMP:20260425T140619
CREATED:20250531T234724Z
LAST-MODIFIED:20251116T235845Z
UID:55854-1762511400-1762520400@864foodtrucks.com
SUMMARY:Simpell Sammies @ Owens Corning
DESCRIPTION:Simpell Sammies is open for business and ready to serve you flavorful and delicious sandwiches and hoagies.
URL:https://864foodtrucks.com/event/simpell-sammies-owens-corning/2025-11-07/
LOCATION:Owens Corning\, 4837 SC81\, Starr\, South Carolina
CATEGORIES:Food Truck Schedules
ATTACH;FMTTYPE=image/jpeg:https://864foodtrucks.com/wp-content/uploads/2023/06/Simpell-Sammies-Trailer.jpg
ORGANIZER;CN="Simpell Sammies":MAILTO:info@simpelltreats.com
GEO:34.3770509;-82.6956891
X-APPLE-STRUCTURED-LOCATION;VALUE=URI;X-ADDRESS=Owens Corning 4837 SC81 Starr South Carolina;X-APPLE-RADIUS=500;X-TITLE=4837 SC81:geo:-82.6956891,34.3770509
END:VEVENT
BEGIN:VEVENT
DTSTART;TZID=America/New_York:20251107T160000
DTEND;TZID=America/New_York:20251107T193000
DTSTAMP:20260425T140619
CREATED:20251103T211048Z
LAST-MODIFIED:20251103T211048Z
UID:55925-1762531200-1762543800@864foodtrucks.com
SUMMARY:Cinnabon Food Truck @ Green Charter Fall Festival
DESCRIPTION:Cinnabon Food Truck Greenville
URL:https://864foodtrucks.com/event/cinnabon-food-truck-green-charter-fall-festival/
LOCATION:Green Charter School\, 8150 Warren H Abernathy Hwy\, Spartanburg\, SC\, United States
CATEGORIES:Food Truck Schedules,Greenville
ATTACH;FMTTYPE=image/jpeg:https://864foodtrucks.com/wp-content/uploads/2024/12/326870080_1829549937401559_2632445834433428235_n-2.jpg
ORGANIZER;CN="Cinnabon Greenville":MAILTO:info@hotbonssc.com
END:VEVENT
BEGIN:VEVENT
DTSTART;TZID=America/New_York:20251107T170000
DTEND;TZID=America/New_York:20251107T200000
DTSTAMP:20260425T140619
CREATED:20240319T004511Z
LAST-MODIFIED:20251215T194029Z
UID:55944-1762534800-1762545600@864foodtrucks.com
SUMMARY:Island Sun @ The Whale
DESCRIPTION:Mobile Kitchen serving Caribbean Cuisine to the upstate\, SC\nCaterings\, pop ups\, and private dinners\nDm for more info
URL:https://864foodtrucks.com/event/island-sun-the-whale/2025-11-07/
LOCATION:The Whale\, 1108 S Main St\, Greenville\, SC\, 29601\, United States
CATEGORIES:Food Truck Schedules,Greenville
ATTACH;FMTTYPE=image/jpeg:https://864foodtrucks.com/wp-content/uploads/2023/07/IslandSun864.jpg
GEO:34.8430326;-82.4114908
X-APPLE-STRUCTURED-LOCATION;VALUE=URI;X-ADDRESS=The Whale 1108 S Main St Greenville SC 29601 United States;X-APPLE-RADIUS=500;X-TITLE=1108 S Main St:geo:-82.4114908,34.8430326
END:VEVENT
END:VCALENDAR