BEGIN:VCALENDAR
VERSION:2.0
PRODID:-//864 Food Trucks - ECPv6.15.20//NONSGML v1.0//EN
CALSCALE:GREGORIAN
METHOD:PUBLISH
X-ORIGINAL-URL:https://864foodtrucks.com
X-WR-CALDESC:Events for 864 Food Trucks
REFRESH-INTERVAL;VALUE=DURATION:PT1H
X-Robots-Tag:noindex
X-PUBLISHED-TTL:PT1H
BEGIN:VTIMEZONE
TZID:America/New_York
BEGIN:DAYLIGHT
TZOFFSETFROM:-0500
TZOFFSETTO:-0400
TZNAME:EDT
DTSTART:20240310T070000
END:DAYLIGHT
BEGIN:STANDARD
TZOFFSETFROM:-0400
TZOFFSETTO:-0500
TZNAME:EST
DTSTART:20241103T060000
END:STANDARD
BEGIN:DAYLIGHT
TZOFFSETFROM:-0500
TZOFFSETTO:-0400
TZNAME:EDT
DTSTART:20250309T070000
END:DAYLIGHT
BEGIN:STANDARD
TZOFFSETFROM:-0400
TZOFFSETTO:-0500
TZNAME:EST
DTSTART:20251102T060000
END:STANDARD
BEGIN:DAYLIGHT
TZOFFSETFROM:-0500
TZOFFSETTO:-0400
TZNAME:EDT
DTSTART:20260308T070000
END:DAYLIGHT
BEGIN:STANDARD
TZOFFSETFROM:-0400
TZOFFSETTO:-0500
TZNAME:EST
DTSTART:20261101T060000
END:STANDARD
END:VTIMEZONE
BEGIN:VEVENT
DTSTART;TZID=America/New_York:20251121T103000
DTEND;TZID=America/New_York:20251121T130000
DTSTAMP:20260425T223918
CREATED:20250531T234724Z
LAST-MODIFIED:20250531T234724Z
UID:56331-1763721000-1763730000@864foodtrucks.com
SUMMARY:Simpell Sammies @ Owens Corning
DESCRIPTION:Simpell Sammies is open for business and ready to serve you flavorful and delicious sandwiches and hoagies.
URL:https://864foodtrucks.com/event/simpell-sammies-owens-corning/2025-11-21/
LOCATION:Owens Corning\, 4837 SC81\, Starr\, South Carolina
CATEGORIES:Food Truck Schedules
ATTACH;FMTTYPE=image/jpeg:https://864foodtrucks.com/wp-content/uploads/2023/06/Simpell-Sammies-Trailer.jpg
ORGANIZER;CN="Simpell Sammies":MAILTO:info@simpelltreats.com
GEO:34.3770509;-82.6956891
X-APPLE-STRUCTURED-LOCATION;VALUE=URI;X-ADDRESS=Owens Corning 4837 SC81 Starr South Carolina;X-APPLE-RADIUS=500;X-TITLE=4837 SC81:geo:-82.6956891,34.3770509
END:VEVENT
BEGIN:VEVENT
DTSTART;TZID=America/New_York:20251121T170000
DTEND;TZID=America/New_York:20251121T190000
DTSTAMP:20260425T223918
CREATED:20240715T144916Z
LAST-MODIFIED:20260309T221709Z
UID:56411-1763744400-1763751600@864foodtrucks.com
SUMMARY:Churro Masters @ Retreat at Waterside
DESCRIPTION:Delicious CHURROS made fresh!
URL:https://864foodtrucks.com/event/churro-masters-retreat-at-waterside-3/2025-11-21/
LOCATION:Retreat at Waterside\, 741 Woodruff Rd\, Greenville\, South Carolina
CATEGORIES:Food Truck Schedules,Greenville
ATTACH;FMTTYPE=image/jpeg:https://864foodtrucks.com/wp-content/uploads/2023/05/Churro-Masters-1.jpg
ORGANIZER;CN="Churro Masters":MAILTO:Churromastersemail@gmail.com
GEO:34.8388837;-82.3254941
X-APPLE-STRUCTURED-LOCATION;VALUE=URI;X-ADDRESS=Retreat at Waterside 741 Woodruff Rd Greenville South Carolina;X-APPLE-RADIUS=500;X-TITLE=741 Woodruff Rd:geo:-82.3254941,34.8388837
END:VEVENT
BEGIN:VEVENT
DTSTART;TZID=America/New_York:20251121T170000
DTEND;TZID=America/New_York:20251121T203000
DTSTAMP:20260425T223918
CREATED:20250217T183428Z
LAST-MODIFIED:20260412T192444Z
UID:56346-1763744400-1763757000@864foodtrucks.com
SUMMARY:Local Pie Pizza Co @ Grateful Brew
DESCRIPTION:
URL:https://864foodtrucks.com/event/local-pie-pizza-co-grateful-brew-6/2025-11-21/
LOCATION:Grateful Brew\, 501 S Pleasantburg Dr\, Greenville\, SC\, 29607\, United States
CATEGORIES:Food Truck Schedules,Greenville
ORGANIZER;CN="Local Pie Pizza Company":MAILTO:cory@localpiepizzacompany.com
GEO:34.8292844;-82.36962
X-APPLE-STRUCTURED-LOCATION;VALUE=URI;X-ADDRESS=Grateful Brew 501 S Pleasantburg Dr Greenville SC 29607 United States;X-APPLE-RADIUS=500;X-TITLE=501 S Pleasantburg Dr:geo:-82.36962,34.8292844
END:VEVENT
BEGIN:VEVENT
DTSTART;TZID=America/New_York:20251121T170000
DTEND;TZID=America/New_York:20251121T203000
DTSTAMP:20260425T223918
CREATED:20251022T130042Z
LAST-MODIFIED:20251022T130042Z
UID:56448-1763744400-1763757000@864foodtrucks.com
SUMMARY:Fuel Foods @ Sugar Hill Tap House
DESCRIPTION:Fuel Foods – Food Truck & Catering\nClean\, Unique & Delicious!\nLocated in Clemson & Upstate\, SC 📍\nBook Us for Events! Contact for More Info!
URL:https://864foodtrucks.com/event/fuel-foods-sugar-hill-tap-house/2025-11-21/
LOCATION:Sugar Hill Taphouse\, City Square 302\, Belton\, South Carolina\, 29627\, United States
CATEGORIES:Belton,Food Truck Schedules
ATTACH;FMTTYPE=image/png:https://864foodtrucks.com/wp-content/uploads/2025/03/Fuel-Foods-.png
ORGANIZER;CN="Fuel Foods Food Truck":MAILTO:fuelfoods.truck@gmail.com
GEO:34.5231693;-82.4934273
X-APPLE-STRUCTURED-LOCATION;VALUE=URI;X-ADDRESS=Sugar Hill Taphouse City Square 302 Belton South Carolina 29627 United States;X-APPLE-RADIUS=500;X-TITLE=City Square 302:geo:-82.4934273,34.5231693
END:VEVENT
BEGIN:VEVENT
DTSTART;TZID=America/New_York:20251121T173000
DTEND;TZID=America/New_York:20251121T193000
DTSTAMP:20260425T223918
CREATED:20241028T001540Z
LAST-MODIFIED:20260420T123436Z
UID:56338-1763746200-1763753400@864foodtrucks.com
SUMMARY:The Noodle Lady @ Piney Mountain Bike Lounge
DESCRIPTION:Authentic Chinese dishes for catering and events. Artisan Noodles and 100% Natural. Check out here our events calendar in Greenville\, South Carolina. #TheNoodleLady
URL:https://864foodtrucks.com/event/the-noodle-lady-piney-mountain-bike-lounge-2/2025-11-21/
LOCATION:Piney Mountain Bike Lounge\, 20 Piney Mountain Rd\, Greenville\, South Carolina
CATEGORIES:Food Truck Schedules,Greenville
ATTACH;FMTTYPE=image/jpeg:https://864foodtrucks.com/wp-content/uploads/2023/07/Noodle-lady.jpg
ORGANIZER;CN="The Noodle Lady":MAILTO:thenoodlelady@yahoo.com
GEO:34.8913881;-82.373773
X-APPLE-STRUCTURED-LOCATION;VALUE=URI;X-ADDRESS=Piney Mountain Bike Lounge 20 Piney Mountain Rd Greenville South Carolina;X-APPLE-RADIUS=500;X-TITLE=20 Piney Mountain Rd:geo:-82.373773,34.8913881
END:VEVENT
END:VCALENDAR