BEGIN:VCALENDAR
VERSION:2.0
PRODID:-//864 Food Trucks - ECPv6.15.20//NONSGML v1.0//EN
CALSCALE:GREGORIAN
METHOD:PUBLISH
X-ORIGINAL-URL:https://864foodtrucks.com
X-WR-CALDESC:Events for 864 Food Trucks
REFRESH-INTERVAL;VALUE=DURATION:PT1H
X-Robots-Tag:noindex
X-PUBLISHED-TTL:PT1H
BEGIN:VTIMEZONE
TZID:America/New_York
BEGIN:DAYLIGHT
TZOFFSETFROM:-0500
TZOFFSETTO:-0400
TZNAME:EDT
DTSTART:20240310T070000
END:DAYLIGHT
BEGIN:STANDARD
TZOFFSETFROM:-0400
TZOFFSETTO:-0500
TZNAME:EST
DTSTART:20241103T060000
END:STANDARD
BEGIN:DAYLIGHT
TZOFFSETFROM:-0500
TZOFFSETTO:-0400
TZNAME:EDT
DTSTART:20250309T070000
END:DAYLIGHT
BEGIN:STANDARD
TZOFFSETFROM:-0400
TZOFFSETTO:-0500
TZNAME:EST
DTSTART:20251102T060000
END:STANDARD
BEGIN:DAYLIGHT
TZOFFSETFROM:-0500
TZOFFSETTO:-0400
TZNAME:EDT
DTSTART:20260308T070000
END:DAYLIGHT
BEGIN:STANDARD
TZOFFSETFROM:-0400
TZOFFSETTO:-0500
TZNAME:EST
DTSTART:20261101T060000
END:STANDARD
END:VTIMEZONE
BEGIN:VEVENT
DTSTART;TZID=America/New_York:20251129T080000
DTEND;TZID=America/New_York:20251129T140000
DTSTAMP:20260425T223959
CREATED:20251126T003956Z
LAST-MODIFIED:20251126T003956Z
UID:56709-1764403200-1764424800@864foodtrucks.com
SUMMARY:Fuel Foods @ Pendleton Holiday Market
DESCRIPTION:Fuel Foods – Food Truck & Catering\nClean\, Unique & Delicious!\nLocated in Clemson & Upstate\, SC 📍\nBook Us for Events! Contact for More Info!
URL:https://864foodtrucks.com/event/fuel-foods-pendleton-holiday-market/
LOCATION:Pendleton High School\, Pendleton\, South Carolina
CATEGORIES:Food Truck Schedules,Pendleton
ATTACH;FMTTYPE=image/png:https://864foodtrucks.com/wp-content/uploads/2025/03/Fuel-Foods-.png
ORGANIZER;CN="Fuel Foods Food Truck":MAILTO:fuelfoods.truck@gmail.com
GEO:34.6517733;-82.7837514
END:VEVENT
BEGIN:VEVENT
DTSTART;TZID=America/New_York:20251129T083000
DTEND;TZID=America/New_York:20251129T083000
DTSTAMP:20260425T223959
CREATED:20250217T222338Z
LAST-MODIFIED:20260420T151354Z
UID:56623-1764405000-1764405000@864foodtrucks.com
SUMMARY:Scout's Doughnuts @ Grateful Brew
DESCRIPTION:Handcrafted 100 Layer Doughnuts\nMade in Greenville\, SC #SweeterTogether
URL:https://864foodtrucks.com/event/scouts-doughnuts-grateful-brew-2/2025-11-29/
LOCATION:Grateful Brew\, 501 S Pleasantburg Dr\, Greenville\, SC\, 29607\, United States
CATEGORIES:Food Truck Schedules,Greenville
ATTACH;FMTTYPE=image/jpeg:https://864foodtrucks.com/wp-content/uploads/2022/08/Scouts-Doughnuts-1.jpg
ORGANIZER;CN="Scouts Doughnuts":MAILTO:hello@scoutsdoughnuts.com
GEO:34.8292844;-82.36962
X-APPLE-STRUCTURED-LOCATION;VALUE=URI;X-ADDRESS=Grateful Brew 501 S Pleasantburg Dr Greenville SC 29607 United States;X-APPLE-RADIUS=500;X-TITLE=501 S Pleasantburg Dr:geo:-82.36962,34.8292844
END:VEVENT
BEGIN:VEVENT
DTSTART;TZID=America/New_York:20251129T110000
DTEND;TZID=America/New_York:20251129T180000
DTSTAMP:20260425T223959
CREATED:20250304T131711Z
LAST-MODIFIED:20250304T131711Z
UID:56615-1764414000-1764439200@864foodtrucks.com
SUMMARY:Island Sun @ Punk Flea Market
DESCRIPTION:Mobile Kitchen serving Caribbean Cuisine to the upstate\, SC\nCaterings\, pop ups\, and private dinners\nDm for more info
URL:https://864foodtrucks.com/event/island-sun-punk-flea-market/2025-11-29/
LOCATION:Punk Flea Market GVL\, 119 Beverly Rd\, Greenville\, SC\, United States
CATEGORIES:Food Truck Schedules,Greenville
ATTACH;FMTTYPE=image/jpeg:https://864foodtrucks.com/wp-content/uploads/2023/07/IslandSun864.jpg
END:VEVENT
BEGIN:VEVENT
DTSTART;TZID=America/New_York:20251129T150000
DTEND;TZID=America/New_York:20251129T190000
DTSTAMP:20260425T223959
CREATED:20251125T013428Z
LAST-MODIFIED:20251125T013428Z
UID:56646-1764428400-1764442800@864foodtrucks.com
SUMMARY:Churro Masters @ Travelers Rest Holiday Hop
DESCRIPTION:Delicious CHURROS made fresh!
URL:https://864foodtrucks.com/event/churro-masters-travelers-rest-holiday-hop/
LOCATION:Traveler’s Rest Main Street\, Main Street\, Travelers Rest\, South Carolina
CATEGORIES:Food Truck Schedules,Travelers Rest
ATTACH;FMTTYPE=image/jpeg:https://864foodtrucks.com/wp-content/uploads/2025/03/Churro-Masters.jpg
ORGANIZER;CN="Churro Masters":MAILTO:Churromastersemail@gmail.com
GEO:34.9676167;-82.4434548
X-APPLE-STRUCTURED-LOCATION;VALUE=URI;X-ADDRESS=Traveler’s Rest Main Street Main Street Travelers Rest South Carolina;X-APPLE-RADIUS=500;X-TITLE=Main Street:geo:-82.4434548,34.9676167
END:VEVENT
BEGIN:VEVENT
DTSTART;TZID=America/New_York:20251129T160000
DTEND;TZID=America/New_York:20251129T200000
DTSTAMP:20260425T223959
CREATED:20241224T150028Z
LAST-MODIFIED:20260421T002916Z
UID:56649-1764432000-1764446400@864foodtrucks.com
SUMMARY:Boyos Burgers @ The Community Tap
DESCRIPTION:Specialty handmade burgers with homemade chips served by a family of food lovers.
URL:https://864foodtrucks.com/event/boyos-burgers-the-community-tap/2025-11-29/
LOCATION:The Community Tap\, 217 Wade Hampton Blvd\, Greenville\, South Carolina
CATEGORIES:Food Truck Schedules,Greenville
ATTACH;FMTTYPE=image/jpeg:https://864foodtrucks.com/wp-content/uploads/2024/12/Boyos-Burgers.jpg
ORGANIZER;CN="Boyos Burgers":MAILTO:boyosburgersandchips@gmail.com
GEO:34.8625763;-82.3857613
X-APPLE-STRUCTURED-LOCATION;VALUE=URI;X-ADDRESS=The Community Tap 217 Wade Hampton Blvd Greenville South Carolina;X-APPLE-RADIUS=500;X-TITLE=217 Wade Hampton Blvd:geo:-82.3857613,34.8625763
END:VEVENT
END:VCALENDAR