BEGIN:VCALENDAR
VERSION:2.0
PRODID:-//864 Food Trucks - ECPv6.15.20//NONSGML v1.0//EN
CALSCALE:GREGORIAN
METHOD:PUBLISH
X-ORIGINAL-URL:https://864foodtrucks.com
X-WR-CALDESC:Events for 864 Food Trucks
REFRESH-INTERVAL;VALUE=DURATION:PT1H
X-Robots-Tag:noindex
X-PUBLISHED-TTL:PT1H
BEGIN:VTIMEZONE
TZID:America/New_York
BEGIN:DAYLIGHT
TZOFFSETFROM:-0500
TZOFFSETTO:-0400
TZNAME:EDT
DTSTART:20240310T070000
END:DAYLIGHT
BEGIN:STANDARD
TZOFFSETFROM:-0400
TZOFFSETTO:-0500
TZNAME:EST
DTSTART:20241103T060000
END:STANDARD
BEGIN:DAYLIGHT
TZOFFSETFROM:-0500
TZOFFSETTO:-0400
TZNAME:EDT
DTSTART:20250309T070000
END:DAYLIGHT
BEGIN:STANDARD
TZOFFSETFROM:-0400
TZOFFSETTO:-0500
TZNAME:EST
DTSTART:20251102T060000
END:STANDARD
BEGIN:DAYLIGHT
TZOFFSETFROM:-0500
TZOFFSETTO:-0400
TZNAME:EDT
DTSTART:20260308T070000
END:DAYLIGHT
BEGIN:STANDARD
TZOFFSETFROM:-0400
TZOFFSETTO:-0500
TZNAME:EST
DTSTART:20261101T060000
END:STANDARD
END:VTIMEZONE
BEGIN:VEVENT
DTSTART;TZID=America/New_York:20251210T170000
DTEND;TZID=America/New_York:20251210T190000
DTSTAMP:20260425T061908
CREATED:20251202T135723Z
LAST-MODIFIED:20260309T215850Z
UID:57059-1765386000-1765393200@864foodtrucks.com
SUMMARY:Boyos Burgers @ District West
DESCRIPTION:Asian fusion street food
URL:https://864foodtrucks.com/event/boyos-burgers-district-west/2025-12-10/
LOCATION:District West\, 101 Reedy View Dr\, Greenville\, SC\, United States
CATEGORIES:Food Truck Schedules,Greenville
ORGANIZER;CN="Boyos Burgers":MAILTO:boyosburgersandchips@gmail.com
END:VEVENT
BEGIN:VEVENT
DTSTART;TZID=America/New_York:20251210T170000
DTEND;TZID=America/New_York:20251210T193000
DTSTAMP:20260425T061908
CREATED:20240114T192144Z
LAST-MODIFIED:20260330T184616Z
UID:57269-1765386000-1765395000@864foodtrucks.com
SUMMARY:Local Pie Pizza Co @ Trailside Verdae
DESCRIPTION:Artisan Pizza Food Truck
URL:https://864foodtrucks.com/event/local-pie-pizza-co-trailside-verdae-2/2025-12-10/
LOCATION:Trailside Verdae Apartments\, 180 Woodruff Rd\, Greenville\, South Carolina
CATEGORIES:Food Truck Schedules,Greenville
ATTACH;FMTTYPE=image/jpeg:https://864foodtrucks.com/wp-content/uploads/2021/12/Local-Pie-Pizza-3.jpg
ORGANIZER;CN="Local Pie Pizza Company":MAILTO:cory@localpiepizzacompany.com
GEO:34.8305244;-82.344078
X-APPLE-STRUCTURED-LOCATION;VALUE=URI;X-ADDRESS=Trailside Verdae Apartments 180 Woodruff Rd Greenville South Carolina;X-APPLE-RADIUS=500;X-TITLE=180 Woodruff Rd:geo:-82.344078,34.8305244
END:VEVENT
BEGIN:VEVENT
DTSTART;TZID=America/New_York:20251210T173000
DTEND;TZID=America/New_York:20251210T193000
DTSTAMP:20260425T061908
CREATED:20241028T001540Z
LAST-MODIFIED:20260420T123436Z
UID:57280-1765387800-1765395000@864foodtrucks.com
SUMMARY:The Noodle Lady @ Piney Mountain Bike Lounge
DESCRIPTION:Authentic Chinese dishes for catering and events. Artisan Noodles and 100% Natural. Check out here our events calendar in Greenville\, South Carolina. #TheNoodleLady
URL:https://864foodtrucks.com/event/the-noodle-lady-piney-mountain-bike-lounge-2/2025-12-10/
LOCATION:Piney Mountain Bike Lounge\, 20 Piney Mountain Rd\, Greenville\, South Carolina
CATEGORIES:Food Truck Schedules,Greenville
ATTACH;FMTTYPE=image/jpeg:https://864foodtrucks.com/wp-content/uploads/2023/07/Noodle-lady.jpg
ORGANIZER;CN="The Noodle Lady":MAILTO:thenoodlelady@yahoo.com
GEO:34.8913881;-82.373773
X-APPLE-STRUCTURED-LOCATION;VALUE=URI;X-ADDRESS=Piney Mountain Bike Lounge 20 Piney Mountain Rd Greenville South Carolina;X-APPLE-RADIUS=500;X-TITLE=20 Piney Mountain Rd:geo:-82.373773,34.8913881
END:VEVENT
BEGIN:VEVENT
DTSTART;TZID=America/New_York:20251210T173000
DTEND;TZID=America/New_York:20251210T200000
DTSTAMP:20260425T061908
CREATED:20250421T175652Z
LAST-MODIFIED:20260413T172300Z
UID:57284-1765387800-1765396800@864foodtrucks.com
SUMMARY:Island Sun @ The Community Tap
DESCRIPTION:Mobile Kitchen serving Caribbean Cuisine to the upstate\, SC\nCaterings\, pop ups\, and private dinners\nDm for more info
URL:https://864foodtrucks.com/event/island-sun-the-community-tap-2/2025-12-10/
LOCATION:The Community Tap\, 217 Wade Hampton Blvd\, Greenville\, South Carolina
CATEGORIES:Food Truck Schedules,Greenville
ATTACH;FMTTYPE=image/jpeg:https://864foodtrucks.com/wp-content/uploads/2023/07/IslandSun864.jpg
GEO:34.8625763;-82.3857613
X-APPLE-STRUCTURED-LOCATION;VALUE=URI;X-ADDRESS=The Community Tap 217 Wade Hampton Blvd Greenville South Carolina;X-APPLE-RADIUS=500;X-TITLE=217 Wade Hampton Blvd:geo:-82.3857613,34.8625763
END:VEVENT
END:VCALENDAR