BEGIN:VCALENDAR
VERSION:2.0
PRODID:-//864 Food Trucks - ECPv6.15.20//NONSGML v1.0//EN
CALSCALE:GREGORIAN
METHOD:PUBLISH
X-ORIGINAL-URL:https://864foodtrucks.com
X-WR-CALDESC:Events for 864 Food Trucks
REFRESH-INTERVAL;VALUE=DURATION:PT1H
X-Robots-Tag:noindex
X-PUBLISHED-TTL:PT1H
BEGIN:VTIMEZONE
TZID:America/New_York
BEGIN:DAYLIGHT
TZOFFSETFROM:-0500
TZOFFSETTO:-0400
TZNAME:EDT
DTSTART:20240310T070000
END:DAYLIGHT
BEGIN:STANDARD
TZOFFSETFROM:-0400
TZOFFSETTO:-0500
TZNAME:EST
DTSTART:20241103T060000
END:STANDARD
BEGIN:DAYLIGHT
TZOFFSETFROM:-0500
TZOFFSETTO:-0400
TZNAME:EDT
DTSTART:20250309T070000
END:DAYLIGHT
BEGIN:STANDARD
TZOFFSETFROM:-0400
TZOFFSETTO:-0500
TZNAME:EST
DTSTART:20251102T060000
END:STANDARD
BEGIN:DAYLIGHT
TZOFFSETFROM:-0500
TZOFFSETTO:-0400
TZNAME:EDT
DTSTART:20260308T070000
END:DAYLIGHT
BEGIN:STANDARD
TZOFFSETFROM:-0400
TZOFFSETTO:-0500
TZNAME:EST
DTSTART:20261101T060000
END:STANDARD
END:VTIMEZONE
BEGIN:VEVENT
DTSTART;TZID=America/New_York:20251224T100000
DTEND;TZID=America/New_York:20251224T170000
DTSTAMP:20260425T224123
CREATED:20251221T232305Z
LAST-MODIFIED:20251221T232305Z
UID:58070-1766570400-1766595600@864foodtrucks.com
SUMMARY:Cinnabon @ Petsmart
DESCRIPTION:Cinnabon Food Truck Greenville
URL:https://864foodtrucks.com/event/cinnabon-petsmart/
LOCATION:PetSmart Easley\, 139 Rolling Hills Circle\, Easley\, South Carolina
CATEGORIES:Easley,Food Truck Schedules
ATTACH;FMTTYPE=image/jpeg:https://864foodtrucks.com/wp-content/uploads/2024/12/326870080_1829549937401559_2632445834433428235_n-2.jpg
ORGANIZER;CN="Cinnabon Greenville":MAILTO:info@hotbonssc.com
GEO:34.8286369;-82.5474547
X-APPLE-STRUCTURED-LOCATION;VALUE=URI;X-ADDRESS=PetSmart Easley 139 Rolling Hills Circle Easley South Carolina;X-APPLE-RADIUS=500;X-TITLE=139 Rolling Hills Circle:geo:-82.5474547,34.8286369
END:VEVENT
END:VCALENDAR